BEGIN:VCALENDAR
VERSION:2.0
PRODID:-//Ibiza Fun Family - ECPv6.15.17.1//NONSGML v1.0//EN
CALSCALE:GREGORIAN
METHOD:PUBLISH
X-WR-CALNAME:Ibiza Fun Family
X-ORIGINAL-URL:https://ibizafunfamily.com
X-WR-CALDESC:Eventos para Ibiza Fun Family
REFRESH-INTERVAL;VALUE=DURATION:PT1H
X-Robots-Tag:noindex
X-PUBLISHED-TTL:PT1H
BEGIN:VTIMEZONE
TZID:Europe/Madrid
BEGIN:DAYLIGHT
TZOFFSETFROM:+0100
TZOFFSETTO:+0200
TZNAME:CEST
DTSTART:20210328T010000
END:DAYLIGHT
BEGIN:STANDARD
TZOFFSETFROM:+0200
TZOFFSETTO:+0100
TZNAME:CET
DTSTART:20211031T010000
END:STANDARD
BEGIN:DAYLIGHT
TZOFFSETFROM:+0100
TZOFFSETTO:+0200
TZNAME:CEST
DTSTART:20220327T010000
END:DAYLIGHT
BEGIN:STANDARD
TZOFFSETFROM:+0200
TZOFFSETTO:+0100
TZNAME:CET
DTSTART:20221030T010000
END:STANDARD
BEGIN:DAYLIGHT
TZOFFSETFROM:+0100
TZOFFSETTO:+0200
TZNAME:CEST
DTSTART:20230326T010000
END:DAYLIGHT
BEGIN:STANDARD
TZOFFSETFROM:+0200
TZOFFSETTO:+0100
TZNAME:CET
DTSTART:20231029T010000
END:STANDARD
END:VTIMEZONE
BEGIN:VEVENT
DTSTART;TZID=Europe/Madrid:20220910T203000
DTEND;TZID=Europe/Madrid:20220910T220000
DTSTAMP:20260423T055259
CREATED:20220906T160523Z
LAST-MODIFIED:20220906T160523Z
UID:5673-1662841800-1662847200@ibizafunfamily.com
SUMMARY:Ballada de Estiu
DESCRIPTION:El próximo Sábado 10 de Septiembre en la Plaza de Sant Jordi a las 20:30h no dudéis en en venir a la «Ballada Popular» organizado por la agrupación de Grupo Folklòric de Sant Jordi de Ses Salines \n¿Te lo vas a perder?
URL:https://ibizafunfamily.com/agenda/ballada-de-estiu/
LOCATION:Plaza de Sant Jordi\, Carrer Cementeri\, 1\, Sant Jordi de ses Salines\, islas baleares\, 07817\, España
CATEGORIES:Baile,Exhibición,Fiesta
ATTACH;FMTTYPE=image/jpeg:https://ibizafunfamily.com/wp-content/uploads/2022/09/WhatsApp-Image-2022-09-06-at-4.49.06-PM.jpeg
ORGANIZER;CN="Consell d' Eivissa":MAILTO:oamr@conselldeivissa.es
END:VEVENT
END:VCALENDAR