BEGIN:VCALENDAR
VERSION:2.0
PRODID:-//Ibiza Fun Family - ECPv6.15.17.1//NONSGML v1.0//EN
CALSCALE:GREGORIAN
METHOD:PUBLISH
X-ORIGINAL-URL:https://ibizafunfamily.com
X-WR-CALDESC:Eventos para Ibiza Fun Family
REFRESH-INTERVAL;VALUE=DURATION:PT1H
X-Robots-Tag:noindex
X-PUBLISHED-TTL:PT1H
BEGIN:VTIMEZONE
TZID:Europe/Madrid
BEGIN:DAYLIGHT
TZOFFSETFROM:+0100
TZOFFSETTO:+0200
TZNAME:CEST
DTSTART:20210328T010000
END:DAYLIGHT
BEGIN:STANDARD
TZOFFSETFROM:+0200
TZOFFSETTO:+0100
TZNAME:CET
DTSTART:20211031T010000
END:STANDARD
BEGIN:DAYLIGHT
TZOFFSETFROM:+0100
TZOFFSETTO:+0200
TZNAME:CEST
DTSTART:20220327T010000
END:DAYLIGHT
BEGIN:STANDARD
TZOFFSETFROM:+0200
TZOFFSETTO:+0100
TZNAME:CET
DTSTART:20221030T010000
END:STANDARD
BEGIN:DAYLIGHT
TZOFFSETFROM:+0100
TZOFFSETTO:+0200
TZNAME:CEST
DTSTART:20230326T010000
END:DAYLIGHT
BEGIN:STANDARD
TZOFFSETFROM:+0200
TZOFFSETTO:+0100
TZNAME:CET
DTSTART:20231029T010000
END:STANDARD
END:VTIMEZONE
BEGIN:VEVENT
DTSTART;TZID=Europe/Madrid:20220903T213000
DTEND;TZID=Europe/Madrid:20220903T213000
DTSTAMP:20260423T121127
CREATED:20220830T092602Z
LAST-MODIFIED:20220830T092602Z
UID:5377-1662240600-1662240600@ibizafunfamily.com
SUMMARY:Baile Pages\, Colla es Broll
DESCRIPTION:El próximo Sábado día 3 de Septiembre se celebra una nueva Ballada de la Colla es Broll en la Plaza de España de Santa Eulària des Riu. Se recupera así la sesión del 13 de agosto que fue suspendida ante el aviso de elevadas temperaturas. \nLa actuación tendrá lugar a partir de las 21:30h y será como el resto\, gratuita. \nGracias al Ayuntamiento de Santa Eulària por enviarnos la información!
URL:https://ibizafunfamily.com/agenda/baile-pages-colla-es-broll/
LOCATION:Plaza de España\, Santa Eulalia\, Plaza de España\,\, Santa Eulària des Riu\, Islas Baleares\, 07840\, España
CATEGORIES:Baile
ATTACH;FMTTYPE=image/jpeg:https://ibizafunfamily.com/wp-content/uploads/2022/08/WhatsApp-Image-2022-08-30-at-9.00.35-AM.jpeg
ORGANIZER;CN="Ajuntament de Santa Eul%C3%A0ria des Riu":MAILTO:alcaldia@santaeularia.com
END:VEVENT
END:VCALENDAR