BEGIN:VCALENDAR
VERSION:2.0
PRODID:-//Ibiza Fun Family - ECPv6.15.17.1//NONSGML v1.0//EN
CALSCALE:GREGORIAN
METHOD:PUBLISH
X-ORIGINAL-URL:https://ibizafunfamily.com
X-WR-CALDESC:Eventos para Ibiza Fun Family
REFRESH-INTERVAL;VALUE=DURATION:PT1H
X-Robots-Tag:noindex
X-PUBLISHED-TTL:PT1H
BEGIN:VTIMEZONE
TZID:Europe/Madrid
BEGIN:DAYLIGHT
TZOFFSETFROM:+0100
TZOFFSETTO:+0200
TZNAME:CEST
DTSTART:20220327T010000
END:DAYLIGHT
BEGIN:STANDARD
TZOFFSETFROM:+0200
TZOFFSETTO:+0100
TZNAME:CET
DTSTART:20221030T010000
END:STANDARD
BEGIN:DAYLIGHT
TZOFFSETFROM:+0100
TZOFFSETTO:+0200
TZNAME:CEST
DTSTART:20230326T010000
END:DAYLIGHT
BEGIN:STANDARD
TZOFFSETFROM:+0200
TZOFFSETTO:+0100
TZNAME:CET
DTSTART:20231029T010000
END:STANDARD
BEGIN:DAYLIGHT
TZOFFSETFROM:+0100
TZOFFSETTO:+0200
TZNAME:CEST
DTSTART:20240331T010000
END:DAYLIGHT
BEGIN:STANDARD
TZOFFSETFROM:+0200
TZOFFSETTO:+0100
TZNAME:CET
DTSTART:20241027T010000
END:STANDARD
END:VTIMEZONE
BEGIN:VEVENT
DTSTART;VALUE=DATE:20230115
DTEND;VALUE=DATE:20230116
DTSTAMP:20260423T054026
CREATED:20230113T095956Z
LAST-MODIFIED:20230113T095956Z
UID:9495-1673740800-1673827199@ibizafunfamily.com
SUMMARY:Marcha Nordica\, Tiro amb Bassetja y mucho más...
DESCRIPTION:Domingo 15 de enero 9 h XXXVIII Trofeo de judo Fiestas de Sant Antoni. Competición de categorías menores\, alevines y benjamines. En la sala de artes marciales de Can Coix. A cargo de la SAMYD. \n10 h Salida de marcha nórdica. \nLos bastones se repartirán media hora antes de la salida. \nLugar de encuentro y salida: frente al Ayuntamiento. \n11 h Festival de balls\, música y canción popular de la nostra terra.\nOrganizado por Sa Colla de Portmany.\nEn el Cine Regio.\n11 h Tirada de bassetja Festes de Sant Antoni\, \nOrganizado por el Club JASA. Delante del Ayuntamiento. \n\n				\n					\n						Ver programa completo de fiestas
URL:https://ibizafunfamily.com/agenda/marcha-nordica-tiro-amb-bassetja-y-mucho-mas/
LOCATION:islas baleares
CATEGORIES:Baile,Deportives
ATTACH;FMTTYPE=image/jpeg:https://ibizafunfamily.com/wp-content/uploads/2023/01/48d26074-416e-4981-b8fd-8e000f0052be.jpg
END:VEVENT
END:VCALENDAR