BEGIN:VCALENDAR
VERSION:2.0
PRODID:-//Ibiza Fun Family - ECPv6.15.17.1//NONSGML v1.0//EN
CALSCALE:GREGORIAN
METHOD:PUBLISH
X-ORIGINAL-URL:https://ibizafunfamily.com
X-WR-CALDESC:Eventos para Ibiza Fun Family
REFRESH-INTERVAL;VALUE=DURATION:PT1H
X-Robots-Tag:noindex
X-PUBLISHED-TTL:PT1H
BEGIN:VTIMEZONE
TZID:Europe/Madrid
BEGIN:DAYLIGHT
TZOFFSETFROM:+0100
TZOFFSETTO:+0200
TZNAME:CEST
DTSTART:20250330T010000
END:DAYLIGHT
BEGIN:STANDARD
TZOFFSETFROM:+0200
TZOFFSETTO:+0100
TZNAME:CET
DTSTART:20251026T010000
END:STANDARD
BEGIN:DAYLIGHT
TZOFFSETFROM:+0100
TZOFFSETTO:+0200
TZNAME:CEST
DTSTART:20260329T010000
END:DAYLIGHT
BEGIN:STANDARD
TZOFFSETFROM:+0200
TZOFFSETTO:+0100
TZNAME:CET
DTSTART:20261025T010000
END:STANDARD
BEGIN:DAYLIGHT
TZOFFSETFROM:+0100
TZOFFSETTO:+0200
TZNAME:CEST
DTSTART:20270328T010000
END:DAYLIGHT
BEGIN:STANDARD
TZOFFSETFROM:+0200
TZOFFSETTO:+0100
TZNAME:CET
DTSTART:20271031T010000
END:STANDARD
END:VTIMEZONE
BEGIN:VEVENT
DTSTART;TZID=Europe/Madrid:20260213T173000
DTEND;TZID=Europe/Madrid:20260213T190000
DTSTAMP:20260423T173103
CREATED:20260211T121029Z
LAST-MODIFIED:20260211T121029Z
UID:35242-1771003800-1771009200@ibizafunfamily.com
SUMMARY:Taller de Manualidades
DESCRIPTION:El próximo Viernes 13 de Febrero a partir de las 17:30h en la Biblioteca Municipal de Sant Antoni se celebra un taller de Manualiades a cargo de Educarte Ibiza para niños y niñas de 6 a 9 años. \nEntrada gratutita\nAforo limitado. \nInscripciones y reserva de plaza en biblioteca@santantoni.net
URL:https://ibizafunfamily.com/agenda/taller-de-manualidades-15/
LOCATION:Biblioteca Municipal de Sant Antoni\, C/ Cervantes\, n25\, Sant Antoni de Portmany\, Islas Baleares\, 07820\, España
CATEGORIES:Talleres
ATTACH;FMTTYPE=image/jpeg:https://ibizafunfamily.com/wp-content/uploads/2026/02/taller-manualidades-carnaval-sant-anotni-biblioteca-2026.jpeg
END:VEVENT
BEGIN:VEVENT
DTSTART;TZID=Europe/Madrid:20260213T180000
DTEND;TZID=Europe/Madrid:20260213T180000
DTSTAMP:20260423T173103
CREATED:20260129T194922Z
LAST-MODIFIED:20260129T194922Z
UID:34969-1771005600-1771005600@ibizafunfamily.com
SUMMARY:Manualidad Corazón de Neón en Momo
DESCRIPTION:El próximo Viernes 13 de Febrero de 18 a 19h Espai Momo nos trae una actividad por el día del amor para niños y niñas a patir de 6 años \n«Corazón de Neón» \nPrecio de 10€ por niño/a
URL:https://ibizafunfamily.com/agenda/manualidad-corazon-de-neon-en-momo/
LOCATION:Espai Momo Ibiza\, C/ Pere Francés n32\, Eivissa\, Islas Baleares\, 07800\, España
CATEGORIES:Manualidades,Talleres
ATTACH;FMTTYPE=image/jpeg:https://ibizafunfamily.com/wp-content/uploads/2026/01/momo-san-valentin-manualidad.jpeg
END:VEVENT
END:VCALENDAR