BEGIN:VCALENDAR
VERSION:2.0
PRODID:-//Ibiza Fun Family - ECPv6.15.17.1//NONSGML v1.0//EN
CALSCALE:GREGORIAN
METHOD:PUBLISH
X-WR-CALNAME:Ibiza Fun Family
X-ORIGINAL-URL:https://ibizafunfamily.com
X-WR-CALDESC:Eventos para Ibiza Fun Family
REFRESH-INTERVAL;VALUE=DURATION:PT1H
X-Robots-Tag:noindex
X-PUBLISHED-TTL:PT1H
BEGIN:VTIMEZONE
TZID:Europe/Madrid
BEGIN:DAYLIGHT
TZOFFSETFROM:+0100
TZOFFSETTO:+0200
TZNAME:CEST
DTSTART:20250330T010000
END:DAYLIGHT
BEGIN:STANDARD
TZOFFSETFROM:+0200
TZOFFSETTO:+0100
TZNAME:CET
DTSTART:20251026T010000
END:STANDARD
BEGIN:DAYLIGHT
TZOFFSETFROM:+0100
TZOFFSETTO:+0200
TZNAME:CEST
DTSTART:20260329T010000
END:DAYLIGHT
BEGIN:STANDARD
TZOFFSETFROM:+0200
TZOFFSETTO:+0100
TZNAME:CET
DTSTART:20261025T010000
END:STANDARD
BEGIN:DAYLIGHT
TZOFFSETFROM:+0100
TZOFFSETTO:+0200
TZNAME:CEST
DTSTART:20270328T010000
END:DAYLIGHT
BEGIN:STANDARD
TZOFFSETFROM:+0200
TZOFFSETTO:+0100
TZNAME:CET
DTSTART:20271031T010000
END:STANDARD
END:VTIMEZONE
BEGIN:VEVENT
DTSTART;TZID=Europe/Madrid:20260206T170000
DTEND;TZID=Europe/Madrid:20260206T170000
DTSTAMP:20260425T135532
CREATED:20260129T195458Z
LAST-MODIFIED:20260129T195458Z
UID:34972-1770397200-1770397200@ibizafunfamily.com
SUMMARY:Taller de Máscaras de León
DESCRIPTION:El próximo Viernes 6 de Febrero de 17 a 18:30h Espai Momo organiza un taller de máscaras de León. \nPara niños y niñas a partir de 4 años \nInscripciones en la información de la imagen \nPrecio 12€
URL:https://ibizafunfamily.com/agenda/taller-de-mascaras-de-leon/
LOCATION:Espai Momo Ibiza\, C/ Pere Francés n32\, Eivissa\, Islas Baleares\, 07800\, España
CATEGORIES:Manualidades,Talleres
ATTACH;FMTTYPE=image/jpeg:https://ibizafunfamily.com/wp-content/uploads/2026/01/taller-mascaras-leon-momo.jpeg
END:VEVENT
BEGIN:VEVENT
DTSTART;TZID=Europe/Madrid:20260206T170000
DTEND;TZID=Europe/Madrid:20260206T170000
DTSTAMP:20260425T135532
CREATED:20260203T220648Z
LAST-MODIFIED:20260203T220648Z
UID:35164-1770397200-1770397200@ibizafunfamily.com
SUMMARY:Taller de inglés Baby English
DESCRIPTION:El próximo Viernes 6 de Febrero a las 17h organizan un taller de inglés para bebés de 18 a 36 meses con acompañante.\nTambién tendrá una segunda sesión el Sábado 7  a las 11h. \nMás información al 625 071 713
URL:https://ibizafunfamily.com/agenda/taller-de-ingles-baby-english/
LOCATION:SmartKids\, C/ Sant Antoni\, n38\, Puig d'en Valls\, Islas Baleares\, 07819\, España
CATEGORIES:Talleres
ATTACH;FMTTYPE=image/jpeg:https://ibizafunfamily.com/wp-content/uploads/2026/02/taller-bebes-ingles-smart-kids-2026-febrero.jpeg
END:VEVENT
END:VCALENDAR