BEGIN:VCALENDAR
VERSION:2.0
PRODID:-//Ibiza Fun Family - ECPv6.15.17.1//NONSGML v1.0//EN
CALSCALE:GREGORIAN
METHOD:PUBLISH
X-ORIGINAL-URL:https://ibizafunfamily.com
X-WR-CALDESC:Eventos para Ibiza Fun Family
REFRESH-INTERVAL;VALUE=DURATION:PT1H
X-Robots-Tag:noindex
X-PUBLISHED-TTL:PT1H
BEGIN:VTIMEZONE
TZID:Europe/Madrid
BEGIN:DAYLIGHT
TZOFFSETFROM:+0100
TZOFFSETTO:+0200
TZNAME:CEST
DTSTART:20250330T010000
END:DAYLIGHT
BEGIN:STANDARD
TZOFFSETFROM:+0200
TZOFFSETTO:+0100
TZNAME:CET
DTSTART:20251026T010000
END:STANDARD
BEGIN:DAYLIGHT
TZOFFSETFROM:+0100
TZOFFSETTO:+0200
TZNAME:CEST
DTSTART:20260329T010000
END:DAYLIGHT
BEGIN:STANDARD
TZOFFSETFROM:+0200
TZOFFSETTO:+0100
TZNAME:CET
DTSTART:20261025T010000
END:STANDARD
BEGIN:DAYLIGHT
TZOFFSETFROM:+0100
TZOFFSETTO:+0200
TZNAME:CEST
DTSTART:20270328T010000
END:DAYLIGHT
BEGIN:STANDARD
TZOFFSETFROM:+0200
TZOFFSETTO:+0100
TZNAME:CET
DTSTART:20271031T010000
END:STANDARD
END:VTIMEZONE
BEGIN:VEVENT
DTSTART;TZID=Europe/Madrid:20260306T160000
DTEND;TZID=Europe/Madrid:20260306T173000
DTSTAMP:20260423T151322
CREATED:20260204T122708Z
LAST-MODIFIED:20260205T145054Z
UID:35209-1772812800-1772818200@ibizafunfamily.com
SUMMARY:Música y Movimiento
DESCRIPTION:Los Viernes en el Espacio Multidisciplicar de Clara Ramis organizan talleres para niños y niñas de 3 a 7 años divididos en grupos por edades. \nDe 16:15 a 17h  para niños y niñas de 3 a 5 años\nDe 17:15 a 18h para niños y niñas de 3 a 5 años\nDe 18:15 a 19h para niños y niñas de 6 a 7 años. \nOpción de forma puntual o creación de grupo \nMás información e inscripciones al 628 177 805\nPlazas limitadas
URL:https://ibizafunfamily.com/agenda/musica-y-movimiento-2/
LOCATION:Espacio Multidisciplicar Clara Ramis\, Av. España 70\, Entresuelo\, derecha\, Eivissa\, Islas Baleares\, 07800\, España
CATEGORIES:Talleres
ATTACH;FMTTYPE=image/jpeg:https://ibizafunfamily.com/wp-content/uploads/2026/02/Taller-musica-y-movimiento-clara-ramis-2026.jpeg
END:VEVENT
BEGIN:VEVENT
DTSTART;TZID=Europe/Madrid:20260308T170000
DTEND;TZID=Europe/Madrid:20260308T170000
DTSTAMP:20260423T151322
CREATED:20260130T230855Z
LAST-MODIFIED:20260130T230855Z
UID:35114-1772989200-1772989200@ibizafunfamily.com
SUMMARY:Taller de Canto "BSO Choir"
DESCRIPTION:El próximo Domingo 8 de Marzo a las 17h en el Patronato Municipal de Música se organiza un taller de música para niños y niñas de 12 a 18 años a cargo de Bartomeu Tur \n«Todos nacemos sin darnos cuenta de que tenemos el instrumento más natural que puede existir: nuestra propia voz. El canto sale directamente de nuestro interior y es la más pura expresión del arte que llevamos dentro. En este taller se propone la formación “exprés” de un pequeño corazón mixto para trabajar aspectos prácticos de técnica vocal e interpretar una pincelada de repertorio basada en diferentes bandas sonoras. La propuesta se abre a todos aquellos que tengan ganas de vivir una experiencia colectiva en la que no sólo descubrirán el tesoro artístico que llevan dentro\, sino que también crearán vínculos con los compañeros con los que compartirán la experiencia. Se recomienda haber participado anteriormente en alguna formación coral o nociones básicas de música.» \nEvento gratuito \nRequiere inscripción previa \n\n				\n					\n						Reserva aquí
URL:https://ibizafunfamily.com/agenda/taller-de-canto-bso-choir/
LOCATION:Patronat Municipal de Música d’Eivissa\, C/Pere Francés\, Aula 3\, Eivissa\, Islas Baleares\, 07800
CATEGORIES:Musical,Talleres
ATTACH;FMTTYPE=image/png:https://ibizafunfamily.com/wp-content/uploads/2026/01/BSO-Choir.png
END:VEVENT
BEGIN:VEVENT
DTSTART;TZID=Europe/Madrid:20260313T160000
DTEND;TZID=Europe/Madrid:20260313T170000
DTSTAMP:20260423T151322
CREATED:20260204T121636Z
LAST-MODIFIED:20260205T145104Z
UID:35206-1773417600-1773421200@ibizafunfamily.com
SUMMARY:Música y Movimiento
DESCRIPTION:Los Viernes en el Espacio Multidisciplicar de Clara Ramis organizan talleres para niños y niñas de 3 a 7 años divididos en grupos por edades. \nDe 16:15 a 17h  para niños y niñas de 3 a 5 años\nDe 17:15 a 18h para niños y niñas de 3 a 5 años\nDe 18:15 a 19h para niños y niñas de 6 a 7 años. \nOpción de forma puntual o creación de grupo \nMás información e inscripciones al 628 177 805\nPlazas limitadas
URL:https://ibizafunfamily.com/agenda/musica-y-movimiento/
LOCATION:Espacio Multidisciplicar Clara Ramis\, Av. España 70\, Entresuelo\, derecha\, Eivissa\, Islas Baleares\, 07800\, España
CATEGORIES:Talleres
ATTACH;FMTTYPE=image/jpeg:https://ibizafunfamily.com/wp-content/uploads/2026/02/Taller-musica-y-movimiento-clara-ramis-2026.jpeg
END:VEVENT
BEGIN:VEVENT
DTSTART;TZID=Europe/Madrid:20260315T170000
DTEND;TZID=Europe/Madrid:20260315T170000
DTSTAMP:20260423T151322
CREATED:20260130T231244Z
LAST-MODIFIED:20260130T231244Z
UID:35117-1773594000-1773594000@ibizafunfamily.com
SUMMARY:Taller de música Percu-cos!
DESCRIPTION:El próximo Domingo 15 de Marzo no te puedes perder el taller de música «Percu-cos» dividido en diferentes horarios según la edad en el Patronato Municipal de Música del Ayuntamiento de Ibiza \nA las 17h para niños y niñas de 5 a 7 años\nA las 18h para niños y niñas de 8 a 12 años\nA las 19h para niños y niñas de 12 a 18 años \nActividad gratuita \nRequiere inscripción previa \n\n				\n					\n						Reserva aquí
URL:https://ibizafunfamily.com/agenda/taller-de-musica-percu-cos/
LOCATION:Patronat Municipal de Música d’Eivissa\, C/Pere Francés\, Aula 3\, Eivissa\, Islas Baleares\, 07800
CATEGORIES:Talleres
ATTACH;FMTTYPE=image/png:https://ibizafunfamily.com/wp-content/uploads/2026/01/Percu-Cos-1.png
END:VEVENT
BEGIN:VEVENT
DTSTART;TZID=Europe/Madrid:20260319T173000
DTEND;TZID=Europe/Madrid:20260320T183000
DTSTAMP:20260423T151322
CREATED:20260319T221756Z
LAST-MODIFIED:20260319T221756Z
UID:35801-1773941400-1774031400@ibizafunfamily.com
SUMMARY:Taller metálico\, Los Mini Robots en Espai Momo
DESCRIPTION:El próximo Viernes 20 de Marzo de 17:30 a 18:30h se llevará a cabo un taller metálico de «Los Mini Robots» para niños y niñas a partir de 6 años. \nSe usarán tornillos\, pernos\, tuercas junto con otros elementos coloridos de acero y plástico de alta calidad.\nTodas las piezas se pueden combinar y transformar en todas aquellas formas que seamos capaces de imaginar. \nLos robots se quedan en el espacio \nPrecio: 10€ \nMás información y reservas en el local de Espai Momo Ibiza o al WahtsApp al 657 210 726
URL:https://ibizafunfamily.com/agenda/taller-metalico-los-mini-robots-en-espai-momo/
LOCATION:Espai Momo Ibiza\, C/ Pere Francés n32\, Eivissa\, Islas Baleares\, 07800\, España
CATEGORIES:Talleres
ATTACH;FMTTYPE=image/jpeg:https://ibizafunfamily.com/wp-content/uploads/2026/03/taller-robots-espai-momo-marzo-2026.jpeg
END:VEVENT
BEGIN:VEVENT
DTSTART;TZID=Europe/Madrid:20260326T173000
DTEND;TZID=Europe/Madrid:20260326T173000
DTSTAMP:20260423T151322
CREATED:20260319T221119Z
LAST-MODIFIED:20260319T221119Z
UID:35797-1774546200-1774546200@ibizafunfamily.com
SUMMARY:Taller de Pompones Pokemon
DESCRIPTION:El próximo Jueves 26 de Marzo a las 17:30h se llevará a cabo un taller para niños y niñas a partir de 8 años de creación de pompones pokemon de la mano de Claudia Moreno (2º edición) en la Biblioteca de Cala de Bou \nCelebrarán el FeMa (Festival de Manga i Anime) creando pompones de lana con la cara de  tu pokemon preferido.\nSe podrá escoger entre Pikachu\, Mew y Charmander. \n¡Atrápalos a todos!
URL:https://ibizafunfamily.com/agenda/taller-de-pompones-pokemon/
LOCATION:Biblioteca Municipal de Cala de Bou\, C/ es calo\, n 127\, Cala de Bou\, Islas Baleares\, 07829\, España
CATEGORIES:Manualidades,Talleres
ATTACH;FMTTYPE=image/jpeg:https://ibizafunfamily.com/wp-content/uploads/2026/03/talleres-biblioteca-cala-de-bou-marzo-2026.jpeg
ORGANIZER;CN="Ajuntament de Sant Josep de Sa Talaia":MAILTO:alcaldia@santjosep.org
END:VEVENT
BEGIN:VEVENT
DTSTART;TZID=Europe/Madrid:20260327T180000
DTEND;TZID=Europe/Madrid:20260327T180000
DTSTAMP:20260423T151322
CREATED:20260324T080857Z
LAST-MODIFIED:20260324T080857Z
UID:35943-1774634400-1774634400@ibizafunfamily.com
SUMMARY:Taller de Manga
DESCRIPTION:EL próximo Viernes 27 de Marzo a las 18h en la Biblioteca Pública Vicent Serra Orvay se celebra un taller japonés de manga para niños y niñas de 8 a 14 años de la mano de Nipponia. \nInscripción previa en la biblioteca.
URL:https://ibizafunfamily.com/agenda/taller-de-manga-13/
LOCATION:Biblioteca Vicent Serra Orvay\, C/ de la Plaça Major\, 9\, Sant Jordi de ses Salines\, Islas Baleares\, 07817\, España
CATEGORIES:Dibujo
ATTACH;FMTTYPE=image/jpeg:https://ibizafunfamily.com/wp-content/uploads/2026/03/anime-ibiza-2026-fema.jpeg
ORGANIZER;CN="Biblioteca Vicent Serra Orvay":MAILTO:bibliosantjordi@santjosep.org
END:VEVENT
BEGIN:VEVENT
DTSTART;TZID=Europe/Madrid:20260328T170000
DTEND;TZID=Europe/Madrid:20260328T190000
DTSTAMP:20260423T151322
CREATED:20260324T095829Z
LAST-MODIFIED:20260324T095829Z
UID:35964-1774717200-1774724400@ibizafunfamily.com
SUMMARY:Taller de Pascua\, AFA Can Raspalls
DESCRIPTION:El próximo Sábado 28 de Marzo de 17 a 19h en el CEIP Can Raspalls\, la AFA organiza un taller de pascua con manualidades y búsqueda de huevos. \nMerienda casera\, sandwiches dulces y salados\, bizcochos\, zumos y batidos.
URL:https://ibizafunfamily.com/agenda/taller-de-pascua-afa-can-raspalls/
LOCATION:CEIP Can Raspalls\, Carrer de Can Raspalls s/n\, Sant Jordi de ses Salines\, Islas Baleares\, 07817\, España
CATEGORIES:Talleres
ATTACH;FMTTYPE=image/jpeg:https://ibizafunfamily.com/wp-content/uploads/2026/03/taller-pascua-can-raspalls-2026.jpeg
ORGANIZER;CN="APIMA Can Raspalls":MAILTO:apima.canraspalls@gmail.com
END:VEVENT
END:VCALENDAR