BEGIN:VCALENDAR
VERSION:2.0
PRODID:-//Ibiza Fun Family - ECPv6.15.17.1//NONSGML v1.0//EN
CALSCALE:GREGORIAN
METHOD:PUBLISH
X-WR-CALNAME:Ibiza Fun Family
X-ORIGINAL-URL:https://ibizafunfamily.com
X-WR-CALDESC:Eventos para Ibiza Fun Family
REFRESH-INTERVAL;VALUE=DURATION:PT1H
X-Robots-Tag:noindex
X-PUBLISHED-TTL:PT1H
BEGIN:VTIMEZONE
TZID:Europe/Madrid
BEGIN:DAYLIGHT
TZOFFSETFROM:+0100
TZOFFSETTO:+0200
TZNAME:CEST
DTSTART:20250330T010000
END:DAYLIGHT
BEGIN:STANDARD
TZOFFSETFROM:+0200
TZOFFSETTO:+0100
TZNAME:CET
DTSTART:20251026T010000
END:STANDARD
BEGIN:DAYLIGHT
TZOFFSETFROM:+0100
TZOFFSETTO:+0200
TZNAME:CEST
DTSTART:20260329T010000
END:DAYLIGHT
BEGIN:STANDARD
TZOFFSETFROM:+0200
TZOFFSETTO:+0100
TZNAME:CET
DTSTART:20261025T010000
END:STANDARD
BEGIN:DAYLIGHT
TZOFFSETFROM:+0100
TZOFFSETTO:+0200
TZNAME:CEST
DTSTART:20270328T010000
END:DAYLIGHT
BEGIN:STANDARD
TZOFFSETFROM:+0200
TZOFFSETTO:+0100
TZNAME:CET
DTSTART:20271031T010000
END:STANDARD
END:VTIMEZONE
BEGIN:VEVENT
DTSTART;TZID=Europe/Madrid:20260201T170000
DTEND;TZID=Europe/Madrid:20260201T193000
DTSTAMP:20260423T042432
CREATED:20260129T224326Z
LAST-MODIFIED:20260129T224359Z
UID:35093-1769965200-1769974200@ibizafunfamily.com
SUMMARY:Batucando\, Taller de percusión
DESCRIPTION:El próximo Domingo 1 de Febrero tenéis una cita en el Patronato Municipal de Música (aula 3) para niños y niñas a partir de 8 años. \nGrupo 1 para niños y niñas de 8 a 11 años a las 17h\nGrupo  2 para niños y niñas a partir de 12 años a las 18h \nIntroducción a la Percusión a través de los ritmos del Carnaval de Brasil. \nTendrán la opción de elegir entre una variedad de instrumentos de percusión brasileña de manera que puedan elegir el que se adapte a ellos. Desde nivel iniciación hasta el nivel medio\, pero siempre comenzando desde lo más básico para poder tocar todos juntos de manera efectiva. \nNo se necesitan conocimientos previos!
URL:https://ibizafunfamily.com/agenda/batucando-taller-de-percusion/
LOCATION:Patronat Municipal de Música d’Eivissa\, C/Pere Francés\, Aula 3\, Eivissa\, Islas Baleares\, 07800
CATEGORIES:Musical,Talleres
ATTACH;FMTTYPE=image/png:https://ibizafunfamily.com/wp-content/uploads/2026/01/Batucando.png
END:VEVENT
BEGIN:VEVENT
DTSTART;TZID=Europe/Madrid:20260206T170000
DTEND;TZID=Europe/Madrid:20260206T170000
DTSTAMP:20260423T042432
CREATED:20260129T195458Z
LAST-MODIFIED:20260129T195458Z
UID:34972-1770397200-1770397200@ibizafunfamily.com
SUMMARY:Taller de Máscaras de León
DESCRIPTION:El próximo Viernes 6 de Febrero de 17 a 18:30h Espai Momo organiza un taller de máscaras de León. \nPara niños y niñas a partir de 4 años \nInscripciones en la información de la imagen \nPrecio 12€
URL:https://ibizafunfamily.com/agenda/taller-de-mascaras-de-leon/
LOCATION:Espai Momo Ibiza\, C/ Pere Francés n32\, Eivissa\, Islas Baleares\, 07800\, España
CATEGORIES:Manualidades,Talleres
ATTACH;FMTTYPE=image/jpeg:https://ibizafunfamily.com/wp-content/uploads/2026/01/taller-mascaras-leon-momo.jpeg
END:VEVENT
BEGIN:VEVENT
DTSTART;TZID=Europe/Madrid:20260206T170000
DTEND;TZID=Europe/Madrid:20260206T170000
DTSTAMP:20260423T042432
CREATED:20260203T220648Z
LAST-MODIFIED:20260203T220648Z
UID:35164-1770397200-1770397200@ibizafunfamily.com
SUMMARY:Taller de inglés Baby English
DESCRIPTION:El próximo Viernes 6 de Febrero a las 17h organizan un taller de inglés para bebés de 18 a 36 meses con acompañante.\nTambién tendrá una segunda sesión el Sábado 7  a las 11h. \nMás información al 625 071 713
URL:https://ibizafunfamily.com/agenda/taller-de-ingles-baby-english/
LOCATION:SmartKids\, C/ Sant Antoni\, n38\, Puig d'en Valls\, Islas Baleares\, 07819\, España
CATEGORIES:Talleres
ATTACH;FMTTYPE=image/jpeg:https://ibizafunfamily.com/wp-content/uploads/2026/02/taller-bebes-ingles-smart-kids-2026-febrero.jpeg
END:VEVENT
BEGIN:VEVENT
DTSTART;TZID=Europe/Madrid:20260207T103000
DTEND;TZID=Europe/Madrid:20260207T103000
DTSTAMP:20260423T042432
CREATED:20260129T211304Z
LAST-MODIFIED:20260129T211304Z
UID:34986-1770460200-1770460200@ibizafunfamily.com
SUMMARY:Taller despertar musical\, Café de la Tribu
DESCRIPTION:El próximo Sábado 7 de Febrero a partir de las 10: 30h tenéis una cita en el Café de la Tribu con talleres para niños «Despertar musical» \nGrupo para bebés de 0 a 5 años\nGrupo de niños y niñas a partir de 6 años \nAprender canciones\, jugar con sonidos e instrumentos y mucho más! \nPrecio: 27€ incluye bebida y comida. \nInscripciones en la información que aparece en la imagen.
URL:https://ibizafunfamily.com/agenda/taller-despertar-musical-cafe-de-la-tribu/
LOCATION:Café de la Tribu\, C/Molins de Rey\, n8\, Santa Eul'aria\, Islas Baleares\, 07840\, Spain
CATEGORIES:Talleres
ATTACH;FMTTYPE=image/jpeg:https://ibizafunfamily.com/wp-content/uploads/2026/01/taller-musical-cafe-de-la-tribu.jpeg
END:VEVENT
BEGIN:VEVENT
DTSTART;TZID=Europe/Madrid:20260207T110000
DTEND;TZID=Europe/Madrid:20260207T120000
DTSTAMP:20260423T042432
CREATED:20260203T232050Z
LAST-MODIFIED:20260203T232050Z
UID:35203-1770462000-1770465600@ibizafunfamily.com
SUMMARY:Taller de Dibujo Manga
DESCRIPTION:Los sábados a las 11 desbloquea tu artista interior con las clases de dibujo manga en Barco de papel en Ibiza \nMás información y reservas al 623 199 837 o en la librería
URL:https://ibizafunfamily.com/agenda/taller-de-dibujo-manga-19/
LOCATION:Barco de Papel\, Carrer de Balears\, 19\, Eivissa\, islas baleares\, 07800\, España
CATEGORIES:Dibujo
ATTACH;FMTTYPE=image/jpeg:https://ibizafunfamily.com/wp-content/uploads/2026/02/clases-manga-barco-papel.jpeg
END:VEVENT
BEGIN:VEVENT
DTSTART;TZID=Europe/Madrid:20260207T110000
DTEND;TZID=Europe/Madrid:20260207T123000
DTSTAMP:20260423T042432
CREATED:20260129T195918Z
LAST-MODIFIED:20260129T195918Z
UID:34977-1770462000-1770467400@ibizafunfamily.com
SUMMARY:Taller Alfombra de Trapillo en Espai Momo
DESCRIPTION:El próximo Sábado 7 de Febrero de 11 a 12:30h en Espai Momo organizan un taller de alfombra de trapillo que no te puedes perder sin necesitar experiencia previa. \nA partir de 14 años \nIncluye todos los materiales\, café\, infusión y pastas saludables. \nInscripciones en la información que aparece en la imagen.
URL:https://ibizafunfamily.com/agenda/taller-alfombra-de-trapillo-en-espai-momo/
LOCATION:Espai Momo Ibiza\, C/ Pere Francés n32\, Eivissa\, Islas Baleares\, 07800\, España
CATEGORIES:Manualidades,Talleres
ATTACH;FMTTYPE=image/jpeg:https://ibizafunfamily.com/wp-content/uploads/2026/01/alfombra-trapillo-momo-taller-ibiza.jpeg
END:VEVENT
BEGIN:VEVENT
DTSTART;TZID=Europe/Madrid:20260207T110000
DTEND;TZID=Europe/Madrid:20260207T170000
DTSTAMP:20260423T042432
CREATED:20260203T220804Z
LAST-MODIFIED:20260203T220804Z
UID:35167-1770462000-1770483600@ibizafunfamily.com
SUMMARY:Taller de inglés\, Baby English
DESCRIPTION:El próximo Sábado 7 de Febrero a las 11h organiza el segundo taller de inglés para bebés de 18 a 36 meses con acompañante. \nMás información al 625 071 713
URL:https://ibizafunfamily.com/agenda/taller-de-ingles-baby-english-2/
LOCATION:SmartKids\, C/ Sant Antoni\, n38\, Puig d'en Valls\, Islas Baleares\, 07819\, España
CATEGORIES:Talleres
ATTACH;FMTTYPE=image/jpeg:https://ibizafunfamily.com/wp-content/uploads/2026/02/taller-bebes-ingles-smart-kids-2026-febrero.jpeg
ORGANIZER;CN="Smart Kids":MAILTO:maite_duenas@hotmail.com
END:VEVENT
BEGIN:VEVENT
DTSTART;TZID=Europe/Madrid:20260210T173000
DTEND;TZID=Europe/Madrid:20260210T173000
DTSTAMP:20260423T042432
CREATED:20260203T221754Z
LAST-MODIFIED:20260203T221754Z
UID:35172-1770744600-1770744600@ibizafunfamily.com
SUMMARY:Laboratorio de Lectura para familias
DESCRIPTION:El próximo Jueves 19 de Febrero a las 17:30h se organiza un Laboratorio de lectura Naturalista para familias con niños y niñas de 6 a 12 años en la Biblioteca de Cala de Bou \nEs necesario inscripción previa\nTeléfono y WhatsApp al 971 348 630\nEmail: biblioteca.caladebou@santjosep.org
URL:https://ibizafunfamily.com/agenda/laboratorio-de-lectura-para-familias/
LOCATION:Biblioteca Municipal de Cala de Bou\, C/ es calo\, n 127\, Cala de Bou\, Islas Baleares\, 07829\, España
CATEGORIES:Talleres
ATTACH;FMTTYPE=image/jpeg:https://ibizafunfamily.com/wp-content/uploads/2026/02/taller-biblioteca-cala-de-bou-febrero-2026.jpeg
ORGANIZER;CN="Ajuntament de Sant Josep de Sa Talaia":MAILTO:alcaldia@santjosep.org
END:VEVENT
BEGIN:VEVENT
DTSTART;TZID=Europe/Madrid:20260213T173000
DTEND;TZID=Europe/Madrid:20260213T190000
DTSTAMP:20260423T042432
CREATED:20260211T121029Z
LAST-MODIFIED:20260211T121029Z
UID:35242-1771003800-1771009200@ibizafunfamily.com
SUMMARY:Taller de Manualidades
DESCRIPTION:El próximo Viernes 13 de Febrero a partir de las 17:30h en la Biblioteca Municipal de Sant Antoni se celebra un taller de Manualiades a cargo de Educarte Ibiza para niños y niñas de 6 a 9 años. \nEntrada gratutita\nAforo limitado. \nInscripciones y reserva de plaza en biblioteca@santantoni.net
URL:https://ibizafunfamily.com/agenda/taller-de-manualidades-15/
LOCATION:Biblioteca Municipal de Sant Antoni\, C/ Cervantes\, n25\, Sant Antoni de Portmany\, Islas Baleares\, 07820\, España
CATEGORIES:Talleres
ATTACH;FMTTYPE=image/jpeg:https://ibizafunfamily.com/wp-content/uploads/2026/02/taller-manualidades-carnaval-sant-anotni-biblioteca-2026.jpeg
END:VEVENT
BEGIN:VEVENT
DTSTART;TZID=Europe/Madrid:20260213T180000
DTEND;TZID=Europe/Madrid:20260213T180000
DTSTAMP:20260423T042432
CREATED:20260129T194922Z
LAST-MODIFIED:20260129T194922Z
UID:34969-1771005600-1771005600@ibizafunfamily.com
SUMMARY:Manualidad Corazón de Neón en Momo
DESCRIPTION:El próximo Viernes 13 de Febrero de 18 a 19h Espai Momo nos trae una actividad por el día del amor para niños y niñas a patir de 6 años \n«Corazón de Neón» \nPrecio de 10€ por niño/a
URL:https://ibizafunfamily.com/agenda/manualidad-corazon-de-neon-en-momo/
LOCATION:Espai Momo Ibiza\, C/ Pere Francés n32\, Eivissa\, Islas Baleares\, 07800\, España
CATEGORIES:Manualidades,Talleres
ATTACH;FMTTYPE=image/jpeg:https://ibizafunfamily.com/wp-content/uploads/2026/01/momo-san-valentin-manualidad.jpeg
END:VEVENT
BEGIN:VEVENT
DTSTART;TZID=Europe/Madrid:20260214T100000
DTEND;TZID=Europe/Madrid:20260214T140000
DTSTAMP:20260423T042432
CREATED:20260213T222410Z
LAST-MODIFIED:20260213T222410Z
UID:35401-1771063200-1771077600@ibizafunfamily.com
SUMMARY:Juegos\, talleres infantiles\, música en las fiestas de Santa Eulària del Rio
DESCRIPTION:El Sábado 14 de Febrero de 2026 a partir de las 10:00 en las Fiesta de Santa Eulària \n10:00 a 14:00 Juegos y talleres infantiles en el Paseo de S’Alamera \n12:00 Música con IMA \n13:30 Baile tradicional con Es Broll en la Plaza de España \n18:30 música en directo y Dj \, canciones de antes y de ahora fusionadas con la rumba más animada en la Plaza de España \n\n				\n					\n						Ver programa completo\n					\n				\n			  :
URL:https://ibizafunfamily.com/agenda/juegos-talleres-infantiles-musica-en-las-fiestas-de-santa-eularia-del-rio/
LOCATION:Passeig de S’alamera\, Santa Eulalia\, Passeig S'alamera\, Santa Eulària des Riu\, Islas Baleares\, 07840\, España
CATEGORIES:Juegos
ATTACH;FMTTYPE=image/jpeg:https://ibizafunfamily.com/wp-content/uploads/2026/01/noticia-fiestas-de-santa-eularia.jpg
ORGANIZER;CN="Ajuntament de Santa Eul%C3%A0ria des Riu":MAILTO:alcaldia@santaeularia.com
END:VEVENT
BEGIN:VEVENT
DTSTART;TZID=Europe/Madrid:20260215T110000
DTEND;TZID=Europe/Madrid:20260215T120000
DTSTAMP:20260423T042432
CREATED:20260130T224552Z
LAST-MODIFIED:20260130T224552Z
UID:35102-1771153200-1771156800@ibizafunfamily.com
SUMMARY:COMPLETO - Taller Sensibilización Musical
DESCRIPTION:AFORO COMPLETO \nEl próximo Domingo 15 de Febrero de 11 a 12h se organiza un taller de sensibilización musical para niños y niñas de 0 a 3 años a cargo de Isabel Albaladejo.
URL:https://ibizafunfamily.com/agenda/completo-taller-sensibilizacion-musical/
LOCATION:Patronat Municipal de Música d’Eivissa\, C/Pere Francés\, Aula 3\, Eivissa\, Islas Baleares\, 07800
CATEGORIES:Talleres
ATTACH;FMTTYPE=image/png:https://ibizafunfamily.com/wp-content/uploads/2026/01/sensibilizacino-musical-ibiza.png
END:VEVENT
BEGIN:VEVENT
DTSTART;VALUE=DATE:20260221
DTEND;VALUE=DATE:20260222
DTSTAMP:20260423T042432
CREATED:20260203T231505Z
LAST-MODIFIED:20260203T231505Z
UID:35200-1771632000-1771718399@ibizafunfamily.com
SUMMARY:Taller Monster Book
DESCRIPTION:El próximo 21 de Febrero en diferentes horarios Smartkids organiza un taller en inglés con temática Harry Potter para crear un «Montar Book» \nMás información y reservas al 625 071 713
URL:https://ibizafunfamily.com/agenda/taller-monster-book/
LOCATION:SmartKids\, C/ Sant Antoni\, n38\, Puig d'en Valls\, Islas Baleares\, 07819\, España
CATEGORIES:Talleres
ATTACH;FMTTYPE=image/jpeg:https://ibizafunfamily.com/wp-content/uploads/2026/02/monster-book-harry-potter-smart-kids-febrero.jpeg
ORGANIZER;CN="Smart Kids":MAILTO:maite_duenas@hotmail.com
END:VEVENT
BEGIN:VEVENT
DTSTART;TZID=Europe/Madrid:20260222T110000
DTEND;TZID=Europe/Madrid:20260222T170000
DTSTAMP:20260423T042432
CREATED:20260130T224926Z
LAST-MODIFIED:20260130T224926Z
UID:35105-1771758000-1771779600@ibizafunfamily.com
SUMMARY:COMPLETO - Tararea
DESCRIPTION:AFORO COMPLETO \nEl próximo Domingo 23 de Febrero a las 11h se organiza un taller se sensibización musical para niños y niñas de 0 a 3 años. \nNecesario inscripción previa
URL:https://ibizafunfamily.com/agenda/completo-tararea/
LOCATION:Patronat Municipal de Música d’Eivissa\, C/Pere Francés\, Aula 3\, Eivissa\, Islas Baleares\, 07800
CATEGORIES:Talleres
ATTACH;FMTTYPE=image/png:https://ibizafunfamily.com/wp-content/uploads/2026/01/Tararea.png
END:VEVENT
BEGIN:VEVENT
DTSTART;TZID=Europe/Madrid:20260222T170000
DTEND;TZID=Europe/Madrid:20260222T170000
DTSTAMP:20260423T042432
CREATED:20260211T132749Z
LAST-MODIFIED:20260211T132749Z
UID:35251-1771779600-1771779600@ibizafunfamily.com
SUMMARY:Taller de Globoflexia
DESCRIPTION:El próximo Domingo 22 de Febrero a partir de las 17h tienes una cita con Colorinflis en su taller de Globoflexia que impartirá en la cafetería Y punto para niños y niñas a partir de 7 años \nPlazas limitadas \nReservas al 686 750 835 \nPrecio 18€\, merienda incluida
URL:https://ibizafunfamily.com/agenda/taller-de-globoflexia-4/
LOCATION:Y Punto\, Calle Rosalia\, n8 esquina calle Valencia\, Sant Antoni de Portmany\, Islas Baleares\, 07820\, España
CATEGORIES:Talleres
ATTACH;FMTTYPE=image/jpeg:https://ibizafunfamily.com/wp-content/uploads/2026/02/goboflexia-22-feb.jpeg
END:VEVENT
BEGIN:VEVENT
DTSTART;TZID=Europe/Madrid:20260225T170000
DTEND;TZID=Europe/Madrid:20260225T170000
DTSTAMP:20260423T042432
CREATED:20260203T222005Z
LAST-MODIFIED:20260203T222005Z
UID:35174-1772038800-1772038800@ibizafunfamily.com
SUMMARY:Taller de Dibujo Manga
DESCRIPTION:El próximo Miércoles 25 de Febrero a las 17h se organiza un taller de dibujo Manga «Creamos un personaje desde cero» en la Biblioteca de Cala de Bou para niños y niñas a partir de 10 años con Francisco García \nEs necesario inscripción previa\nTeléfono y WhatsApp al 971 348 630\nEmail: biblioteca.caladebou@santjosep.org
URL:https://ibizafunfamily.com/agenda/taller-de-dibujo-manga-18/
LOCATION:Biblioteca Municipal de Cala de Bou\, C/ es calo\, n 127\, Cala de Bou\, Islas Baleares\, 07829\, España
CATEGORIES:Dibujo
ATTACH;FMTTYPE=image/jpeg:https://ibizafunfamily.com/wp-content/uploads/2026/02/taller-biblioteca-cala-de-bou-febrero-2026.jpeg
ORGANIZER;CN="Ajuntament de Sant Josep de Sa Talaia":MAILTO:alcaldia@santjosep.org
END:VEVENT
BEGIN:VEVENT
DTSTART;TZID=Europe/Madrid:20260226T173000
DTEND;TZID=Europe/Madrid:20260226T173000
DTSTAMP:20260423T042432
CREATED:20260129T213933Z
LAST-MODIFIED:20260129T213933Z
UID:35066-1772127000-1772127000@ibizafunfamily.com
SUMMARY:Taller de Carnaval
DESCRIPTION:El próximo Jueves 26 de Febrero a las 17:30h en la Biblioteca Vicent Serra Orvay habrá un taller para niños y niñas de 6 a 9 años de la mano de EducArte Ibiza \nPlazas limitadas a 10 familias. \nInscripción previa al 871 554 056 o a bibliosantjordi@santjosep.org
URL:https://ibizafunfamily.com/agenda/taller-de-carnaval-8/
LOCATION:Biblioteca Vicent Serra Orvay\, C/ de la Plaça Major\, 9\, Sant Jordi de ses Salines\, Islas Baleares\, 07817\, España
CATEGORIES:Talleres
ATTACH;FMTTYPE=image/jpeg:https://ibizafunfamily.com/wp-content/uploads/2026/01/talleres-biblioteca-vicent-serra-2026-febrero.jpeg
ORGANIZER;CN="Biblioteca Vicent Serra Orvay":MAILTO:bibliosantjordi@santjosep.org
END:VEVENT
BEGIN:VEVENT
DTSTART;TZID=Europe/Madrid:20260227T173000
DTEND;TZID=Europe/Madrid:20260227T173000
DTSTAMP:20260423T042432
CREATED:20260203T222215Z
LAST-MODIFIED:20260203T222215Z
UID:35176-1772213400-1772213400@ibizafunfamily.com
SUMMARY:Taller para familias\, El Cau de les Sargantanes
DESCRIPTION:El próximo Viernes 27 de Febrero a las 17:30h se organiza un taller para familias con niños y niñas de 3 a 6 años en la Biblioteca de Cala de Bou. \nTendremos juegos literarios\, experimentación grupal y lectura compartida en familia \nEs necesario inscripción previa\nTeléfono y WhatsApp al 971 348 630\nEmail: biblioteca.caladebou@santjosep.org
URL:https://ibizafunfamily.com/agenda/taller-para-familias-el-cau-de-les-sargantanes/
LOCATION:Biblioteca Municipal de Cala de Bou\, C/ es calo\, n 127\, Cala de Bou\, Islas Baleares\, 07829\, España
CATEGORIES:Talleres
ATTACH;FMTTYPE=image/jpeg:https://ibizafunfamily.com/wp-content/uploads/2026/02/taller-biblioteca-cala-de-bou-febrero-2026.jpeg
ORGANIZER;CN="Ajuntament de Sant Josep de Sa Talaia":MAILTO:alcaldia@santjosep.org
END:VEVENT
BEGIN:VEVENT
DTSTART;TZID=Europe/Madrid:20260228T110000
DTEND;TZID=Europe/Madrid:20260228T120000
DTSTAMP:20260423T042432
CREATED:20260211T151315Z
LAST-MODIFIED:20260211T151315Z
UID:35260-1772276400-1772280000@ibizafunfamily.com
SUMMARY:Taller de Jabones
DESCRIPTION:El próximo 28 de Febrero a las 11h se ha organizado un taller para niños y niñsa de 6 a 12 años para aprender a hacer jabones con Carola de con Sentidos. \nPrecio 20€ \nInformación  e inscripciones con la empresa organizadora.
URL:https://ibizafunfamily.com/agenda/taller-de-jabones/
LOCATION:Es Jardins Café\, Carrer Romeo i Julieta\, 7\, Sant Jordi\, Islas Baleares\, 7817\, Spain
CATEGORIES:Talleres
ATTACH;FMTTYPE=image/jpeg:https://ibizafunfamily.com/wp-content/uploads/2026/02/taller-jabones-jardinet.jpeg
END:VEVENT
END:VCALENDAR