BEGIN:VCALENDAR
VERSION:2.0
PRODID:-//Ibiza Fun Family - ECPv6.15.17.1//NONSGML v1.0//EN
CALSCALE:GREGORIAN
METHOD:PUBLISH
X-ORIGINAL-URL:https://ibizafunfamily.com
X-WR-CALDESC:Eventos para Ibiza Fun Family
REFRESH-INTERVAL;VALUE=DURATION:PT1H
X-Robots-Tag:noindex
X-PUBLISHED-TTL:PT1H
BEGIN:VTIMEZONE
TZID:Europe/Madrid
BEGIN:DAYLIGHT
TZOFFSETFROM:+0100
TZOFFSETTO:+0200
TZNAME:CEST
DTSTART:20240331T010000
END:DAYLIGHT
BEGIN:STANDARD
TZOFFSETFROM:+0200
TZOFFSETTO:+0100
TZNAME:CET
DTSTART:20241027T010000
END:STANDARD
BEGIN:DAYLIGHT
TZOFFSETFROM:+0100
TZOFFSETTO:+0200
TZNAME:CEST
DTSTART:20250330T010000
END:DAYLIGHT
BEGIN:STANDARD
TZOFFSETFROM:+0200
TZOFFSETTO:+0100
TZNAME:CET
DTSTART:20251026T010000
END:STANDARD
BEGIN:DAYLIGHT
TZOFFSETFROM:+0100
TZOFFSETTO:+0200
TZNAME:CEST
DTSTART:20260329T010000
END:DAYLIGHT
BEGIN:STANDARD
TZOFFSETFROM:+0200
TZOFFSETTO:+0100
TZNAME:CET
DTSTART:20261025T010000
END:STANDARD
END:VTIMEZONE
BEGIN:VEVENT
DTSTART;TZID=Europe/Madrid:20251022T173000
DTEND;TZID=Europe/Madrid:20251022T180000
DTSTAMP:20260425T141629
CREATED:20251022T084443Z
LAST-MODIFIED:20251022T084443Z
UID:33655-1761154200-1761156000@ibizafunfamily.com
SUMMARY:"Story Island" Taller de Creación de Historias
DESCRIPTION:El próximo 22 de Octubre a las 17:30h se realiza un taller de creación de historias con Monma mingot. \nDirigido a niños y niñas de 8 a 11 años\nDuración 1\,5h \nInscripción previa en biblioteca@santaeularia.com o al 971 33 82 77
URL:https://ibizafunfamily.com/agenda/story-island-taller-de-creacion-de-historias/
LOCATION:Biblioteca Municipal de Santa Eulalia\, Carrer Joan Tur Tur\, n9\, Santa Eulària des Riu\, Islas Baleares\, 07840\, España
CATEGORIES:Talleres
ATTACH;FMTTYPE=image/jpeg:https://ibizafunfamily.com/wp-content/uploads/2025/10/dias-de-bibliiotecas-santa.jpeg
ORGANIZER;CN="Ajuntament de Santa Eul%C3%A0ria des Riu":MAILTO:alcaldia@santaeularia.com
END:VEVENT
BEGIN:VEVENT
DTSTART;TZID=Europe/Madrid:20251023T163000
DTEND;TZID=Europe/Madrid:20251023T180000
DTSTAMP:20260425T141629
CREATED:20251022T104400Z
LAST-MODIFIED:20251022T104400Z
UID:33680-1761237000-1761242400@ibizafunfamily.com
SUMMARY:Juego libre y Circulo Musical
DESCRIPTION:El próxio Jueves 23 de Octubre de 16:30 a 18:30h Minibiza Kids Club organiza una tarde de juego libre y círculo musical para niños y niñas de 0 a 4 años \nInfo y reservas al 686 18 59 33
URL:https://ibizafunfamily.com/agenda/juego-libre-y-circulo-musical-8/
LOCATION:Minibiza\, Carrer del Pica-Soques\, Sant Josep de Sa Talaia\, Islas Baleares\, 07817\, España
CATEGORIES:Juegos
ATTACH;FMTTYPE=image/jpeg:https://ibizafunfamily.com/wp-content/uploads/2025/10/miniibiza-23-octubre.jpeg
END:VEVENT
BEGIN:VEVENT
DTSTART;TZID=Europe/Madrid:20251024T080000
DTEND;TZID=Europe/Madrid:20251024T170000
DTSTAMP:20260425T141629
CREATED:20251022T082613Z
LAST-MODIFIED:20251022T082613Z
UID:33645-1761292800-1761325200@ibizafunfamily.com
SUMMARY:La Fiesta de la Policía Local
DESCRIPTION:El próximo 24 de Octubre en la Plaza de Sant Jordi se celebra La Fiesta de La Policía Local en horario de 10 a 13h para la jornada escolar y de 17 a 19h para familias. \nUna jornada de escuelas y puertas abiertas para escolares\, familias y toda la ciudadanía donde conocer el trabajo en equipo de los servicios de emergencia. \nSe llenará de sirenas\, sonrisas y mucha acción. \nEncontraremos actividades par todas las edades:\nTaller de chapas con el escudo policial\nCreación de carnet policial y de conducir\nExposición de vehículos y material policial\nPista de Educación vial para los más pequeños (recordar importante usar el casco)\nY mucho más con la participación de los equipos de emergencias. \nNo te lo puedes perder!
URL:https://ibizafunfamily.com/agenda/la-fiesta-de-la-policia-local/
LOCATION:Islas Baleares
CATEGORIES:Exhibición,Talleres
ATTACH;FMTTYPE=image/jpeg:https://ibizafunfamily.com/wp-content/uploads/2025/10/policia-local-2025-sant-jordi.jpg
END:VEVENT
BEGIN:VEVENT
DTSTART;TZID=Europe/Madrid:20251025T100000
DTEND;TZID=Europe/Madrid:20251025T113000
DTSTAMP:20260425T141629
CREATED:20251022T102104Z
LAST-MODIFIED:20251022T102104Z
UID:33669-1761386400-1761391800@ibizafunfamily.com
SUMMARY:Taller de Halloween + Juego libre
DESCRIPTION:El próximo Sábado 25 de 10 a 11:30h en Mevak te espera un taller y juego libre especial Halloween. \nNo te quedes sin tu plaza
URL:https://ibizafunfamily.com/agenda/taller-de-halloween-juego-libre/
LOCATION:Meva Kids Ibiza\, Carretera Es Canar km 1\, Santa Eulària des Riu\, Islas Baleares\, España
CATEGORIES:Talleres
ATTACH;FMTTYPE=image/jpeg:https://ibizafunfamily.com/wp-content/uploads/2025/10/taller-mevak-halloween-2025.jpeg
ORGANIZER;CN="Mevak Kids Ibiza":MAILTO:mevakidsibiza@gmail.com
END:VEVENT
BEGIN:VEVENT
DTSTART;TZID=Europe/Madrid:20251025T100000
DTEND;TZID=Europe/Madrid:20251025T133000
DTSTAMP:20260425T141629
CREATED:20251022T102639Z
LAST-MODIFIED:20251022T102639Z
UID:33672-1761386400-1761399000@ibizafunfamily.com
SUMMARY:Feim Panellets
DESCRIPTION:El Ayuntamiento de Ibiza nos trae un taller de Panellets tradicionales para niños y niñas de 8 a 17 años divididos en 2 grupos en el c19 \nSábado 25 de Octubre de 10 a 13h para niños y niñas de 8 a 12 años \nMiércoles 29 de Octubre de 17 a 20h para niños y niñas de 12 a 17 años. \nCon la colaboración de Eroski
URL:https://ibizafunfamily.com/agenda/feim-panellets/
LOCATION:Centre de Creación Joven C19\, C/ Castilla\, n19\, Eivissa\, Islas Baleares\, 07800\, España
CATEGORIES:Cocina,Talleres
ATTACH;FMTTYPE=image/jpeg:https://ibizafunfamily.com/wp-content/uploads/2025/10/panellets-c19-ibiza-2025.jpeg
END:VEVENT
BEGIN:VEVENT
DTSTART;TZID=Europe/Madrid:20251025T160000
DTEND;TZID=Europe/Madrid:20251025T163000
DTSTAMP:20260425T141629
CREATED:20251022T084008Z
LAST-MODIFIED:20251022T084008Z
UID:33652-1761408000-1761409800@ibizafunfamily.com
SUMMARY:Taller de Pintura de Abanicos
DESCRIPTION:El próximo Sábado 25 de Octubre de 16 a 18h en Ca n’ Andreu des Trull en Sant Carles\, Diana Bustamante nos imparte un taller de pintura sobre abanicos. \nDirigido a niños y niñas a partir de 5 años acompañados de un adulto. \nGratuito\nPlazas limitadas \nInscripciones a partir del 18 de Octubre en patrimoni@santaeularia.com poniendo nombre\, edad del niño y número de teléfono.
URL:https://ibizafunfamily.com/agenda/taller-de-pintura-de-abanicos/
LOCATION:Ca n’Andreu des Trull\, Sant Carles de Peralta\, Sant Carles de Peralta\, Islas Baleares\, 07850\, España
CATEGORIES:Talleres
ATTACH;FMTTYPE=image/jpeg:https://ibizafunfamily.com/wp-content/uploads/2025/10/pintura-abanicos-sant-carles.jpeg
ORGANIZER;CN="Ajuntament de Santa Eul%C3%A0ria des Riu":MAILTO:alcaldia@santaeularia.com
END:VEVENT
BEGIN:VEVENT
DTSTART;TZID=Europe/Madrid:20251027T163000
DTEND;TZID=Europe/Madrid:20251027T170000
DTSTAMP:20260425T141629
CREATED:20251027T084817Z
LAST-MODIFIED:20251027T084817Z
UID:33768-1761582600-1761584400@ibizafunfamily.com
SUMMARY:Taller de Halloween
DESCRIPTION:El próximo Lunes 27 a las 16:30h se organiza un taller de Halloween en el Colegio de Sant Carles.  donde crearás tu propia corona de bruja/o\, se harán estampaciones de halloween y murciélagos colgantes. \nGratis para socios de la APIMA\nInscripción obligatoria a través de Ábaco
URL:https://ibizafunfamily.com/agenda/taller-de-halloween-5/
LOCATION:CEIP Sant Carles\, Calle Sant Carles\, 0\, Sant Carles de Peralta\, Islas Baleares\, 07840\, España
CATEGORIES:Talleres
ATTACH;FMTTYPE=image/jpeg:https://ibizafunfamily.com/wp-content/uploads/2025/10/taller-halloween-sant-carles.jpeg
END:VEVENT
BEGIN:VEVENT
DTSTART;TZID=Europe/Madrid:20251029T170000
DTEND;TZID=Europe/Madrid:20251029T200000
DTSTAMP:20260425T141629
CREATED:20251022T103231Z
LAST-MODIFIED:20251022T103231Z
UID:33675-1761757200-1761768000@ibizafunfamily.com
SUMMARY:Feim Panellets
DESCRIPTION:El Ayuntamiento de Ibiza nos trae un taller de Panellets tradicionales para niños y niñas de 8 a 17 años divididos en 2 grupos en el c19 \nMiércoles 29 de Octubre de 17 a 20h para niños y niñas de 12 a 17 años. \nCon la colaboración de Eroski
URL:https://ibizafunfamily.com/agenda/feim-panellets-2/
LOCATION:Centre de Creación Joven C19\, C/ Castilla\, n19\, Eivissa\, Islas Baleares\, 07800\, España
CATEGORIES:Cocina,Talleres
ATTACH;FMTTYPE=image/jpeg:https://ibizafunfamily.com/wp-content/uploads/2025/10/panellets-c19-ibiza-2025.jpeg
ORGANIZER;CN="Centre de Creaci%C3%B3n Joven C19":MAILTO:joventut@eivissa.es
END:VEVENT
END:VCALENDAR