BEGIN:VCALENDAR
VERSION:2.0
PRODID:-//Ibiza Fun Family - ECPv6.15.17.1//NONSGML v1.0//EN
CALSCALE:GREGORIAN
METHOD:PUBLISH
X-ORIGINAL-URL:https://ibizafunfamily.com
X-WR-CALDESC:Eventos para Ibiza Fun Family
REFRESH-INTERVAL;VALUE=DURATION:PT1H
X-Robots-Tag:noindex
X-PUBLISHED-TTL:PT1H
BEGIN:VTIMEZONE
TZID:Europe/Madrid
BEGIN:DAYLIGHT
TZOFFSETFROM:+0100
TZOFFSETTO:+0200
TZNAME:CEST
DTSTART:20220327T010000
END:DAYLIGHT
BEGIN:STANDARD
TZOFFSETFROM:+0200
TZOFFSETTO:+0100
TZNAME:CET
DTSTART:20221030T010000
END:STANDARD
BEGIN:DAYLIGHT
TZOFFSETFROM:+0100
TZOFFSETTO:+0200
TZNAME:CEST
DTSTART:20230326T010000
END:DAYLIGHT
BEGIN:STANDARD
TZOFFSETFROM:+0200
TZOFFSETTO:+0100
TZNAME:CET
DTSTART:20231029T010000
END:STANDARD
BEGIN:DAYLIGHT
TZOFFSETFROM:+0100
TZOFFSETTO:+0200
TZNAME:CEST
DTSTART:20240331T010000
END:DAYLIGHT
BEGIN:STANDARD
TZOFFSETFROM:+0200
TZOFFSETTO:+0100
TZNAME:CET
DTSTART:20241027T010000
END:STANDARD
END:VTIMEZONE
BEGIN:VEVENT
DTSTART;TZID=Europe/Madrid:20230118T130000
DTEND;TZID=Europe/Madrid:20230118T140000
DTSTAMP:20260423T135146
CREATED:20230113T093716Z
LAST-MODIFIED:20230115T104149Z
UID:9480-1674046800-1674050400@ibizafunfamily.com
SUMMARY:Taller Surfskate
DESCRIPTION:El Miércoles 18 y Viernes 20 de Enero tendremos un taller de 13 a 14h en Ies Sa Serra. \nInscribete\, plazas limitadas \n\n				\n					\n						Inscripciones\n					\n				\n			  \n 
URL:https://ibizafunfamily.com/agenda/taller-surfskate/
LOCATION:IES Sa Serra\, Camí de Benimussa\, 7\, Sant Antoni de Portmany\, Islas Baleares\, 07820\, España
CATEGORIES:Talleres
ATTACH;FMTTYPE=image/jpeg:https://ibizafunfamily.com/wp-content/uploads/2023/01/c5d29735-9a01-4be8-8440-893d55d59381.jpg
END:VEVENT
BEGIN:VEVENT
DTSTART;TZID=Europe/Madrid:20230120T130000
DTEND;TZID=Europe/Madrid:20230120T140000
DTSTAMP:20260423T135146
CREATED:20230113T093909Z
LAST-MODIFIED:20230115T104242Z
UID:9483-1674219600-1674223200@ibizafunfamily.com
SUMMARY:Taller de Surfskate
DESCRIPTION:El Miércoles 18 y Viernes 20 de Enero tendremos un taller de 13 a 14h en Ies Sa Serra. \nInscribete\, plazas limitadas \n\n				\n					\n						Inscripciones
URL:https://ibizafunfamily.com/agenda/taller-de-surfskate/
LOCATION:IES Sa Serra\, Camí de Benimussa\, 7\, Sant Antoni de Portmany\, Islas Baleares\, 07820\, España
CATEGORIES:Talleres
ATTACH;FMTTYPE=image/jpeg:https://ibizafunfamily.com/wp-content/uploads/2023/01/c5d29735-9a01-4be8-8440-893d55d59381.jpg
END:VEVENT
END:VCALENDAR