BEGIN:VCALENDAR
VERSION:2.0
PRODID:-//Ibiza Fun Family - ECPv6.15.17.1//NONSGML v1.0//EN
CALSCALE:GREGORIAN
METHOD:PUBLISH
X-WR-CALNAME:Ibiza Fun Family
X-ORIGINAL-URL:https://ibizafunfamily.com
X-WR-CALDESC:Eventos para Ibiza Fun Family
REFRESH-INTERVAL;VALUE=DURATION:PT1H
X-Robots-Tag:noindex
X-PUBLISHED-TTL:PT1H
BEGIN:VTIMEZONE
TZID:Europe/Madrid
BEGIN:DAYLIGHT
TZOFFSETFROM:+0100
TZOFFSETTO:+0200
TZNAME:CEST
DTSTART:20240331T010000
END:DAYLIGHT
BEGIN:STANDARD
TZOFFSETFROM:+0200
TZOFFSETTO:+0100
TZNAME:CET
DTSTART:20241027T010000
END:STANDARD
BEGIN:DAYLIGHT
TZOFFSETFROM:+0100
TZOFFSETTO:+0200
TZNAME:CEST
DTSTART:20250330T010000
END:DAYLIGHT
BEGIN:STANDARD
TZOFFSETFROM:+0200
TZOFFSETTO:+0100
TZNAME:CET
DTSTART:20251026T010000
END:STANDARD
BEGIN:DAYLIGHT
TZOFFSETFROM:+0100
TZOFFSETTO:+0200
TZNAME:CEST
DTSTART:20260329T010000
END:DAYLIGHT
BEGIN:STANDARD
TZOFFSETFROM:+0200
TZOFFSETTO:+0100
TZNAME:CET
DTSTART:20261025T010000
END:STANDARD
END:VTIMEZONE
BEGIN:VEVENT
DTSTART;TZID=Europe/Madrid:20250501T090000
DTEND;TZID=Europe/Madrid:20250502T140000
DTSTAMP:20260420T092344
CREATED:20250422T213802Z
LAST-MODIFIED:20250422T213802Z
UID:30249-1746090000-1746194400@ibizafunfamily.com
SUMMARY:¡Días sin cole!
DESCRIPTION:El Jueves 1 y el Viernes 2 de Mayo de 2025 de 9:00 a 14:00 en Mevak \nDías sin cole \nPlazas limitadas \nHorario flexible
URL:https://ibizafunfamily.com/agenda/dias-sin-cole-4/
LOCATION:Meva Kids Ibiza\, Carretera Es Canar km 1\, Santa Eulària des Riu\, Islas Baleares\, España
ATTACH;FMTTYPE=image/jpeg:https://ibizafunfamily.com/wp-content/uploads/2025/04/dias-sin-cole.jpg
ORGANIZER;CN="Mevak Kids Ibiza":MAILTO:mevakidsibiza@gmail.com
END:VEVENT
END:VCALENDAR