BEGIN:VCALENDAR
VERSION:2.0
PRODID:-//Ibiza Fun Family - ECPv6.15.17.1//NONSGML v1.0//EN
CALSCALE:GREGORIAN
METHOD:PUBLISH
X-ORIGINAL-URL:https://ibizafunfamily.com
X-WR-CALDESC:Eventos para Ibiza Fun Family
REFRESH-INTERVAL;VALUE=DURATION:PT1H
X-Robots-Tag:noindex
X-PUBLISHED-TTL:PT1H
BEGIN:VTIMEZONE
TZID:Europe/Madrid
BEGIN:DAYLIGHT
TZOFFSETFROM:+0100
TZOFFSETTO:+0200
TZNAME:CEST
DTSTART:20210328T010000
END:DAYLIGHT
BEGIN:STANDARD
TZOFFSETFROM:+0200
TZOFFSETTO:+0100
TZNAME:CET
DTSTART:20211031T010000
END:STANDARD
BEGIN:DAYLIGHT
TZOFFSETFROM:+0100
TZOFFSETTO:+0200
TZNAME:CEST
DTSTART:20220327T010000
END:DAYLIGHT
BEGIN:STANDARD
TZOFFSETFROM:+0200
TZOFFSETTO:+0100
TZNAME:CET
DTSTART:20221030T010000
END:STANDARD
BEGIN:DAYLIGHT
TZOFFSETFROM:+0100
TZOFFSETTO:+0200
TZNAME:CEST
DTSTART:20230326T010000
END:DAYLIGHT
BEGIN:STANDARD
TZOFFSETFROM:+0200
TZOFFSETTO:+0100
TZNAME:CET
DTSTART:20231029T010000
END:STANDARD
END:VTIMEZONE
BEGIN:VEVENT
DTSTART;TZID=Europe/Madrid:20220520T163000
DTEND;TZID=Europe/Madrid:20220522T190000
DTSTAMP:20260423T154452
CREATED:20220517T130604Z
LAST-MODIFIED:20220517T130604Z
UID:3075-1653064200-1653246000@ibizafunfamily.com
SUMMARY:Festival Barruguet\, Ludoteca de jardín
DESCRIPTION:LUDOTECA DE JARDÍN desarrolla un espacio de juego autónomo y no dirigido en el que niños\, jóvenes y adultos se reencuentran con el juego\, entre ellos y consigo mismos desde la exploración y la experimentación.\nLos distintos ambientes contienen materiales muy diversos pero siempre naturales y con dimensiones que sorprenden. Lo importante es dejarse llevar por la intuición de descubrir cómo jugar.\nLos diferentes ambientes lúdicos se componen de juegos de equilibrio\, lanzamiento/puntería\, motrices\, de lógica y rapidez\, imaginación\, precálculo\, construcción simbólica\, concentración\, experimentación\, entre otros. \nViernes 20 de mayo de 16.30 a 20 h\nSábado 21 de mayo de 10 a 19 h\nDomingo 22 de mayo de 10 a 19 h\nPaseo de s’Alamera 
URL:https://ibizafunfamily.com/agenda/festival-barruguet-ludoteca-de-jardin/
LOCATION:Passeig de S’alamera\, Santa Eulalia\, Passeig S'alamera\, Santa Eulària des Riu\, Islas Baleares\, 07840\, España
CATEGORIES:Talleres
ATTACH;FMTTYPE=image/jpeg:https://ibizafunfamily.com/wp-content/uploads/2022/05/0005_FOTO_LUDOTECA_-DE_JARDI_1-1024x560-1.jpg
ORGANIZER;CN="Festival Barruguet":MAILTO:cultura@santaeularia.com
END:VEVENT
BEGIN:VEVENT
DTSTART;TZID=Europe/Madrid:20220520T163000
DTEND;TZID=Europe/Madrid:20220522T190000
DTSTAMP:20260423T154452
CREATED:20220517T132031Z
LAST-MODIFIED:20220517T132031Z
UID:3088-1653064200-1653246000@ibizafunfamily.com
SUMMARY:Festival Barruguet\, Laberinto de Ilusiones
DESCRIPTION:Desde el 20 de Mayo hasta el Domingo 22 de Mayo El Festival Barruguet ofrece estas instalaciones lúdicas para niños de 1 a 10 años \nNosotros seguro que iremos\, ¿Nos vemos allí? \nDivendres 20 de maig de 16.30 a 20 h\nDissabte 21 de maig de 10 a 19 h\nDiumenge 22 de maig de 10 a 19 h
URL:https://ibizafunfamily.com/agenda/festival-barruguet-laberinto-de-ilusiones/
LOCATION:Passeig de S’alamera\, Santa Eulalia\, Passeig S'alamera\, Santa Eulària des Riu\, Islas Baleares\, 07840\, España
CATEGORIES:Talleres
ATTACH;FMTTYPE=image/jpeg:https://ibizafunfamily.com/wp-content/uploads/2022/05/laberint-1024x560-1.jpg
ORGANIZER;CN="Festival Barruguet":MAILTO:cultura@santaeularia.com
END:VEVENT
BEGIN:VEVENT
DTSTART;TZID=Europe/Madrid:20220520T180000
DTEND;TZID=Europe/Madrid:20220521T170000
DTSTAMP:20260423T154452
CREATED:20220517T134045Z
LAST-MODIFIED:20220517T134045Z
UID:3116-1653069600-1653152400@ibizafunfamily.com
SUMMARY:Festival Barruguet\, El meu Amic Brutus
DESCRIPTION:Espectáculo de calle\, de actores\, músicos y títeres que tiene por protagonista a Brutus\, un hueso pardo de dos metros y medio de altura y 400 kg de peso\, curioso\, apacible y divertido\, a quien le gusta abrazar a la gente\, oler el que comen y rascarse la espalda en los árboles y en las paredes.\nBrutus hará un pasacalle acompañado de unos campesinos de la montaña\, alegres y alocados\, que bajan a la ciudad a vender sus productos. En este pasacalle veremos cómo bailan y juegan con músicas de acordeón interpretadas en directo\, y cómo hacen participar en las danzas y los juegos tradicionales todos los niños que se encuentran por el camino. \nPara todos los públicos \nViernes 20 de mayo a las 17:50 h. Plaza de Isidor Macabich y calle Isidor Macabich.\nSábado 21 de Mayo a las 17 h. Plaza de España (PL-E).
URL:https://ibizafunfamily.com/agenda/festival-barruguet-el-meu-amic-brutus/
LOCATION:Plaza España\, Santa Eulalia\, Plaza de España\, Santa Eulària des Riu\, Islas Baleares\, 07840\, España
CATEGORIES:Pasa calles,Teatro
ATTACH;FMTTYPE=image/jpeg:https://ibizafunfamily.com/wp-content/uploads/2022/05/Brutus-1024x560-1.jpg
ORGANIZER;CN="Festival Barruguet":MAILTO:cultura@santaeularia.com
END:VEVENT
BEGIN:VEVENT
DTSTART;TZID=Europe/Madrid:20220521T100000
DTEND;TZID=Europe/Madrid:20220521T133000
DTSTAMP:20260423T154452
CREATED:20220506T080202Z
LAST-MODIFIED:20220506T080202Z
UID:2546-1653127200-1653139800@ibizafunfamily.com
SUMMARY:Técnicas Artísticas de Dibujo
DESCRIPTION:El próximo Sábado 21 de Mayo de 10 a 13:30 (entrada de 09:45h a 10:00h y salida de 13:30h a 13:45h) \nPlazas limitadas hasta completar aforo el día de la actividad \nPara niños y niñas de 6 a 11 años en Santa Eulalia del Rio \nLos menores tendrán que apuntarse como ‘socios’ del Punt en cualquiera de los casales del municipio y\, a partir de ahí\, podrán participar en las actividades que deseen. No es obligatoria la asistencia y todas las actividades así como la inscripción en el club son gratuitas.
URL:https://ibizafunfamily.com/agenda/tecnicas-artisticas-de-dibujo/
LOCATION:Punt d’ Infants Santa Eulària\, Santa Eulària des Riu\, Islas Baleares\, 07840\, España
CATEGORIES:Talleres
ATTACH;FMTTYPE=image/jpeg:https://ibizafunfamily.com/wp-content/uploads/2022/05/WhatsApp-Image-2022-05-06-at-9.21.59-AM-e1651823933766.jpeg
ORGANIZER;CN="Joventut Santa Eul%C3%A0ria":MAILTO:joventut@santaeularia.com
END:VEVENT
BEGIN:VEVENT
DTSTART;TZID=Europe/Madrid:20220521T110000
DTEND;TZID=Europe/Madrid:20220521T120000
DTSTAMP:20260423T154452
CREATED:20220517T125923Z
LAST-MODIFIED:20220517T125923Z
UID:3070-1653130800-1653134400@ibizafunfamily.com
SUMMARY:Festival Barruguet\, POI
DESCRIPTION:El próximo 20 de Mayo a las 17h en la plaza Isidoro Macabich en Santa Eularia teatro y circo para todos los públicos. \nGuillem Vizcaíno – Campeón mundial de manipulación de peonzas (World Spintop Contest 2020) fusiona las artes del circo con el popular juego de la peonza y las raíces de la cultura mediterránea es el objetivo principal de este espectáculo contemporáneo
URL:https://ibizafunfamily.com/agenda/festival-barruguet-poi-2/
LOCATION:Plaza Isidoro Macabich\, C/ Isidoro Macabich\, Santa Eulària des Riu\, Islas Baleares\, 07840\, España
CATEGORIES:Circo,Teatro
ATTACH;FMTTYPE=image/jpeg:https://ibizafunfamily.com/wp-content/uploads/2022/05/0002_POI_-FOTO1-1024x560-1.jpg
ORGANIZER;CN="Festival Barruguet":MAILTO:cultura@santaeularia.com
END:VEVENT
BEGIN:VEVENT
DTSTART;TZID=Europe/Madrid:20220521T110000
DTEND;TZID=Europe/Madrid:20220522T190000
DTSTAMP:20260423T154452
CREATED:20220517T130327Z
LAST-MODIFIED:20220517T130327Z
UID:3072-1653130800-1653246000@ibizafunfamily.com
SUMMARY:Festival Barruguet\, Lo Carrofil
DESCRIPTION:El próximo sábado 21 y domingo 22 de Mayo de 11h a 14h y de 16 a 19h un carrusel e instalación lúdica para niños de 3 a 6 años \nEl matrimonio Carrofil es una pareja con un oficio muy peculiar: ¡son creadores y constructores de seres fantásticos! ¿Quiere conocer los dragones que fabrican? Acérquese y entra en su mundo imaginario: ¡podrá vivir la experiencia inolvidable de subir a uno de sus dragones y domarlo! Y puede estar tranquilos\, que no muerden! \nLO CARROFIL es un carrusel de siete metros de diámetro con cinco dragones confeccionados con recortes de mil tejidos. Cada dragón soporta dos sillitas para que dos niños de entre 3 y 6 años* puedan subir. Los actores de la compañía y un tema musical original les acompañan durante el viaje. \n*Por razones técnicas y de seguridad sólo pueden subir niños de estas edades.
URL:https://ibizafunfamily.com/agenda/festival-barruguet-lo-carrofil/
LOCATION:Passeig de S’alamera\, Santa Eulalia\, Passeig S'alamera\, Santa Eulària des Riu\, Islas Baleares\, 07840\, España
CATEGORIES:Exhibición,Pasa calles
ATTACH;FMTTYPE=image/jpeg:https://ibizafunfamily.com/wp-content/uploads/2022/05/0006_FOTO_LO_CARROFIL_2-1024x560-1.jpg
ORGANIZER;CN="Festival Barruguet":MAILTO:cultura@santaeularia.com
END:VEVENT
BEGIN:VEVENT
DTSTART;TZID=Europe/Madrid:20220521T123000
DTEND;TZID=Europe/Madrid:20220521T133000
DTSTAMP:20260423T154452
CREATED:20220517T133432Z
LAST-MODIFIED:20220517T133432Z
UID:3107-1653136200-1653139800@ibizafunfamily.com
SUMMARY:Festival Barruguet\, Alma
DESCRIPTION:Primavera\, verano\, otoño e invierno. ALMA es un viaje poético y sensorial a través de las cuatro estaciones del año\, cada una con un alma propia que tomará forma a través de los objetos y materiales que se irá encontrando la protagonista. ALMA\, la segunda producción de la compañía LaBú Teatre\, es un espectáculo para la primera infancia basado en el teatro de objetos y el movimiento. Los más pequeños disfrutan de una propuesta con materiales naturales\, divertida y al mismo tiempo poética\, que habla del paso del tiempo.
URL:https://ibizafunfamily.com/agenda/festival-barruguet-alma/
LOCATION:Teatro España\, Santa Eulalia\, C/ de Sant Jaume\, 81\,\, Santa Eulària des Riu\, Islas Baleares\, 07840\, España
CATEGORIES:Teatro
ATTACH;FMTTYPE=image/jpeg:https://ibizafunfamily.com/wp-content/uploads/2022/05/0016_Alma_2-1024x560-1.jpg
ORGANIZER;CN="Festival Barruguet":MAILTO:cultura@santaeularia.com
END:VEVENT
BEGIN:VEVENT
DTSTART;TZID=Europe/Madrid:20220521T170000
DTEND;TZID=Europe/Madrid:20220521T210000
DTSTAMP:20260423T154452
CREATED:20220509T092900Z
LAST-MODIFIED:20220509T092900Z
UID:2583-1653152400-1653166800@ibizafunfamily.com
SUMMARY:Inflables infantiles
DESCRIPTION:El próximo Sábado 21 de Mayo habrán inflables infantiles en las fiestas de Puig d’en Valls a partir de las 17h
URL:https://ibizafunfamily.com/agenda/inflables-infantiles/
LOCATION:Islas Baleares
CATEGORIES:Feria,Fiesta
ATTACH;FMTTYPE=image/jpeg:https://ibizafunfamily.com/wp-content/uploads/2022/05/WhatsApp-Image-2022-05-06-at-8.32.53-PM.jpeg
ORGANIZER;CN="Ajuntament de Santa Eul%C3%A0ria des Riu":MAILTO:alcaldia@santaeularia.com
END:VEVENT
BEGIN:VEVENT
DTSTART;TZID=Europe/Madrid:20220521T180000
DTEND;TZID=Europe/Madrid:20220521T180000
DTSTAMP:20260423T154452
CREATED:20220517T132825Z
LAST-MODIFIED:20220517T134204Z
UID:3098-1653156000-1653156000@ibizafunfamily.com
SUMMARY:Festival Barruguet\, La Jana i els tres ossos
DESCRIPTION:JANA Y LOS TRES OSOS es una versión del cuento popular ‘Ricitos de Oro’. Un montaje dirigido a los más pequeños. El marco escenográfico nos evoca una tiendecita donde se despachan cuentos y donde los títeres se convierten en juguetes a manos de sus manipuladores\, que construyen la narración sirviéndose a la vez de las canciones y de las sombras\, cultivando el clima mágico y tierno que tienen estas historias. para los niños de todas partes. \nPara niños a partir de 2 años\, \n 
URL:https://ibizafunfamily.com/agenda/festival-barruguet-la-jana-i-els-tres-ossos/
LOCATION:Teatro España\, Santa Eulalia\, C/ de Sant Jaume\, 81\,\, Santa Eulària des Riu\, Islas Baleares\, 07840\, España
CATEGORIES:Teatro
ATTACH;FMTTYPE=image/jpeg:https://ibizafunfamily.com/wp-content/uploads/2022/05/0010_La-Jana-i-els-3-ossos-dormint-2-1024x560-1.jpg
ORGANIZER;CN="Festival Barruguet":MAILTO:cultura@santaeularia.com
END:VEVENT
BEGIN:VEVENT
DTSTART;TZID=Europe/Madrid:20220521T191500
DTEND;TZID=Europe/Madrid:20220521T191500
DTSTAMP:20260423T154452
CREATED:20220517T133007Z
LAST-MODIFIED:20220517T133007Z
UID:3101-1653160500-1653160500@ibizafunfamily.com
SUMMARY:Festival Barruguet\, El pequeño circo de Mesieu Moustache
DESCRIPTION:Espectáculo familiar con distintas técnicas de circo.\nMesieu Moustache\, presentador de su propio circo\, nos quiere maravillar con su gran número\, que le ha hecho famoso en todo el mundo. Mientras va superando sus dificultades\, nos presenta con su compañera diferentes números de circo. \n 
URL:https://ibizafunfamily.com/agenda/festival-barruguet-el-pequeno-circo-de-mesieu-moustache/
LOCATION:Plaza Isidoro Macabich\, C/ Isidoro Macabich\, Santa Eulària des Riu\, Islas Baleares\, 07840\, España
CATEGORIES:Circo
ATTACH;FMTTYPE=image/jpeg:https://ibizafunfamily.com/wp-content/uploads/2022/05/0013_El-Petit-Circ-de-M.-Moustache-1024x560-1.jpg
ORGANIZER;CN="Festival Barruguet":MAILTO:cultura@santaeularia.com
END:VEVENT
END:VCALENDAR