BEGIN:VCALENDAR
VERSION:2.0
PRODID:-//Ibiza Fun Family - ECPv6.15.17.1//NONSGML v1.0//EN
CALSCALE:GREGORIAN
METHOD:PUBLISH
X-WR-CALNAME:Ibiza Fun Family
X-ORIGINAL-URL:https://ibizafunfamily.com
X-WR-CALDESC:Eventos para Ibiza Fun Family
REFRESH-INTERVAL;VALUE=DURATION:PT1H
X-Robots-Tag:noindex
X-PUBLISHED-TTL:PT1H
BEGIN:VTIMEZONE
TZID:Europe/Madrid
BEGIN:DAYLIGHT
TZOFFSETFROM:+0100
TZOFFSETTO:+0200
TZNAME:CEST
DTSTART:20210328T010000
END:DAYLIGHT
BEGIN:STANDARD
TZOFFSETFROM:+0200
TZOFFSETTO:+0100
TZNAME:CET
DTSTART:20211031T010000
END:STANDARD
BEGIN:DAYLIGHT
TZOFFSETFROM:+0100
TZOFFSETTO:+0200
TZNAME:CEST
DTSTART:20220327T010000
END:DAYLIGHT
BEGIN:STANDARD
TZOFFSETFROM:+0200
TZOFFSETTO:+0100
TZNAME:CET
DTSTART:20221030T010000
END:STANDARD
BEGIN:DAYLIGHT
TZOFFSETFROM:+0100
TZOFFSETTO:+0200
TZNAME:CEST
DTSTART:20230326T010000
END:DAYLIGHT
BEGIN:STANDARD
TZOFFSETFROM:+0200
TZOFFSETTO:+0100
TZNAME:CET
DTSTART:20231029T010000
END:STANDARD
END:VTIMEZONE
BEGIN:VEVENT
DTSTART;TZID=Europe/Madrid:20220515T173000
DTEND;TZID=Europe/Madrid:20220515T173000
DTSTAMP:20260423T133625
CREATED:20220509T092731Z
LAST-MODIFIED:20220509T092731Z
UID:2581-1652635800-1652635800@ibizafunfamily.com
SUMMARY:Show de Magia con el Mago Andrés Llunch
DESCRIPTION:El próximo Domingo 15 de Mayo a las 17:30h en las fiestas de puig d’en Valls
URL:https://ibizafunfamily.com/agenda/show-de-magia-con-el-mago-andres-llunch/
LOCATION:Islas Baleares
CATEGORIES:Magia
ATTACH;FMTTYPE=image/jpeg:https://ibizafunfamily.com/wp-content/uploads/2022/05/WhatsApp-Image-2022-05-06-at-8.32.53-PM.jpeg
ORGANIZER;CN="Ajuntament de Santa Eul%C3%A0ria des Riu":MAILTO:alcaldia@santaeularia.com
END:VEVENT
END:VCALENDAR