BEGIN:VCALENDAR
VERSION:2.0
PRODID:-//Ibiza Fun Family - ECPv6.15.17.1//NONSGML v1.0//EN
CALSCALE:GREGORIAN
METHOD:PUBLISH
X-ORIGINAL-URL:https://ibizafunfamily.com
X-WR-CALDESC:Eventos para Ibiza Fun Family
REFRESH-INTERVAL;VALUE=DURATION:PT1H
X-Robots-Tag:noindex
X-PUBLISHED-TTL:PT1H
BEGIN:VTIMEZONE
TZID:Europe/Madrid
BEGIN:DAYLIGHT
TZOFFSETFROM:+0100
TZOFFSETTO:+0200
TZNAME:CEST
DTSTART:20230326T010000
END:DAYLIGHT
BEGIN:STANDARD
TZOFFSETFROM:+0200
TZOFFSETTO:+0100
TZNAME:CET
DTSTART:20231029T010000
END:STANDARD
BEGIN:DAYLIGHT
TZOFFSETFROM:+0100
TZOFFSETTO:+0200
TZNAME:CEST
DTSTART:20240331T010000
END:DAYLIGHT
BEGIN:STANDARD
TZOFFSETFROM:+0200
TZOFFSETTO:+0100
TZNAME:CET
DTSTART:20241027T010000
END:STANDARD
BEGIN:DAYLIGHT
TZOFFSETFROM:+0100
TZOFFSETTO:+0200
TZNAME:CEST
DTSTART:20250330T010000
END:DAYLIGHT
BEGIN:STANDARD
TZOFFSETFROM:+0200
TZOFFSETTO:+0100
TZNAME:CET
DTSTART:20251026T010000
END:STANDARD
END:VTIMEZONE
BEGIN:VEVENT
DTSTART;TZID=Europe/Madrid:20241029T170000
DTEND;TZID=Europe/Madrid:20241102T190000
DTSTAMP:20260420T051856
CREATED:20241027T225030Z
LAST-MODIFIED:20241031T132920Z
UID:26373-1730221200-1730574000@ibizafunfamily.com
SUMMARY:CANCELADO - Halloween en los Punts Joves del  Municipio de Santa Eulària
DESCRIPTION:CANCELADO – Los ayuntamientos han suspendido las celebraciones de Halloween debido al luto oficial declarado por el estado por los daños de la DANA. \nHalloween / Tots Sants 2024 en los Punts Joves del Municipio de Santa Eulària dirigido a jovenes de 12 a 17 años \nSense Respecte no hi ha diversión / sin respeto no hay diversión \nVive un Halloween monstruosamente respetuoso y seguro \nPunt Jove Santa Eulària \nMartes 29 de Octubre a las 18:00 juegos de Halloween y disfraces- Quien soy? \nMiércoles 30 a las 18:00  Mural de Halloween \nJueves 31 a las 17:00 Taller de panellets y trencada de frutos secos \nSábado 2 de Noviembre a las 18:00 Cine de miedo y palomitas \nPunt Jove Santa Gertrudis \nMartes 29 de Octubre a las 18:00 Taller artístico \nMiércoles 30 a las 18:00 Taller de cocina de pastas de hojas terroríficas \nJueves 31 a las 18:00 torneo de Fastasmas Blitz \nSábado 2 de Noviembre a las 17:00  Taller de panellets y  cine especial Halloween con palomitas \nPunt Jove Es Puig d’en Valls \nMartes 29 de Octubre a las 18:00 Trivial jove  ¿Cuánto sabes de Halloween y de Todos los Santos? \nMiércoles 30 a las 18:00  Torneo Fantasmas Blitz \nJueves 31 a las 18:00 Taller de Rosarios dulces y trencada de frutos secos \nSábado 2 de Noviembre a las 18:00 Cine de miedo y palomitas \nPunt Jove Jesús \nMartes 29 de Octubre a las 18:00 Torneo de Oca de Halloween \nMiércoles 30 a las 18:00  Historias de Halloween \nJueves 31 a las 18:00 Trencada de frutos secos y taller de pastas de manzana y frutos secos \nSábado 2 de Noviembre a las 18:00 Cine especial Halloween y palomitas \n 
URL:https://ibizafunfamily.com/agenda/halloween-en-los-punts-joves-del-municipio-de-santa-eularia/
ATTACH;FMTTYPE=image/jpeg:https://ibizafunfamily.com/wp-content/uploads/2024/10/halloween-punt-jove.jpg
ORGANIZER;CN="Ajuntament de Santa Eul%C3%A0ria des Riu":MAILTO:alcaldia@santaeularia.com
END:VEVENT
END:VCALENDAR