BEGIN:VCALENDAR
VERSION:2.0
PRODID:-//Ibiza Fun Family - ECPv6.15.17.1//NONSGML v1.0//EN
CALSCALE:GREGORIAN
METHOD:PUBLISH
X-WR-CALNAME:Ibiza Fun Family
X-ORIGINAL-URL:https://ibizafunfamily.com
X-WR-CALDESC:Eventos para Ibiza Fun Family
REFRESH-INTERVAL;VALUE=DURATION:PT1H
X-Robots-Tag:noindex
X-PUBLISHED-TTL:PT1H
BEGIN:VTIMEZONE
TZID:Europe/Madrid
BEGIN:DAYLIGHT
TZOFFSETFROM:+0100
TZOFFSETTO:+0200
TZNAME:CEST
DTSTART:20220327T010000
END:DAYLIGHT
BEGIN:STANDARD
TZOFFSETFROM:+0200
TZOFFSETTO:+0100
TZNAME:CET
DTSTART:20221030T010000
END:STANDARD
BEGIN:DAYLIGHT
TZOFFSETFROM:+0100
TZOFFSETTO:+0200
TZNAME:CEST
DTSTART:20230326T010000
END:DAYLIGHT
BEGIN:STANDARD
TZOFFSETFROM:+0200
TZOFFSETTO:+0100
TZNAME:CET
DTSTART:20231029T010000
END:STANDARD
BEGIN:DAYLIGHT
TZOFFSETFROM:+0100
TZOFFSETTO:+0200
TZNAME:CEST
DTSTART:20240331T010000
END:DAYLIGHT
BEGIN:STANDARD
TZOFFSETFROM:+0200
TZOFFSETTO:+0100
TZNAME:CET
DTSTART:20241027T010000
END:STANDARD
END:VTIMEZONE
BEGIN:VEVENT
DTSTART;TZID=Europe/Madrid:20230222T160000
DTEND;TZID=Europe/Madrid:20230222T170000
DTSTAMP:20260423T202236
CREATED:20230208T220116Z
LAST-MODIFIED:20230208T220116Z
UID:10299-1677081600-1677085200@ibizafunfamily.com
SUMMARY:Película en el Casal de Joves
DESCRIPTION:El próximo Miércoles te esperamos en el Casal de Joves para ver una película todos juntos \n¿Te animas?
URL:https://ibizafunfamily.com/agenda/pelicula-en-el-casal-de-joves/
LOCATION:Casal de Joves de Formentera\, Avda. Portossalè\, 88\, Formentera\, Islas Baleares\, 07860\, España
ATTACH;FMTTYPE=image/jpeg:https://ibizafunfamily.com/wp-content/uploads/2023/02/WhatsApp-Image-2023-02-07-at-14.01.20.jpeg
ORGANIZER;CN="Casal de Joves de Formentera":MAILTO:joventut@conselldeformentera.cat
END:VEVENT
END:VCALENDAR