BEGIN:VCALENDAR
VERSION:2.0
PRODID:-//Ibiza Fun Family - ECPv6.15.17.1//NONSGML v1.0//EN
CALSCALE:GREGORIAN
METHOD:PUBLISH
X-ORIGINAL-URL:https://ibizafunfamily.com
X-WR-CALDESC:Eventos para Ibiza Fun Family
REFRESH-INTERVAL;VALUE=DURATION:PT1H
X-Robots-Tag:noindex
X-PUBLISHED-TTL:PT1H
BEGIN:VTIMEZONE
TZID:Europe/Madrid
BEGIN:DAYLIGHT
TZOFFSETFROM:+0100
TZOFFSETTO:+0200
TZNAME:CEST
DTSTART:20210328T010000
END:DAYLIGHT
BEGIN:STANDARD
TZOFFSETFROM:+0200
TZOFFSETTO:+0100
TZNAME:CET
DTSTART:20211031T010000
END:STANDARD
BEGIN:DAYLIGHT
TZOFFSETFROM:+0100
TZOFFSETTO:+0200
TZNAME:CEST
DTSTART:20220327T010000
END:DAYLIGHT
BEGIN:STANDARD
TZOFFSETFROM:+0200
TZOFFSETTO:+0100
TZNAME:CET
DTSTART:20221030T010000
END:STANDARD
BEGIN:DAYLIGHT
TZOFFSETFROM:+0100
TZOFFSETTO:+0200
TZNAME:CEST
DTSTART:20230326T010000
END:DAYLIGHT
BEGIN:STANDARD
TZOFFSETFROM:+0200
TZOFFSETTO:+0100
TZNAME:CET
DTSTART:20231029T010000
END:STANDARD
END:VTIMEZONE
BEGIN:VEVENT
DTSTART;TZID=Europe/Madrid:20221203T183000
DTEND;TZID=Europe/Madrid:20221203T183000
DTSTAMP:20260423T135155
CREATED:20221130T144338Z
LAST-MODIFIED:20221130T144338Z
UID:8736-1670092200-1670092200@ibizafunfamily.com
SUMMARY:Película Formentera
DESCRIPTION:El Miércoles 7 de Diciembre a las 18:30  en el Casal de Joves de Formentera\, tendremos una película navideña
URL:https://ibizafunfamily.com/agenda/pelicula-formentera/
LOCATION:Casal de Joves de Formentera\, Avda. Portossalè\, 88\, Formentera\, Islas Baleares\, 07860\, España
CATEGORIES:Cine
ATTACH;FMTTYPE=image/jpeg:https://ibizafunfamily.com/wp-content/uploads/2022/11/317594812_102522362677859_660436620275046680_n.jpg
ORGANIZER;CN="Consell de Formentera":MAILTO:presidencia@conselldeformentera.cat
END:VEVENT
BEGIN:VEVENT
DTSTART;TZID=Europe/Madrid:20221216T180000
DTEND;TZID=Europe/Madrid:20221216T213000
DTSTAMP:20260423T135155
CREATED:20221207T224322Z
LAST-MODIFIED:20221207T224341Z
UID:8913-1671213600-1671226200@ibizafunfamily.com
SUMMARY:Cine\, El Nadal del senyor Branquillo i l'escombra voladora
DESCRIPTION:El Viernes 16 de Diciembre tendremos  cine infantil  a las 18h  una película en Catalán. \nLa película durara unos 60 minutos y la edad recomendada es para niños y niñas de entre 3 y 6 años. \nSerá en Cam Jeroni\, la entrada sera libre\, hasta completar aforo. \n19h entrega de premios Sant Josep en Forma. \n19h naguración de la exposición las iglesias blancas\, abierto hasta el 15 de Enero. \n20h Viernes de cine\, Mentes maravillosas\, 92 minutos de duración entrada libre hasta completar afoto \n\n				\n					\n						Ver programa completo de fiestas
URL:https://ibizafunfamily.com/agenda/cine-el-nadal-del-senyor-branquillo-i-lescombra-voladora/
LOCATION:Can Jeroni\, Sant Josep\, Carrer sa Talaia\, 16\,\, Sant Josep de Sa Talaia\, islas baleares\, 07830\, España
ATTACH;FMTTYPE=image/jpeg:https://ibizafunfamily.com/wp-content/uploads/2022/12/51cf1cab-0e1d-41bb-8a3d-35ddb0a4b372.jpg
ORGANIZER;CN="Ajuntament de Sant Josep de Sa Talaia":MAILTO:alcaldia@santjosep.org
END:VEVENT
BEGIN:VEVENT
DTSTART;TZID=Europe/Madrid:20221223T203000
DTEND;TZID=Europe/Madrid:20221223T203000
DTSTAMP:20260423T135155
CREATED:20221206T201747Z
LAST-MODIFIED:20221206T201747Z
UID:8830-1671827400-1671827400@ibizafunfamily.com
SUMMARY:Película en Inglés
DESCRIPTION:El Viernes 23 de Diciembre  a las 20:30 horas en el Teatro España tendremos una Película en inglés\, Dinner for One. A cargo de Peña Escénica con un precio de 8€ con venta anticipada en Holidays y Holy-sport \n\n				\n					\n						Ver programa completo de fiestas
URL:https://ibizafunfamily.com/agenda/pelicula-en-ingles/
LOCATION:Teatro España\, Santa Eulalia\, C/ de Sant Jaume\, 81\,\, Santa Eulària des Riu\, Islas Baleares\, 07840\, España
CATEGORIES:Cine
ATTACH;FMTTYPE=image/jpeg:https://ibizafunfamily.com/wp-content/uploads/2022/11/4fa3c5a4-2a5a-484e-9582-7f2204753426.jpg
END:VEVENT
BEGIN:VEVENT
DTSTART;TZID=Europe/Madrid:20221227T080000
DTEND;TZID=Europe/Madrid:20221227T170000
DTSTAMP:20260423T135155
CREATED:20221123T104423Z
LAST-MODIFIED:20221123T104423Z
UID:8416-1672128000-1672160400@ibizafunfamily.com
SUMMARY:Cine infantil en Can Ventosa
DESCRIPTION:A las 10:00 horas en Can Ventosa con un precio de 2€ . \nLas entradas se pueden reservar en la web del Ayuntamiento de Ibiza\, www.eivissa.es \nEl 27 de Diciembre\, Earwig y la Bruja pelicula \nEl 28 de Diciembre \, Mirai\, mi hermana pequeña. \nEl 29 de Diciembre \, El Lobo y el león. \nY el 2 de Diciembre\, el bebe Jefazo\, negocios de familia \nPara más información en el centro de creación jove c-19 \n 
URL:https://ibizafunfamily.com/agenda/cine-infantil-en-can-ventosa/
LOCATION:Auditori Can Ventosa\, Av. Ignasi Wallis\, 36\, Eivissa\, Islas Baleares\, 07800\, España
CATEGORIES:Cine
ATTACH;FMTTYPE=image/jpeg:https://ibizafunfamily.com/wp-content/uploads/2022/11/2a333077-f88e-4f43-9c56-92e7c4e522a4.jpg
END:VEVENT
BEGIN:VEVENT
DTSTART;TZID=Europe/Madrid:20221228T080000
DTEND;TZID=Europe/Madrid:20221228T170000
DTSTAMP:20260423T135155
CREATED:20221123T104501Z
LAST-MODIFIED:20221123T104501Z
UID:8419-1672214400-1672246800@ibizafunfamily.com
SUMMARY:Cine infantil en Can Ventosa
DESCRIPTION:A las 10:00 horas en Can Ventosa con un precio de 2€ . \nLas entradas se pueden reservar en la web del Ayuntamiento de Ibiza\, www.eivissa.es \nEl 27 de Diciembre\, Earwig y la Bruja pelicula \nEl 28 de Diciembre \, Mirai\, mi hermana pequeña. \nEl 29 de Diciembre \, El Lobo y el león. \nY el 2 de Diciembre\, el bebe Jefazo\, negocios de familia \nPara más información en el centro de creación jove c-19 \n 
URL:https://ibizafunfamily.com/agenda/cine-infantil-en-can-ventosa-2/
LOCATION:Auditori Can Ventosa\, Av. Ignasi Wallis\, 36\, Eivissa\, Islas Baleares\, 07800\, España
CATEGORIES:Cine
ATTACH;FMTTYPE=image/jpeg:https://ibizafunfamily.com/wp-content/uploads/2022/11/2a333077-f88e-4f43-9c56-92e7c4e522a4.jpg
END:VEVENT
BEGIN:VEVENT
DTSTART;TZID=Europe/Madrid:20221229T080000
DTEND;TZID=Europe/Madrid:20221229T170000
DTSTAMP:20260423T135155
CREATED:20221123T104501Z
LAST-MODIFIED:20221123T104501Z
UID:8420-1672300800-1672333200@ibizafunfamily.com
SUMMARY:Cine infantil en Can Ventosa
DESCRIPTION:A las 10:00 horas en Can Ventosa con un precio de 2€ . \nLas entradas se pueden reservar en la web del Ayuntamiento de Ibiza\, www.eivissa.es \nEl 27 de Diciembre\, Earwig y la Bruja pelicula \nEl 28 de Diciembre \, Mirai\, mi hermana pequeña. \nEl 29 de Diciembre \, El Lobo y el león. \nY el 2 de Diciembre\, el bebe Jefazo\, negocios de familia \nPara más información en el centro de creación jove c-19 \n 
URL:https://ibizafunfamily.com/agenda/cine-infantil-en-can-ventosa-3/
LOCATION:Auditori Can Ventosa\, Av. Ignasi Wallis\, 36\, Eivissa\, Islas Baleares\, 07800\, España
CATEGORIES:Cine
ATTACH;FMTTYPE=image/jpeg:https://ibizafunfamily.com/wp-content/uploads/2022/11/2a333077-f88e-4f43-9c56-92e7c4e522a4.jpg
END:VEVENT
END:VCALENDAR