BEGIN:VCALENDAR
VERSION:2.0
PRODID:-//Ibiza Fun Family - ECPv6.15.17.1//NONSGML v1.0//EN
CALSCALE:GREGORIAN
METHOD:PUBLISH
X-WR-CALNAME:Ibiza Fun Family
X-ORIGINAL-URL:https://ibizafunfamily.com
X-WR-CALDESC:Eventos para Ibiza Fun Family
REFRESH-INTERVAL;VALUE=DURATION:PT1H
X-Robots-Tag:noindex
X-PUBLISHED-TTL:PT1H
BEGIN:VTIMEZONE
TZID:Europe/Madrid
BEGIN:DAYLIGHT
TZOFFSETFROM:+0100
TZOFFSETTO:+0200
TZNAME:CEST
DTSTART:20230326T010000
END:DAYLIGHT
BEGIN:STANDARD
TZOFFSETFROM:+0200
TZOFFSETTO:+0100
TZNAME:CET
DTSTART:20231029T010000
END:STANDARD
BEGIN:DAYLIGHT
TZOFFSETFROM:+0100
TZOFFSETTO:+0200
TZNAME:CEST
DTSTART:20240331T010000
END:DAYLIGHT
BEGIN:STANDARD
TZOFFSETFROM:+0200
TZOFFSETTO:+0100
TZNAME:CET
DTSTART:20241027T010000
END:STANDARD
BEGIN:DAYLIGHT
TZOFFSETFROM:+0100
TZOFFSETTO:+0200
TZNAME:CEST
DTSTART:20250330T010000
END:DAYLIGHT
BEGIN:STANDARD
TZOFFSETFROM:+0200
TZOFFSETTO:+0100
TZNAME:CET
DTSTART:20251026T010000
END:STANDARD
END:VTIMEZONE
BEGIN:VEVENT
DTSTART;TZID=Europe/Madrid:20240315T170000
DTEND;TZID=Europe/Madrid:20240315T200000
DTSTAMP:20260423T184926
CREATED:20240308T194135Z
LAST-MODIFIED:20240313T222432Z
UID:21377-1710522000-1710532800@ibizafunfamily.com
SUMMARY:Inauguración Parque Puig d'en Valls
DESCRIPTION:El próximo Viernes 15 de Marzo a las 17h tendrá lugar la inauguración del nuevo parque situado en Puig d’en Valls\, La Plaza del Mestre Terrisser Frigoles\, ubicado en Camí Vell de Sant Mateu. \n17:00 a 20:00 juegos infantiles a cargo de Sueños de Ibiza \n¿Te vienes a disfrutarlo?
URL:https://ibizafunfamily.com/agenda/inauguracion-parque-puig-den-valls/
LOCATION:Plaza del Mestre Terriser Frigoles\, Cami Vell de Sant Mateu\, Puig d'en Valls\, Santa Eularia\, España
CATEGORIES:Fiesta,Instalación Lúdica
ATTACH;FMTTYPE=image/jpeg:https://ibizafunfamily.com/wp-content/uploads/2024/03/inauguracion-parque-puig-den-valls.jpeg
ORGANIZER;CN="Ajuntament de Santa Eul%C3%A0ria des Riu":MAILTO:alcaldia@santaeularia.com
END:VEVENT
END:VCALENDAR