BEGIN:VCALENDAR
VERSION:2.0
PRODID:-//Ibiza Fun Family - ECPv6.15.17.1//NONSGML v1.0//EN
CALSCALE:GREGORIAN
METHOD:PUBLISH
X-WR-CALNAME:Ibiza Fun Family
X-ORIGINAL-URL:https://ibizafunfamily.com
X-WR-CALDESC:Eventos para Ibiza Fun Family
REFRESH-INTERVAL;VALUE=DURATION:PT1H
X-Robots-Tag:noindex
X-PUBLISHED-TTL:PT1H
BEGIN:VTIMEZONE
TZID:Europe/Madrid
BEGIN:DAYLIGHT
TZOFFSETFROM:+0100
TZOFFSETTO:+0200
TZNAME:CEST
DTSTART:20230326T010000
END:DAYLIGHT
BEGIN:STANDARD
TZOFFSETFROM:+0200
TZOFFSETTO:+0100
TZNAME:CET
DTSTART:20231029T010000
END:STANDARD
BEGIN:DAYLIGHT
TZOFFSETFROM:+0100
TZOFFSETTO:+0200
TZNAME:CEST
DTSTART:20240331T010000
END:DAYLIGHT
BEGIN:STANDARD
TZOFFSETFROM:+0200
TZOFFSETTO:+0100
TZNAME:CET
DTSTART:20241027T010000
END:STANDARD
BEGIN:DAYLIGHT
TZOFFSETFROM:+0100
TZOFFSETTO:+0200
TZNAME:CEST
DTSTART:20250330T010000
END:DAYLIGHT
BEGIN:STANDARD
TZOFFSETFROM:+0200
TZOFFSETTO:+0100
TZNAME:CET
DTSTART:20251026T010000
END:STANDARD
END:VTIMEZONE
BEGIN:VEVENT
DTSTART;TZID=Europe/Madrid:20240102T170000
DTEND;TZID=Europe/Madrid:20240102T200000
DTSTAMP:20260423T115821
CREATED:20231209T212213Z
LAST-MODIFIED:20231209T212213Z
UID:19284-1704214800-1704225600@ibizafunfamily.com
SUMMARY:Musical Familiar\, taller de cartas y llegada del Paje Real
DESCRIPTION:Martes\, 2 de enero de 2024 \n17.00 h Musical familiar De ellos aprendí\, con los personajes de Disney más entrañables de todos los tiempos. 80 min. A cargo de la compañía  Gaudium Teatro. Información sobre las entradas al 971 80 15 98. \n17.00 h Taller de cartas a los reyes\, en la carpa de Sant Agustí. \n19.00 h Llegada del paje real y entrega de cartas\, en la carpa de Sant Agustí. Lo organiza el Centre Cultural Es Vedrà y el Grup Folklòric sa colla des Vedrà. \n\n				\n					\n						Ver\nprograma completo
URL:https://ibizafunfamily.com/agenda/musical-familiar-taller-de-cartas-y-llegada-del-paje-real/
LOCATION:Plaza de Sant Agustí\, Av. Sant Agustí\, Sant Josep de Sa Talaia\, islas baleares\, 07829\, España
ATTACH;FMTTYPE=image/jpeg:https://ibizafunfamily.com/wp-content/uploads/2023/12/festes-de-sant-josep.jpg
ORGANIZER;CN="Ajuntament de Sant Josep de Sa Talaia":MAILTO:alcaldia@santjosep.org
END:VEVENT
END:VCALENDAR