BEGIN:VCALENDAR
VERSION:2.0
PRODID:-//Ibiza Fun Family - ECPv6.15.17.1//NONSGML v1.0//EN
CALSCALE:GREGORIAN
METHOD:PUBLISH
X-WR-CALNAME:Ibiza Fun Family
X-ORIGINAL-URL:https://ibizafunfamily.com
X-WR-CALDESC:Eventos para Ibiza Fun Family
REFRESH-INTERVAL;VALUE=DURATION:PT1H
X-Robots-Tag:noindex
X-PUBLISHED-TTL:PT1H
BEGIN:VTIMEZONE
TZID:Europe/Madrid
BEGIN:DAYLIGHT
TZOFFSETFROM:+0100
TZOFFSETTO:+0200
TZNAME:CEST
DTSTART:20230326T010000
END:DAYLIGHT
BEGIN:STANDARD
TZOFFSETFROM:+0200
TZOFFSETTO:+0100
TZNAME:CET
DTSTART:20231029T010000
END:STANDARD
BEGIN:DAYLIGHT
TZOFFSETFROM:+0100
TZOFFSETTO:+0200
TZNAME:CEST
DTSTART:20240331T010000
END:DAYLIGHT
BEGIN:STANDARD
TZOFFSETFROM:+0200
TZOFFSETTO:+0100
TZNAME:CET
DTSTART:20241027T010000
END:STANDARD
BEGIN:DAYLIGHT
TZOFFSETFROM:+0100
TZOFFSETTO:+0200
TZNAME:CEST
DTSTART:20250330T010000
END:DAYLIGHT
BEGIN:STANDARD
TZOFFSETFROM:+0200
TZOFFSETTO:+0100
TZNAME:CET
DTSTART:20251026T010000
END:STANDARD
END:VTIMEZONE
BEGIN:VEVENT
DTSTART;TZID=Europe/Madrid:20240102T170000
DTEND;TZID=Europe/Madrid:20240102T200000
DTSTAMP:20260422T233331
CREATED:20231209T212213Z
LAST-MODIFIED:20231209T212213Z
UID:19284-1704214800-1704225600@ibizafunfamily.com
SUMMARY:Musical Familiar\, taller de cartas y llegada del Paje Real
DESCRIPTION:Martes\, 2 de enero de 2024 \n17.00 h Musical familiar De ellos aprendí\, con los personajes de Disney más entrañables de todos los tiempos. 80 min. A cargo de la compañía  Gaudium Teatro. Información sobre las entradas al 971 80 15 98. \n17.00 h Taller de cartas a los reyes\, en la carpa de Sant Agustí. \n19.00 h Llegada del paje real y entrega de cartas\, en la carpa de Sant Agustí. Lo organiza el Centre Cultural Es Vedrà y el Grup Folklòric sa colla des Vedrà. \n\n				\n					\n						Ver\nprograma completo
URL:https://ibizafunfamily.com/agenda/musical-familiar-taller-de-cartas-y-llegada-del-paje-real/
LOCATION:Plaza de Sant Agustí\, Av. Sant Agustí\, Sant Josep de Sa Talaia\, islas baleares\, 07829\, España
ATTACH;FMTTYPE=image/jpeg:https://ibizafunfamily.com/wp-content/uploads/2023/12/festes-de-sant-josep.jpg
ORGANIZER;CN="Ajuntament de Sant Josep de Sa Talaia":MAILTO:alcaldia@santjosep.org
END:VEVENT
BEGIN:VEVENT
DTSTART;TZID=Europe/Madrid:20240103T170000
DTEND;TZID=Europe/Madrid:20240103T190000
DTSTAMP:20260422T233331
CREATED:20231208T123054Z
LAST-MODIFIED:20231208T123552Z
UID:19163-1704301200-1704308400@ibizafunfamily.com
SUMMARY:Ciclo de cine infantil
DESCRIPTION:El Miércoles 3 de Enero de 2024 a las 17:00 en el Saló de Joan XXIII \nCiclo de cine infantil en catalán. Proyección de Arthur Christ-mas. Operación Regalo (2011)  entrada libre \nChocolatada y llegada del Paje Real \n\n				\n					\n						Ver\nprograma completo \n					\n				\n			  \n 
URL:https://ibizafunfamily.com/agenda/ciclo-de-cine-infantil/
LOCATION:Salón Joan XXII\, Can Jeroni\, Sant Josep de Sa Talaia\, Islas Baleares\, España
CATEGORIES:Cine
ATTACH;FMTTYPE=image/jpeg:https://ibizafunfamily.com/wp-content/uploads/2023/12/Nadal-a-Es-cubell.jpg
ORGANIZER;CN="AAVV Es Cubells":MAILTO:teredosmaris@gmail.com
END:VEVENT
BEGIN:VEVENT
DTSTART;TZID=Europe/Madrid:20240103T180000
DTEND;TZID=Europe/Madrid:20240103T203000
DTSTAMP:20260422T233331
CREATED:20231126T211831Z
LAST-MODIFIED:20240102T225745Z
UID:18748-1704304800-1704313800@ibizafunfamily.com
SUMMARY:Riuland\, llegada del Paje Real y merienda
DESCRIPTION:El Miércoles 3 de Enero de 2024 \n18:00 Taller de carta de los Reyes. Salón parroquial de Jesús \n19:00 Llegada del Paje real con los «sonodors » de la Colla de l’Horta\, salón Parroquial de Jesús \nChocolatada con «bescuit» \, sobrasada y vino elaborado en las fiestas del pueblo. \n\n				\n					\n						Ver programa completo
URL:https://ibizafunfamily.com/agenda/riuland-llegada-del-paje-real-y-merienda/
LOCATION:Centre Cultural de Jesús\, Carrer del Faisà\, 7\, Nuestra señora de Jesús\, islas baleares\, 07819\, España
CATEGORIES:Cuenta cuentos
ATTACH;FMTTYPE=image/jpeg:https://ibizafunfamily.com/wp-content/uploads/2023/11/programa-nadal-Santa-eularia.jpg
ORGANIZER;CN="Ajuntament de Santa Eul%C3%A0ria des Riu":MAILTO:alcaldia@santaeularia.com
END:VEVENT
END:VCALENDAR