BEGIN:VCALENDAR
VERSION:2.0
PRODID:-//Ibiza Fun Family - ECPv6.15.17.1//NONSGML v1.0//EN
CALSCALE:GREGORIAN
METHOD:PUBLISH
X-WR-CALNAME:Ibiza Fun Family
X-ORIGINAL-URL:https://ibizafunfamily.com
X-WR-CALDESC:Eventos para Ibiza Fun Family
REFRESH-INTERVAL;VALUE=DURATION:PT1H
X-Robots-Tag:noindex
X-PUBLISHED-TTL:PT1H
BEGIN:VTIMEZONE
TZID:Europe/Madrid
BEGIN:DAYLIGHT
TZOFFSETFROM:+0100
TZOFFSETTO:+0200
TZNAME:CEST
DTSTART:20220327T010000
END:DAYLIGHT
BEGIN:STANDARD
TZOFFSETFROM:+0200
TZOFFSETTO:+0100
TZNAME:CET
DTSTART:20221030T010000
END:STANDARD
BEGIN:DAYLIGHT
TZOFFSETFROM:+0100
TZOFFSETTO:+0200
TZNAME:CEST
DTSTART:20230326T010000
END:DAYLIGHT
BEGIN:STANDARD
TZOFFSETFROM:+0200
TZOFFSETTO:+0100
TZNAME:CET
DTSTART:20231029T010000
END:STANDARD
BEGIN:DAYLIGHT
TZOFFSETFROM:+0100
TZOFFSETTO:+0200
TZNAME:CEST
DTSTART:20240331T010000
END:DAYLIGHT
BEGIN:STANDARD
TZOFFSETFROM:+0200
TZOFFSETTO:+0100
TZNAME:CET
DTSTART:20241027T010000
END:STANDARD
END:VTIMEZONE
BEGIN:VEVENT
DTSTART;TZID=Europe/Madrid:20230216T170000
DTEND;TZID=Europe/Madrid:20230216T170000
DTSTAMP:20260420T030832
CREATED:20230208T124206Z
LAST-MODIFIED:20230208T124206Z
UID:10237-1676566800-1676566800@ibizafunfamily.com
SUMMARY:Les Illes com a protagonistes
DESCRIPTION:El próximo jueves 16 de Ferbereo a las 17:00h vía Facebook la biblioteca de Cala de Bou organiza un taller online \nInscripción previa por teléfono al 971 34 86 30 o por correo a biblioteca.caladebou@santjosep.org \nNo te lo pierdas \n\n				\n					\n						Teléfono\n					\n				\n			   \n\n				\n					\n						Correo electrónico
URL:https://ibizafunfamily.com/agenda/les-illes-com-a-protagonistes/
LOCATION:Online
CATEGORIES:Talleres
ATTACH;FMTTYPE=image/jpeg:https://ibizafunfamily.com/wp-content/uploads/2023/02/WhatsApp-Image-2023-02-01-at-13.53.22.jpeg
END:VEVENT
END:VCALENDAR