BEGIN:VCALENDAR
VERSION:2.0
PRODID:-//Ibiza Fun Family - ECPv6.15.17.1//NONSGML v1.0//EN
CALSCALE:GREGORIAN
METHOD:PUBLISH
X-WR-CALNAME:Ibiza Fun Family
X-ORIGINAL-URL:https://ibizafunfamily.com
X-WR-CALDESC:Eventos para Ibiza Fun Family
REFRESH-INTERVAL;VALUE=DURATION:PT1H
X-Robots-Tag:noindex
X-PUBLISHED-TTL:PT1H
BEGIN:VTIMEZONE
TZID:Europe/Madrid
BEGIN:DAYLIGHT
TZOFFSETFROM:+0100
TZOFFSETTO:+0200
TZNAME:CEST
DTSTART:20230326T010000
END:DAYLIGHT
BEGIN:STANDARD
TZOFFSETFROM:+0200
TZOFFSETTO:+0100
TZNAME:CET
DTSTART:20231029T010000
END:STANDARD
BEGIN:DAYLIGHT
TZOFFSETFROM:+0100
TZOFFSETTO:+0200
TZNAME:CEST
DTSTART:20240331T010000
END:DAYLIGHT
BEGIN:STANDARD
TZOFFSETFROM:+0200
TZOFFSETTO:+0100
TZNAME:CET
DTSTART:20241027T010000
END:STANDARD
BEGIN:DAYLIGHT
TZOFFSETFROM:+0100
TZOFFSETTO:+0200
TZNAME:CEST
DTSTART:20250330T010000
END:DAYLIGHT
BEGIN:STANDARD
TZOFFSETFROM:+0200
TZOFFSETTO:+0100
TZNAME:CET
DTSTART:20251026T010000
END:STANDARD
BEGIN:DAYLIGHT
TZOFFSETFROM:+0100
TZOFFSETTO:+0200
TZNAME:CEST
DTSTART:20260329T010000
END:DAYLIGHT
BEGIN:STANDARD
TZOFFSETFROM:+0200
TZOFFSETTO:+0100
TZNAME:CET
DTSTART:20261025T010000
END:STANDARD
END:VTIMEZONE
BEGIN:VEVENT
DTSTART;TZID=Europe/Madrid:20241122T170000
DTEND;TZID=Europe/Madrid:20250112T233000
DTSTAMP:20260424T095436
CREATED:20241129T223114Z
LAST-MODIFIED:20241210T000431Z
UID:27283-1732294800-1736724600@ibizafunfamily.com
SUMMARY:Feria de Navidad de Ibiza
DESCRIPTION:La Feria de Navidad vuelve a Ibiza y la podremos disfrutar desde el día 22 de Noviembre de 2024 hasta el 12 de Enero de 2025 \nAtracciones para todas las edades\, casetas con comida y bebidas \nAdemás todos los Martes y Miércoles (menos los festivos)\, todas las atracciones están al 50% de descuento por «El día del Niño» \nDiversión asegurada para los más pequeños y no tan pequeños. \nAbierto todos los días con actividades especiales \nHorarios:\nDe Lunes de Jueves de 17 a 23h\nFines de semana de 17 a 00:00h\nDomingos y Festivos a partir de las 11h\nDesde las 8 de la mañana todos los días disfruta de unos deliciosos churros con chocolate. \nTODOS LOS JUEVES DE 17:00 A 19:00 JORNADA INCLUSIVA CON REDUCCIÓN DEL IMPACTO VISUAL Y SONORO
URL:https://ibizafunfamily.com/agenda/feria-de-navidad-de-ibiza/
LOCATION:Feria de Navidad\, aparcamiento de la zona de Can Misses\, entre la des Cubells y lacalle de Albarca.\, Eivissa\, Islas Baleares\, 07800\, España
CATEGORIES:Feria
ATTACH;FMTTYPE=image/jpeg:https://ibizafunfamily.com/wp-content/uploads/2024/11/WhatsApp-Image-2024-11-29-at-23.21.55.jpeg
END:VEVENT
BEGIN:VEVENT
DTSTART;TZID=Europe/Madrid:20241208T110000
DTEND;TZID=Europe/Madrid:20241208T230000
DTSTAMP:20260424T095436
CREATED:20241129T233011Z
LAST-MODIFIED:20241129T233011Z
UID:27359-1733655600-1733698800@ibizafunfamily.com
SUMMARY:Hinchables\, Espectáculo\, Photocall en Ibiza en Navidad
DESCRIPTION:El próximo 8 de Diciembre nos esperan diferentes actividades en el programa de Navidad de la Ciudad de Ibiza \nEn Vara de Rey\nDe 11 a 14h y de 17 a 20:30h Castillo hinchables\nA las 12h «Zas-Cata-Plas» espectáculo de Magia con Sarapín en la carpa\nDe 19 a 20:30 Photocall para toda la familia con personajes mágicos gigantes \nEn Can’ Escandell\nDe 16 a 20h Photocall Navideño decorado con globos para sesión de fotos para toda la familia \nEn esta web sólo mostramos eventos para familias y niños\, puedes consultar el programa completo de fiestas en el siguiente enlace\n\n				\n					\n						Ver programa completo de fiestas
URL:https://ibizafunfamily.com/agenda/hinchables-espectaculo-photocall-ibiza-en-navidad-2/
LOCATION:Passeig de S’Alamera\, Vara de Rey\, Ibiza\, Passeig de s'Alamera\, Vara de Rey\, Eivissa\, Islas Baleares\, 07800\, España
CATEGORIES:Fiesta,Juegos,Magia,Pasa calles
ATTACH;FMTTYPE=image/jpeg:https://ibizafunfamily.com/wp-content/uploads/2024/11/encendido-de-luces.jpg
END:VEVENT
BEGIN:VEVENT
DTSTART;TZID=Europe/Madrid:20241208T120000
DTEND;TZID=Europe/Madrid:20241208T170000
DTSTAMP:20260424T095436
CREATED:20241125T230912Z
LAST-MODIFIED:20241125T230912Z
UID:27049-1733659200-1733677200@ibizafunfamily.com
SUMMARY:Operación Santa
DESCRIPTION:Los días Viernes 6 de Diciembre a las 12:00 h y a las 17:00h\, Sábado 7 de Diciembre a las 17:00h\, Domingo 08 de Diciembre a las 12:00h y a las 17:00h en la Sala SA VINYA Ctra San Jose Km 10 \nOperación Santa \nUn caos navideño que solo los duendes pueden resolver En el Polo Norte\, los duendes de Santa están listos para una nueva Navidad\, pero las cosas se complican cuando el malvado Lexter regresa con un plan para arruinar las fiestas. Afortunadamente\, nuestros aventureros duendes estarán dispuestos a darlo todo para salvar la Navidad. ¿Podrán superar los retos y garantizar que los regalos lleguen a tiempo? ¡Una historia llena de canciones\, diversión y mucho espíritu navideño! \nVen a disfrutar de la música\, la magia y el espíritu navideño con el espectáculo musical en Ibiza que no puede faltar en Navidades. \nPRECIOS: \nAdulto 20 € \nNiños 18 € ( Se considera niño hasta 12 años) \nLos niños que no ocupen asiento ( esto quiere decir que permanecerán en el regazo de su tutor durante toda la función) menores de 3 años \, no pagan entrada. \nCONDICIONES GENERALES: \n\nUna vez adquirida la entrada no se podrá cambiar ni devolver su importe.\nLa Organización se reserva el derecho a alterar o modificar el programa de la función\nSe ruega máxima puntualidad.\nAl entrar\, el público puede estar sujeto a un registro según la ley. No está permitida la entrada de objetos que puedan ser considerados peligroso por la organización.\nUna vez empezado el espectáculo\, no se permitirá la entrada a la Sala\, excepto en la pausa establecida\, si las normas no indicasen lo contrario.\nEstá terminantemente prohibido fumar en todo el recinto\nEn atención a los artistas y al público en general\, se ruega evitar cualquier tipo de ruido\, por lo tanto han de desconectar los móviles o cualquier aparato que pueda distraer la atención durante la función.\nQueda reservado el derecho de admisión.
URL:https://ibizafunfamily.com/agenda/27044-3/
LOCATION:Sa Vinya\, carretera de Sant Josep\, km. 10\, Sant Josep de Sa Talaia\, Islas Baleares\, 07830\, España
CATEGORIES:Espectáculo
ATTACH;FMTTYPE=image/jpeg:https://ibizafunfamily.com/wp-content/uploads/2024/11/OPERACION-SANTA.jpg
END:VEVENT
END:VCALENDAR