BEGIN:VCALENDAR
VERSION:2.0
PRODID:-//Ibiza Fun Family - ECPv6.15.17.1//NONSGML v1.0//EN
CALSCALE:GREGORIAN
METHOD:PUBLISH
X-ORIGINAL-URL:https://ibizafunfamily.com
X-WR-CALDESC:Eventos para Ibiza Fun Family
REFRESH-INTERVAL;VALUE=DURATION:PT1H
X-Robots-Tag:noindex
X-PUBLISHED-TTL:PT1H
BEGIN:VTIMEZONE
TZID:Europe/Madrid
BEGIN:DAYLIGHT
TZOFFSETFROM:+0100
TZOFFSETTO:+0200
TZNAME:CEST
DTSTART:20230326T010000
END:DAYLIGHT
BEGIN:STANDARD
TZOFFSETFROM:+0200
TZOFFSETTO:+0100
TZNAME:CET
DTSTART:20231029T010000
END:STANDARD
BEGIN:DAYLIGHT
TZOFFSETFROM:+0100
TZOFFSETTO:+0200
TZNAME:CEST
DTSTART:20240331T010000
END:DAYLIGHT
BEGIN:STANDARD
TZOFFSETFROM:+0200
TZOFFSETTO:+0100
TZNAME:CET
DTSTART:20241027T010000
END:STANDARD
BEGIN:DAYLIGHT
TZOFFSETFROM:+0100
TZOFFSETTO:+0200
TZNAME:CEST
DTSTART:20250330T010000
END:DAYLIGHT
BEGIN:STANDARD
TZOFFSETFROM:+0200
TZOFFSETTO:+0100
TZNAME:CET
DTSTART:20251026T010000
END:STANDARD
BEGIN:DAYLIGHT
TZOFFSETFROM:+0100
TZOFFSETTO:+0200
TZNAME:CEST
DTSTART:20260329T010000
END:DAYLIGHT
BEGIN:STANDARD
TZOFFSETFROM:+0200
TZOFFSETTO:+0100
TZNAME:CET
DTSTART:20261025T010000
END:STANDARD
END:VTIMEZONE
BEGIN:VEVENT
DTSTART;TZID=Europe/Madrid:20241122T170000
DTEND;TZID=Europe/Madrid:20250112T233000
DTSTAMP:20260424T124048
CREATED:20241129T223114Z
LAST-MODIFIED:20241210T000431Z
UID:27283-1732294800-1736724600@ibizafunfamily.com
SUMMARY:Feria de Navidad de Ibiza
DESCRIPTION:La Feria de Navidad vuelve a Ibiza y la podremos disfrutar desde el día 22 de Noviembre de 2024 hasta el 12 de Enero de 2025 \nAtracciones para todas las edades\, casetas con comida y bebidas \nAdemás todos los Martes y Miércoles (menos los festivos)\, todas las atracciones están al 50% de descuento por «El día del Niño» \nDiversión asegurada para los más pequeños y no tan pequeños. \nAbierto todos los días con actividades especiales \nHorarios:\nDe Lunes de Jueves de 17 a 23h\nFines de semana de 17 a 00:00h\nDomingos y Festivos a partir de las 11h\nDesde las 8 de la mañana todos los días disfruta de unos deliciosos churros con chocolate. \nTODOS LOS JUEVES DE 17:00 A 19:00 JORNADA INCLUSIVA CON REDUCCIÓN DEL IMPACTO VISUAL Y SONORO
URL:https://ibizafunfamily.com/agenda/feria-de-navidad-de-ibiza/
LOCATION:Feria de Navidad\, aparcamiento de la zona de Can Misses\, entre la des Cubells y lacalle de Albarca.\, Eivissa\, Islas Baleares\, 07800\, España
CATEGORIES:Feria
ATTACH;FMTTYPE=image/jpeg:https://ibizafunfamily.com/wp-content/uploads/2024/11/WhatsApp-Image-2024-11-29-at-23.21.55.jpeg
END:VEVENT
BEGIN:VEVENT
DTSTART;TZID=Europe/Madrid:20241129T180000
DTEND;TZID=Europe/Madrid:20241129T180000
DTSTAMP:20260424T124048
CREATED:20241119T223134Z
LAST-MODIFIED:20241119T223148Z
UID:26915-1732903200-1732903200@ibizafunfamily.com
SUMMARY:Encendida de Luces con Papa Noel
DESCRIPTION:El Viernes 29 de Noviembre de 2024 a las 18:00 en Capricho \nEncendido de luces \nEl Tradicional encendido de luces con Papa Noel\, churros y chocolate para los más pequeños \nTrae tu carta para papa Noel y hazte una foto con Santa
URL:https://ibizafunfamily.com/agenda/encendida-de-luces-con-papa-noel/
LOCATION:Capricho Ibiza\, Santa Eulària\, C/ Mariano Riquer Wallis\, n10\, Santa Eulària des Riu\, Islas Baleares\, 07840\, España
ATTACH;FMTTYPE=image/jpeg:https://ibizafunfamily.com/wp-content/uploads/2024/11/vive-una-navidad-diferente.jpg
ORGANIZER;CN="Capricho Ibiza%2C Santa Eul%C3%A0ria":MAILTO:pidetu@caprichoibiza.com
END:VEVENT
BEGIN:VEVENT
DTSTART;TZID=Europe/Madrid:20241129T183000
DTEND;TZID=Europe/Madrid:20241129T183000
DTSTAMP:20260424T124048
CREATED:20241108T215437Z
LAST-MODIFIED:20241108T215437Z
UID:26677-1732905000-1732905000@ibizafunfamily.com
SUMMARY:Encendida de Luces de Navidad en Sant Joan
DESCRIPTION:Elk 29 de Noviembre de 2024 a las 18:30 en la Plaza de la Iglesia de Sant Joan de Labritja \nJuegos infantiles \nAperitivos tradicionales \nMúsica con Esta me la sé \n  \n 
URL:https://ibizafunfamily.com/agenda/encendida-de-luces-de-navidad-en-sant-joan/
LOCATION:Plaza de Sant Joan
ATTACH;FMTTYPE=image/jpeg:https://ibizafunfamily.com/wp-content/uploads/2024/11/luces-sant-juan.jpg
END:VEVENT
END:VCALENDAR