BEGIN:VCALENDAR
VERSION:2.0
PRODID:-//Ibiza Fun Family - ECPv6.15.17.1//NONSGML v1.0//EN
CALSCALE:GREGORIAN
METHOD:PUBLISH
X-WR-CALNAME:Ibiza Fun Family
X-ORIGINAL-URL:https://ibizafunfamily.com
X-WR-CALDESC:Eventos para Ibiza Fun Family
REFRESH-INTERVAL;VALUE=DURATION:PT1H
X-Robots-Tag:noindex
X-PUBLISHED-TTL:PT1H
BEGIN:VTIMEZONE
TZID:Europe/Madrid
BEGIN:DAYLIGHT
TZOFFSETFROM:+0100
TZOFFSETTO:+0200
TZNAME:CEST
DTSTART:20220327T010000
END:DAYLIGHT
BEGIN:STANDARD
TZOFFSETFROM:+0200
TZOFFSETTO:+0100
TZNAME:CET
DTSTART:20221030T010000
END:STANDARD
BEGIN:DAYLIGHT
TZOFFSETFROM:+0100
TZOFFSETTO:+0200
TZNAME:CEST
DTSTART:20230326T010000
END:DAYLIGHT
BEGIN:STANDARD
TZOFFSETFROM:+0200
TZOFFSETTO:+0100
TZNAME:CET
DTSTART:20231029T010000
END:STANDARD
BEGIN:DAYLIGHT
TZOFFSETFROM:+0100
TZOFFSETTO:+0200
TZNAME:CEST
DTSTART:20240331T010000
END:DAYLIGHT
BEGIN:STANDARD
TZOFFSETFROM:+0200
TZOFFSETTO:+0100
TZNAME:CET
DTSTART:20241027T010000
END:STANDARD
END:VTIMEZONE
BEGIN:VEVENT
DTSTART;TZID=Europe/Madrid:20230930T170000
DTEND;TZID=Europe/Madrid:20230930T183000
DTSTAMP:20260424T143107
CREATED:20230918T220516Z
LAST-MODIFIED:20230918T220555Z
UID:16277-1696093200-1696098600@ibizafunfamily.com
SUMMARY:Taller familiar en la naturaleza
DESCRIPTION:El sábado 30 de Septiembre de 2023 de 17:00 a 18:30 en las Cuadras Can Mayans ( Santa Gertrudis) \nTaller de acuarelas rasgadas con un precio de 25€ niño+ adultos o 15€ niño o 15€ adulto \nTaller familiar en la naturaleza para remover tus sentidos y emociones \nFamilias con niños a partir de 5 años. \nImpartido por Isabel Muñoz ( Coach educativo y arteterapeuta) \nReserva plaza en Espai Momo Ibiza o al 657210726 \n\n				\n					\n						Whatsapp
URL:https://ibizafunfamily.com/agenda/taller-familiar-en-la-naturaleza/
LOCATION:Cuadras Can Mayans\, Ctra. de Santa Gertrudis a Sant Llorenç\, km 3\, Santa Gertrudis de Fruitera\, islas baleares\, 07812\, España
CATEGORIES:Talleres
ATTACH;FMTTYPE=image/jpeg:https://ibizafunfamily.com/wp-content/uploads/2023/09/espaqi-momo.jpg
END:VEVENT
END:VCALENDAR