BEGIN:VCALENDAR
VERSION:2.0
PRODID:-//Ibiza Fun Family - ECPv6.15.17.1//NONSGML v1.0//EN
CALSCALE:GREGORIAN
METHOD:PUBLISH
X-WR-CALNAME:Ibiza Fun Family
X-ORIGINAL-URL:https://ibizafunfamily.com
X-WR-CALDESC:Eventos para Ibiza Fun Family
REFRESH-INTERVAL;VALUE=DURATION:PT1H
X-Robots-Tag:noindex
X-PUBLISHED-TTL:PT1H
BEGIN:VTIMEZONE
TZID:Europe/Madrid
BEGIN:DAYLIGHT
TZOFFSETFROM:+0100
TZOFFSETTO:+0200
TZNAME:CEST
DTSTART:20210328T010000
END:DAYLIGHT
BEGIN:STANDARD
TZOFFSETFROM:+0200
TZOFFSETTO:+0100
TZNAME:CET
DTSTART:20211031T010000
END:STANDARD
BEGIN:DAYLIGHT
TZOFFSETFROM:+0100
TZOFFSETTO:+0200
TZNAME:CEST
DTSTART:20220327T010000
END:DAYLIGHT
BEGIN:STANDARD
TZOFFSETFROM:+0200
TZOFFSETTO:+0100
TZNAME:CET
DTSTART:20221030T010000
END:STANDARD
BEGIN:DAYLIGHT
TZOFFSETFROM:+0100
TZOFFSETTO:+0200
TZNAME:CEST
DTSTART:20230326T010000
END:DAYLIGHT
BEGIN:STANDARD
TZOFFSETFROM:+0200
TZOFFSETTO:+0100
TZNAME:CET
DTSTART:20231029T010000
END:STANDARD
END:VTIMEZONE
BEGIN:VEVENT
DTSTART;TZID=Europe/Madrid:20221111T180000
DTEND;TZID=Europe/Madrid:20221111T193000
DTSTAMP:20260423T054522
CREATED:20221028T215533Z
LAST-MODIFIED:20221028T215533Z
UID:7786-1668189600-1668195000@ibizafunfamily.com
SUMMARY:Taller de Creación de Historias
DESCRIPTION:El Viernes 11 de Noviembre de 18:00h a 19:30h en la Biblioteca Pública Insular de Ibiza para niños y niñas de 6 a 12 años. \nTaller dirigido por Monma Mingot \nPlazas limitadas. Tenéis que inscribiros con antelación. \n971390887 \nwww.bibliotecapublicas.eseivissa
URL:https://ibizafunfamily.com/agenda/taller-de-creacion-de-historias/
LOCATION:Biblioteca Pública Insular de Ibiza\, C. Ernest Ehrenfeld\, s/n Edif. Polivalente Cas Serres\, Eivissa\, Islas Baleares\, 07800\, España
CATEGORIES:Talleres
ATTACH;FMTTYPE=image/jpeg:https://ibizafunfamily.com/wp-content/uploads/2022/10/c51f00f3-d20e-4ec7-b02f-1fd8cc521370-e1666994082224.jpg
ORGANIZER;CN="Consell d' Eivissa":MAILTO:oamr@conselldeivissa.es
END:VEVENT
END:VCALENDAR