BEGIN:VCALENDAR
VERSION:2.0
PRODID:-//Ibiza Fun Family - ECPv6.15.17.1//NONSGML v1.0//EN
CALSCALE:GREGORIAN
METHOD:PUBLISH
X-ORIGINAL-URL:https://ibizafunfamily.com
X-WR-CALDESC:Eventos para Ibiza Fun Family
REFRESH-INTERVAL;VALUE=DURATION:PT1H
X-Robots-Tag:noindex
X-PUBLISHED-TTL:PT1H
BEGIN:VTIMEZONE
TZID:Europe/Madrid
BEGIN:DAYLIGHT
TZOFFSETFROM:+0100
TZOFFSETTO:+0200
TZNAME:CEST
DTSTART:20210328T010000
END:DAYLIGHT
BEGIN:STANDARD
TZOFFSETFROM:+0200
TZOFFSETTO:+0100
TZNAME:CET
DTSTART:20211031T010000
END:STANDARD
BEGIN:DAYLIGHT
TZOFFSETFROM:+0100
TZOFFSETTO:+0200
TZNAME:CEST
DTSTART:20220327T010000
END:DAYLIGHT
BEGIN:STANDARD
TZOFFSETFROM:+0200
TZOFFSETTO:+0100
TZNAME:CET
DTSTART:20221030T010000
END:STANDARD
BEGIN:DAYLIGHT
TZOFFSETFROM:+0100
TZOFFSETTO:+0200
TZNAME:CEST
DTSTART:20230326T010000
END:DAYLIGHT
BEGIN:STANDARD
TZOFFSETFROM:+0200
TZOFFSETTO:+0100
TZNAME:CET
DTSTART:20231029T010000
END:STANDARD
END:VTIMEZONE
BEGIN:VEVENT
DTSTART;TZID=Europe/Madrid:20221105T180000
DTEND;TZID=Europe/Madrid:20221105T180000
DTSTAMP:20260423T112519
CREATED:20221031T184225Z
LAST-MODIFIED:20221031T184225Z
UID:7837-1667671200-1667671200@ibizafunfamily.com
SUMMARY:Taller de Astronomia- A la tardor en Sant Jordi
DESCRIPTION:El 5 de Noviembre a las 18:00  en el Ceip Sant Jordi. \nTaller de Antonomia a cargo de Teresa Marí. Constelaciones y mitología. Maximo de participantes 15 de entre 4 y 12 años. \nIncripción previa sesbarsetes@gmail.com \n 
URL:https://ibizafunfamily.com/agenda/taller-de-astronomia-a-la-tardor-en-sant-jordi/
LOCATION:CEIP Sant Jordi\, s/n\, Carretera de l'Aeroport\, Sant Jordi de ses Salines\, islas baleares\, 07817\, España
CATEGORIES:Talleres
ATTACH;FMTTYPE=image/jpeg:https://ibizafunfamily.com/wp-content/uploads/2022/10/63fbe599-b2c9-4b26-a4e4-dd73d68afb26-e1667240294567.jpg
ORGANIZER;CN="Ses Barsetes Sant Jordi":MAILTO:sesbarsetes@gmail.com
END:VEVENT
END:VCALENDAR