BEGIN:VCALENDAR
VERSION:2.0
PRODID:-//Ibiza Fun Family - ECPv6.15.17.1//NONSGML v1.0//EN
CALSCALE:GREGORIAN
METHOD:PUBLISH
X-WR-CALNAME:Ibiza Fun Family
X-ORIGINAL-URL:https://ibizafunfamily.com
X-WR-CALDESC:Eventos para Ibiza Fun Family
REFRESH-INTERVAL;VALUE=DURATION:PT1H
X-Robots-Tag:noindex
X-PUBLISHED-TTL:PT1H
BEGIN:VTIMEZONE
TZID:Europe/Madrid
BEGIN:DAYLIGHT
TZOFFSETFROM:+0100
TZOFFSETTO:+0200
TZNAME:CEST
DTSTART:20210328T010000
END:DAYLIGHT
BEGIN:STANDARD
TZOFFSETFROM:+0200
TZOFFSETTO:+0100
TZNAME:CET
DTSTART:20211031T010000
END:STANDARD
BEGIN:DAYLIGHT
TZOFFSETFROM:+0100
TZOFFSETTO:+0200
TZNAME:CEST
DTSTART:20220327T010000
END:DAYLIGHT
BEGIN:STANDARD
TZOFFSETFROM:+0200
TZOFFSETTO:+0100
TZNAME:CET
DTSTART:20221030T010000
END:STANDARD
BEGIN:DAYLIGHT
TZOFFSETFROM:+0100
TZOFFSETTO:+0200
TZNAME:CEST
DTSTART:20230326T010000
END:DAYLIGHT
BEGIN:STANDARD
TZOFFSETFROM:+0200
TZOFFSETTO:+0100
TZNAME:CET
DTSTART:20231029T010000
END:STANDARD
END:VTIMEZONE
BEGIN:VEVENT
DTSTART;TZID=Europe/Madrid:20221111T180000
DTEND;TZID=Europe/Madrid:20221111T200000
DTSTAMP:20260423T043631
CREATED:20220926T073624Z
LAST-MODIFIED:20220926T073644Z
UID:6611-1668189600-1668196800@ibizafunfamily.com
SUMMARY:Taller de dibujo Manga
DESCRIPTION:El 11 de Noviembre de 18:00 a 20:00 horas tendremos un taller de dibujo Manga  a cargo de Francisco Garcia en la Biblioteca Municipal de Sant Antonio de Portmany. \nEl taller esta dirigido a niños y niñas de más de 10 años de edad. \nLas plazas son limitadas y las inscripciones gratuitas. \nAprende a dibujar el cuerpo \n 
URL:https://ibizafunfamily.com/agenda/taller-de-dibujo-manga-4/
LOCATION:Biblioteca Municipal de Sant Antoni\, C/ Cervantes\, n25\, Sant Antoni de Portmany\, Islas Baleares\, 07820\, España
CATEGORIES:Dibujo,Talleres
ATTACH;FMTTYPE=image/jpeg:https://ibizafunfamily.com/wp-content/uploads/2022/09/manga-e1664177343713.jpg
END:VEVENT
BEGIN:VEVENT
DTSTART;TZID=Europe/Madrid:20221126T170000
DTEND;TZID=Europe/Madrid:20221126T213000
DTSTAMP:20260423T043631
CREATED:20221103T160407Z
LAST-MODIFIED:20221103T160407Z
UID:7909-1669482000-1669498200@ibizafunfamily.com
SUMMARY:Diada Japonesa C19
DESCRIPTION:El Sábado 26 de Noviembre de 17:00 a 22:00 horas \nZona de video juegos 17-21 \nTAller de dibujo manga 17 a 21 \npodcast\, superculturafreak chow 17:30 a 18:30 \nProyecciones anime y otaquiz kahoot edition 18:45 \nPresentación y Q&A de Inés castillo- milk way ediciones 19:00 \nConsurso de Cosplay 20:30 \n  \n 
URL:https://ibizafunfamily.com/agenda/diada-japonesa-c19/
LOCATION:Centre de Creación Joven C19\, C/ Castilla\, n19\, Eivissa\, Islas Baleares\, 07800\, España
CATEGORIES:Talleres
ATTACH;FMTTYPE=image/jpeg:https://ibizafunfamily.com/wp-content/uploads/2022/11/caa353dc-76b6-477f-b6fc-6123bfa00feb.jpg
ORGANIZER;CN="Centre de Creaci%C3%B3n Joven C19":MAILTO:joventut@eivissa.es
END:VEVENT
END:VCALENDAR