BEGIN:VCALENDAR
VERSION:2.0
PRODID:-//Ibiza Fun Family - ECPv6.15.17.1//NONSGML v1.0//EN
CALSCALE:GREGORIAN
METHOD:PUBLISH
X-ORIGINAL-URL:https://ibizafunfamily.com
X-WR-CALDESC:Eventos para Ibiza Fun Family
REFRESH-INTERVAL;VALUE=DURATION:PT1H
X-Robots-Tag:noindex
X-PUBLISHED-TTL:PT1H
BEGIN:VTIMEZONE
TZID:Europe/Madrid
BEGIN:DAYLIGHT
TZOFFSETFROM:+0100
TZOFFSETTO:+0200
TZNAME:CEST
DTSTART:20220327T010000
END:DAYLIGHT
BEGIN:STANDARD
TZOFFSETFROM:+0200
TZOFFSETTO:+0100
TZNAME:CET
DTSTART:20221030T010000
END:STANDARD
BEGIN:DAYLIGHT
TZOFFSETFROM:+0100
TZOFFSETTO:+0200
TZNAME:CEST
DTSTART:20230326T010000
END:DAYLIGHT
BEGIN:STANDARD
TZOFFSETFROM:+0200
TZOFFSETTO:+0100
TZNAME:CET
DTSTART:20231029T010000
END:STANDARD
BEGIN:DAYLIGHT
TZOFFSETFROM:+0100
TZOFFSETTO:+0200
TZNAME:CEST
DTSTART:20240331T010000
END:DAYLIGHT
BEGIN:STANDARD
TZOFFSETFROM:+0200
TZOFFSETTO:+0100
TZNAME:CET
DTSTART:20241027T010000
END:STANDARD
END:VTIMEZONE
BEGIN:VEVENT
DTSTART;TZID=Europe/Madrid:20231222T160000
DTEND;TZID=Europe/Madrid:20231222T193000
DTSTAMP:20260423T012035
CREATED:20231124T232816Z
LAST-MODIFIED:20231124T232816Z
UID:18729-1703260800-1703273400@ibizafunfamily.com
SUMMARY:Papa Noel y el Mago Albert
DESCRIPTION:El Viernes 22 de Diciembre de 2023 \n16:00 Visita de Papa Noel en Jesús \n18:00 Riuland » La Màgia del Nadal » con el Mago Albert y visita de Papa Noel en el Centro Cultural de Jesús entrada gratuita \n\n				\n					\n						Ver\nprograma completo
URL:https://ibizafunfamily.com/agenda/papa-noel-y-el-mago-albert/
LOCATION:Centre Cultural de Jesús\, Carrer del Faisà\, 7\, Nuestra señora de Jesús\, islas baleares\, 07819\, España
CATEGORIES:Magia
ATTACH;FMTTYPE=image/jpeg:https://ibizafunfamily.com/wp-content/uploads/2023/11/programa-nadal-Santa-eularia.jpg
ORGANIZER;CN="Ajuntament de Santa Eul%C3%A0ria des Riu":MAILTO:alcaldia@santaeularia.com
END:VEVENT
END:VCALENDAR