BEGIN:VCALENDAR
VERSION:2.0
PRODID:-//Ibiza Fun Family - ECPv6.15.17.1//NONSGML v1.0//EN
CALSCALE:GREGORIAN
METHOD:PUBLISH
X-ORIGINAL-URL:https://ibizafunfamily.com
X-WR-CALDESC:Eventos para Ibiza Fun Family
REFRESH-INTERVAL;VALUE=DURATION:PT1H
X-Robots-Tag:noindex
X-PUBLISHED-TTL:PT1H
BEGIN:VTIMEZONE
TZID:Europe/Madrid
BEGIN:DAYLIGHT
TZOFFSETFROM:+0100
TZOFFSETTO:+0200
TZNAME:CEST
DTSTART:20210328T010000
END:DAYLIGHT
BEGIN:STANDARD
TZOFFSETFROM:+0200
TZOFFSETTO:+0100
TZNAME:CET
DTSTART:20211031T010000
END:STANDARD
BEGIN:DAYLIGHT
TZOFFSETFROM:+0100
TZOFFSETTO:+0200
TZNAME:CEST
DTSTART:20220327T010000
END:DAYLIGHT
BEGIN:STANDARD
TZOFFSETFROM:+0200
TZOFFSETTO:+0100
TZNAME:CET
DTSTART:20221030T010000
END:STANDARD
BEGIN:DAYLIGHT
TZOFFSETFROM:+0100
TZOFFSETTO:+0200
TZNAME:CEST
DTSTART:20230326T010000
END:DAYLIGHT
BEGIN:STANDARD
TZOFFSETFROM:+0200
TZOFFSETTO:+0100
TZNAME:CET
DTSTART:20231029T010000
END:STANDARD
END:VTIMEZONE
BEGIN:VEVENT
DTSTART;VALUE=DATE:20221217
DTEND;VALUE=DATE:20221218
DTSTAMP:20260425T233733
CREATED:20221124T110233Z
LAST-MODIFIED:20221124T110233Z
UID:8542-1671235200-1671321599@ibizafunfamily.com
SUMMARY:La Mágia de la Navidad con el Mago Albert
DESCRIPTION:El Sábado 17 de Diciembre en el Paseo de las fuentes en Sant Antonio \, la magia de la Navidad con el Mago Albert. \nSorteo de la Asociación de Comerciantes de Sant Antonio\, \n5 premios de 200€ ( en vales de compras) \n*Participa en los sorteos al realizar tus compras en los comercios asociados. \nHaciendo algo tan sencillo como comprar en las tiendas de Sant Antonio ayudas a dar vida\, actividad y bienestar a nuestro pueblo. \n@comerciants.sant.antoni \n 
URL:https://ibizafunfamily.com/agenda/la-magia-de-la-navidad-con-el-mago-albert/
LOCATION:Passeig de Ses Fonts\, Passeig de ses fonts\, Sant Antoni de Portmany\, Islas Baleares\, 07820\, España
CATEGORIES:Magia
ATTACH;FMTTYPE=image/jpeg:https://ibizafunfamily.com/wp-content/uploads/2022/11/edf2dbca-5676-403f-ba54-e7e10202c79f-e1669286884533.jpg
END:VEVENT
END:VCALENDAR