BEGIN:VCALENDAR
VERSION:2.0
PRODID:-//Ibiza Fun Family - ECPv6.15.17.1//NONSGML v1.0//EN
CALSCALE:GREGORIAN
METHOD:PUBLISH
X-WR-CALNAME:Ibiza Fun Family
X-ORIGINAL-URL:https://ibizafunfamily.com
X-WR-CALDESC:Eventos para Ibiza Fun Family
REFRESH-INTERVAL;VALUE=DURATION:PT1H
X-Robots-Tag:noindex
X-PUBLISHED-TTL:PT1H
BEGIN:VTIMEZONE
TZID:Europe/Madrid
BEGIN:DAYLIGHT
TZOFFSETFROM:+0100
TZOFFSETTO:+0200
TZNAME:CEST
DTSTART:20210328T010000
END:DAYLIGHT
BEGIN:STANDARD
TZOFFSETFROM:+0200
TZOFFSETTO:+0100
TZNAME:CET
DTSTART:20211031T010000
END:STANDARD
BEGIN:DAYLIGHT
TZOFFSETFROM:+0100
TZOFFSETTO:+0200
TZNAME:CEST
DTSTART:20220327T010000
END:DAYLIGHT
BEGIN:STANDARD
TZOFFSETFROM:+0200
TZOFFSETTO:+0100
TZNAME:CET
DTSTART:20221030T010000
END:STANDARD
BEGIN:DAYLIGHT
TZOFFSETFROM:+0100
TZOFFSETTO:+0200
TZNAME:CEST
DTSTART:20230326T010000
END:DAYLIGHT
BEGIN:STANDARD
TZOFFSETFROM:+0200
TZOFFSETTO:+0100
TZNAME:CET
DTSTART:20231029T010000
END:STANDARD
END:VTIMEZONE
BEGIN:VEVENT
DTSTART;TZID=Europe/Madrid:20220814T110000
DTEND;TZID=Europe/Madrid:20220814T200000
DTSTAMP:20260426T061746
CREATED:20220810T083828Z
LAST-MODIFIED:20220810T123949Z
UID:5002-1660474800-1660507200@ibizafunfamily.com
SUMMARY:Fiestas de Cala Llonga
DESCRIPTION:Fiestas de Cala Llonga del 11 al 27 de Agosto 2022 \nEl próximo Domingo 14 de Agosto\, de 11:00h a 14:00h Castillos de Arena y a las 19:00h Show infantil con el Mago Albert \nOs esperamos \nEn esta web compartimos eventos destinados para familias y niños\, si queréis ver el programa completo de fiestas os dejamos enlace en el siguiente botón \n\n				\n					\n						Ver programa completo de fiestas\n					\n				\n			  \n  \n 
URL:https://ibizafunfamily.com/agenda/fiestas-de-cala-llonga/
LOCATION:Playa Cala Llonga\, Carrer Vall des Roncal\, Cala Llonga\, islas baleares\, 07849\, España
CATEGORIES:Baile,Cine,Circo,Concierto,Fiesta,Magia,Pasa calles
ATTACH;FMTTYPE=image/jpeg:https://ibizafunfamily.com/wp-content/uploads/2022/08/2d9503b8-e335-4852-8b11-fca73c86537c-e1660127393537.jpg
END:VEVENT
END:VCALENDAR