BEGIN:VCALENDAR
VERSION:2.0
PRODID:-//Ibiza Fun Family - ECPv6.15.17.1//NONSGML v1.0//EN
CALSCALE:GREGORIAN
METHOD:PUBLISH
X-WR-CALNAME:Ibiza Fun Family
X-ORIGINAL-URL:https://ibizafunfamily.com
X-WR-CALDESC:Eventos para Ibiza Fun Family
REFRESH-INTERVAL;VALUE=DURATION:PT1H
X-Robots-Tag:noindex
X-PUBLISHED-TTL:PT1H
BEGIN:VTIMEZONE
TZID:Europe/Madrid
BEGIN:DAYLIGHT
TZOFFSETFROM:+0100
TZOFFSETTO:+0200
TZNAME:CEST
DTSTART:20220327T010000
END:DAYLIGHT
BEGIN:STANDARD
TZOFFSETFROM:+0200
TZOFFSETTO:+0100
TZNAME:CET
DTSTART:20221030T010000
END:STANDARD
BEGIN:DAYLIGHT
TZOFFSETFROM:+0100
TZOFFSETTO:+0200
TZNAME:CEST
DTSTART:20230326T010000
END:DAYLIGHT
BEGIN:STANDARD
TZOFFSETFROM:+0200
TZOFFSETTO:+0100
TZNAME:CET
DTSTART:20231029T010000
END:STANDARD
BEGIN:DAYLIGHT
TZOFFSETFROM:+0100
TZOFFSETTO:+0200
TZNAME:CEST
DTSTART:20240331T010000
END:DAYLIGHT
BEGIN:STANDARD
TZOFFSETFROM:+0200
TZOFFSETTO:+0100
TZNAME:CET
DTSTART:20241027T010000
END:STANDARD
END:VTIMEZONE
BEGIN:VEVENT
DTSTART;TZID=Europe/Madrid:20230930T120000
DTEND;TZID=Europe/Madrid:20230930T150000
DTSTAMP:20260423T131808
CREATED:20230927T094910Z
LAST-MODIFIED:20230927T094910Z
UID:16621-1696075200-1696086000@ibizafunfamily.com
SUMMARY:Por unas playas limpias
DESCRIPTION:El Sábado 30 de Septiembre de 2023 de 12:00 a 15:00 en la Playa de  Sa Caleta\, es bol Nou \nRecogida de plásticos y basura en la playa de Sa Caleta. \nVen a ayudar a mantener las playas limpias\, disfruta de este maravilloso paraíso que tenemos recogiendo residuos que nosotros mismos tiramos. Con nosotros estarán la Asociación Plustic Lab que nos enseñarán como convertir el plástico que recogemos con su mágica bicicleta y sus resultados \nDespués\, todos nos sentaremos en el jardín a disfrutar  de un plato de paella
URL:https://ibizafunfamily.com/agenda/por-unas-playas-limpias/
LOCATION:Playa Sa Caleta\, Playa Sa Caleta / Platja d'es Bol Nou\, s/n\, Sant Josep de Sa Talaia\, Islas Baleares\, 07830\, España
CATEGORIES:Participación ciudadana
ATTACH;FMTTYPE=image/jpeg:https://ibizafunfamily.com/wp-content/uploads/2023/09/playas-limpias.jpg
ORGANIZER;CN="Restaurante Sa Caseta":MAILTO:info@sacaleta
END:VEVENT
END:VCALENDAR