BEGIN:VCALENDAR
VERSION:2.0
PRODID:-//Ibiza Fun Family - ECPv6.15.17.1//NONSGML v1.0//EN
CALSCALE:GREGORIAN
METHOD:PUBLISH
X-WR-CALNAME:Ibiza Fun Family
X-ORIGINAL-URL:https://ibizafunfamily.com
X-WR-CALDESC:Eventos para Ibiza Fun Family
REFRESH-INTERVAL;VALUE=DURATION:PT1H
X-Robots-Tag:noindex
X-PUBLISHED-TTL:PT1H
BEGIN:VTIMEZONE
TZID:Europe/Madrid
BEGIN:DAYLIGHT
TZOFFSETFROM:+0100
TZOFFSETTO:+0200
TZNAME:CEST
DTSTART:20220327T010000
END:DAYLIGHT
BEGIN:STANDARD
TZOFFSETFROM:+0200
TZOFFSETTO:+0100
TZNAME:CET
DTSTART:20221030T010000
END:STANDARD
BEGIN:DAYLIGHT
TZOFFSETFROM:+0100
TZOFFSETTO:+0200
TZNAME:CEST
DTSTART:20230326T010000
END:DAYLIGHT
BEGIN:STANDARD
TZOFFSETFROM:+0200
TZOFFSETTO:+0100
TZNAME:CET
DTSTART:20231029T010000
END:STANDARD
BEGIN:DAYLIGHT
TZOFFSETFROM:+0100
TZOFFSETTO:+0200
TZNAME:CEST
DTSTART:20240331T010000
END:DAYLIGHT
BEGIN:STANDARD
TZOFFSETFROM:+0200
TZOFFSETTO:+0100
TZNAME:CET
DTSTART:20241027T010000
END:STANDARD
END:VTIMEZONE
BEGIN:VEVENT
DTSTART;TZID=Europe/Madrid:20231015T110000
DTEND;TZID=Europe/Madrid:20231015T140000
DTSTAMP:20260423T111408
CREATED:20231013T094804Z
LAST-MODIFIED:20231013T094804Z
UID:17152-1697367600-1697378400@ibizafunfamily.com
SUMMARY:Limpieza de Playa
DESCRIPTION:El domingo 15 de Octubre en 11:00 a 14:00 de 2023 en el punto de encuentro del Hotel Riu la Mola en Formentera \nLimpieza de la Playa a es Ram \nTraer ropa comoda\, gorra y portección solar \nY vuestra botella de agua para rellenar
URL:https://ibizafunfamily.com/agenda/limpieza-de-playa-4/
LOCATION:Hotel Riu la Mola\, Carrer Maryland\, s/n\, Formentera\, Islas Baleares\, 07871\, España
CATEGORIES:Participación ciudadana
ATTACH;FMTTYPE=image/jpeg:https://ibizafunfamily.com/wp-content/uploads/2023/10/limpieza.jpg
ORGANIZER;CN="Que celeste":MAILTO:quecelestefestival2023@gmail.com
END:VEVENT
BEGIN:VEVENT
DTSTART;TZID=Europe/Madrid:20231022T100000
DTEND;TZID=Europe/Madrid:20231022T120000
DTSTAMP:20260423T111409
CREATED:20231016T214732Z
LAST-MODIFIED:20231016T214732Z
UID:17242-1697968800-1697976000@ibizafunfamily.com
SUMMARY:Limpieza Sant Agustí
DESCRIPTION:El Domingo 22 de Octubre de 2023 a partir de las 10:00 en la Plaza del Peublo (Sant Agustí) \nPasearemos por los caminos del pueblo para limpiar los alrededores \n 
URL:https://ibizafunfamily.com/agenda/limpieza-sant-agusti/
LOCATION:Plaza de Sant Agustí\, Av. Sant Agustí\, Sant Josep de Sa Talaia\, islas baleares\, 07829\, España
CATEGORIES:Participación ciudadana
ATTACH;FMTTYPE=image/jpeg:https://ibizafunfamily.com/wp-content/uploads/2023/10/limpieza-.jpg
ORGANIZER;CN="AAVV de Sant Agust%C3%AD":MAILTO:agustiners@hotmail.com
END:VEVENT
END:VCALENDAR