BEGIN:VCALENDAR
VERSION:2.0
PRODID:-//Ibiza Fun Family - ECPv6.15.17.1//NONSGML v1.0//EN
CALSCALE:GREGORIAN
METHOD:PUBLISH
X-WR-CALNAME:Ibiza Fun Family
X-ORIGINAL-URL:https://ibizafunfamily.com
X-WR-CALDESC:Eventos para Ibiza Fun Family
REFRESH-INTERVAL;VALUE=DURATION:PT1H
X-Robots-Tag:noindex
X-PUBLISHED-TTL:PT1H
BEGIN:VTIMEZONE
TZID:Europe/Madrid
BEGIN:DAYLIGHT
TZOFFSETFROM:+0100
TZOFFSETTO:+0200
TZNAME:CEST
DTSTART:20220327T010000
END:DAYLIGHT
BEGIN:STANDARD
TZOFFSETFROM:+0200
TZOFFSETTO:+0100
TZNAME:CET
DTSTART:20221030T010000
END:STANDARD
BEGIN:DAYLIGHT
TZOFFSETFROM:+0100
TZOFFSETTO:+0200
TZNAME:CEST
DTSTART:20230326T010000
END:DAYLIGHT
BEGIN:STANDARD
TZOFFSETFROM:+0200
TZOFFSETTO:+0100
TZNAME:CET
DTSTART:20231029T010000
END:STANDARD
BEGIN:DAYLIGHT
TZOFFSETFROM:+0100
TZOFFSETTO:+0200
TZNAME:CEST
DTSTART:20240331T010000
END:DAYLIGHT
BEGIN:STANDARD
TZOFFSETFROM:+0200
TZOFFSETTO:+0100
TZNAME:CET
DTSTART:20241027T010000
END:STANDARD
END:VTIMEZONE
BEGIN:VEVENT
DTSTART;TZID=Europe/Madrid:20231007T120000
DTEND;TZID=Europe/Madrid:20231007T190000
DTSTAMP:20260423T234154
CREATED:20231004T220545Z
LAST-MODIFIED:20231004T220703Z
UID:16832-1696680000-1696705200@ibizafunfamily.com
SUMMARY:Juegos tradicionales y mucho más
DESCRIPTION:El Sábado 7 de Octubre de 2023 en el Mercado Viejo de Ibiza \n12:00 Inauguración y descubrimiento plaza Conmemorativa \n12:00 Desfile de carros \n12:30 Ballada Colla de Sa Bodega \n13:00 Concierto ensamble de Saxo \n14:00 Degustación Productos típicos \n17:00 Juegos tradicionales a cargo de la Federación de Colles \nJuegos y canciones infantiles a cargo de Sueños de Ibiza \nJuegos gigantes de madera para toda la familia a cargo de Jugueroix \n18:30 Proyección del video» Historia del Mercado Vell» \n19:00 Actuación querencia Flamenco \nMercadillo de artesanos durante toda la gestión \n\n				\n					\n						Ver programa completo de fiestas
URL:https://ibizafunfamily.com/agenda/16832/
LOCATION:Mercado Viejo de Ibiza\, Plaça de la Constitució\, 18\, Eivissa\, islas baleares\, 07800\, España
CATEGORIES:Fiesta
ATTACH;FMTTYPE=image/jpeg:https://ibizafunfamily.com/wp-content/uploads/2023/10/mercado-e1696456929317.jpg
END:VEVENT
BEGIN:VEVENT
DTSTART;TZID=Europe/Madrid:20231008T120000
DTEND;TZID=Europe/Madrid:20231008T183000
DTSTAMP:20260423T234154
CREATED:20231004T221005Z
LAST-MODIFIED:20231004T221005Z
UID:16838-1696766400-1696789800@ibizafunfamily.com
SUMMARY:Juegos infantiles y mucho más
DESCRIPTION:El Domingo 8 de Octubre de 2023 en el Mercado de Ibiza \n12:00 Ballada de la Colla de Vila \n13:00 Actuación Pitiusax \n14:00 Degustación de productos típicos \n17:00 a 18:30 Juegos infantiles a cargo de S’Espurna \n\n				\n					\n						Ver programa completo de fiestas
URL:https://ibizafunfamily.com/agenda/juegos-infantiles-y-mucho-mas/
LOCATION:Mercado Viejo de Ibiza\, Plaça de la Constitució\, 18\, Eivissa\, islas baleares\, 07800\, España
CATEGORIES:Juegos
ATTACH;FMTTYPE=image/jpeg:https://ibizafunfamily.com/wp-content/uploads/2023/10/mercado-e1696456929317.jpg
END:VEVENT
BEGIN:VEVENT
DTSTART;TZID=Europe/Madrid:20231008T120000
DTEND;TZID=Europe/Madrid:20231008T190000
DTSTAMP:20260423T234154
CREATED:20231003T084706Z
LAST-MODIFIED:20231003T084706Z
UID:16768-1696766400-1696791600@ibizafunfamily.com
SUMMARY:Juegos tradicionales \, baile payés y mucho mas en Pou de Forada
DESCRIPTION:El Domingo 8 de Octubre de 2023 a  partir de las 12:00 en el Pou de Forada \nVen a comer y a pasar un día con nosotros \n14:00 Paella\, pan\, bebida y buñuelos \n(Adultos 13€ y menores de 12 años 8€\, venta de tickets en Colorins\, Vima\, per whassap y bizum al 652304213) \n\n				\n					\n						Whatsapp\n					\n				\n			  \n15:00 Juegos gigantes de madera para todas la familia a cargo de Jugueroix \n17:00 Tiro con honda \nAdemás de Ball payes\, juegos tradicionales \, cantadas y concurso de ucs y mucho más… \n 
URL:https://ibizafunfamily.com/agenda/juegos-tradicionales-baile-payes-y-mucho-mas-en-pou-de-forada/
LOCATION:Pou de Forada\, Camí de Forada\, Sant Antoni de Portmany\, islas baleares\, 07820\, España
CATEGORIES:Juegos
ATTACH;FMTTYPE=image/jpeg:https://ibizafunfamily.com/wp-content/uploads/2023/10/forada.jpg
END:VEVENT
BEGIN:VEVENT
DTSTART;TZID=Europe/Madrid:20231013T100000
DTEND;TZID=Europe/Madrid:20231013T120000
DTSTAMP:20260423T234154
CREATED:20231010T194807Z
LAST-MODIFIED:20231010T194807Z
UID:17098-1697191200-1697198400@ibizafunfamily.com
SUMMARY:Taller juegos de mesa
DESCRIPTION:El Viernes 13 de Octubre de 2023 de 10:00 a 12:00 en el Barco de Papel \nTaller de juegos de mesa \nDirigido para peques de 6 a 9 años \nPrecio del taller 18€ \nReserva tu plaza en instagram  o por gmail a barcodepapelibiza@gmail.com \n\n				\n					\n						Correo electrónico
URL:https://ibizafunfamily.com/agenda/taller-juegos-de-mesa/
LOCATION:Barco de Papel\, Carrer de Balears\, 19\, Eivissa\, islas baleares\, 07800\, España
CATEGORIES:Talleres
ATTACH;FMTTYPE=image/jpeg:https://ibizafunfamily.com/wp-content/uploads/2023/10/juego-mesa.jpg
END:VEVENT
END:VCALENDAR