BEGIN:VCALENDAR
VERSION:2.0
PRODID:-//Ibiza Fun Family - ECPv6.15.17.1//NONSGML v1.0//EN
CALSCALE:GREGORIAN
METHOD:PUBLISH
X-WR-CALNAME:Ibiza Fun Family
X-ORIGINAL-URL:https://ibizafunfamily.com
X-WR-CALDESC:Eventos para Ibiza Fun Family
REFRESH-INTERVAL;VALUE=DURATION:PT1H
X-Robots-Tag:noindex
X-PUBLISHED-TTL:PT1H
BEGIN:VTIMEZONE
TZID:Europe/Madrid
BEGIN:DAYLIGHT
TZOFFSETFROM:+0100
TZOFFSETTO:+0200
TZNAME:CEST
DTSTART:20220327T010000
END:DAYLIGHT
BEGIN:STANDARD
TZOFFSETFROM:+0200
TZOFFSETTO:+0100
TZNAME:CET
DTSTART:20221030T010000
END:STANDARD
BEGIN:DAYLIGHT
TZOFFSETFROM:+0100
TZOFFSETTO:+0200
TZNAME:CEST
DTSTART:20230326T010000
END:DAYLIGHT
BEGIN:STANDARD
TZOFFSETFROM:+0200
TZOFFSETTO:+0100
TZNAME:CET
DTSTART:20231029T010000
END:STANDARD
BEGIN:DAYLIGHT
TZOFFSETFROM:+0100
TZOFFSETTO:+0200
TZNAME:CEST
DTSTART:20240331T010000
END:DAYLIGHT
BEGIN:STANDARD
TZOFFSETFROM:+0200
TZOFFSETTO:+0100
TZNAME:CET
DTSTART:20241027T010000
END:STANDARD
END:VTIMEZONE
BEGIN:VEVENT
DTSTART;TZID=Europe/Madrid:20230902T180000
DTEND;TZID=Europe/Madrid:20230902T210000
DTSTAMP:20260424T150741
CREATED:20230829T084133Z
LAST-MODIFIED:20230902T105224Z
UID:15779-1693677600-1693688400@ibizafunfamily.com
SUMMARY:CANCELADO Fiesta infantil
DESCRIPTION:El sábado 2 de Septiembre de 2023 en la Playa del Puerto de Sant Miquel de 18:00 a 21:00 \nActividades con agua y gran cañón de espuma \nTraer bañador \, chanclas\, toalla\, gorra y protección solar
URL:https://ibizafunfamily.com/agenda/fiesta-infantil-2/
LOCATION:Passeig Port de Sant Miquel\, Puerto de San Miguel\, Sant Joan de Labritja\, islas baleares\, 07815\, España
CATEGORIES:Juegos
ATTACH;FMTTYPE=image/jpeg:https://ibizafunfamily.com/wp-content/uploads/2023/08/playa-1.jpg
END:VEVENT
BEGIN:VEVENT
DTSTART;TZID=Europe/Madrid:20230910T183000
DTEND;TZID=Europe/Madrid:20230910T233000
DTSTAMP:20260424T150741
CREATED:20230820T094600Z
LAST-MODIFIED:20230906T125837Z
UID:15671-1694370600-1694388600@ibizafunfamily.com
SUMMARY:Actividades infantiles. La Fiesta de la Tierra
DESCRIPTION:El Domingo 10 de Septiembre de 2023 en les Festes de Sant Bartomeu \n18:30 Fiestas de la Tierra en el Paseo de Ses Fonts \nCantar\, jugar y bailar \nActividades infantiles organizadas por la Federació de Colles de Ball i Cultura Popular d’Eivissa. \nJuegos y canciones tradicionales infantiles a cargo de Sueños de Ibiza \nJuegos de madera gigantes a cargo de Jugueroix \nMercado tradicional \nBaile popular de calle con los grupos de baile payés del municipio y todos los bailadores y bailadoras que se quieran apuntar. \n21:30 Nits amples concierto de Andres Coll en la plaza de detrás de la iglesia. \n\n				\n					\n						Ver programa completo de fiestas
URL:https://ibizafunfamily.com/agenda/actividades-infantiles-musica-y-fiesta-hawaiana/
LOCATION:Passeig de Ses Fonts\, Passeig de ses fonts\, Sant Antoni de Portmany\, Islas Baleares\, 07820\, España
CATEGORIES:Baile,Talleres
ATTACH;FMTTYPE=image/jpeg:https://ibizafunfamily.com/wp-content/uploads/2023/08/fiesta-de-la-terra.jpg
END:VEVENT
BEGIN:VEVENT
DTSTART;TZID=Europe/Madrid:20230923T100000
DTEND;TZID=Europe/Madrid:20230923T140000
DTSTAMP:20260424T150742
CREATED:20230918T215910Z
LAST-MODIFIED:20230918T215910Z
UID:16274-1695463200-1695477600@ibizafunfamily.com
SUMMARY:Juegos\, fiesta de la espuma\,y mucho más en la Diada infantil
DESCRIPTION:El Sábado 23 de Septiembre de 2023 en el Campito  de fútbol c/ Alzines 10 \nDiada infantil a cargo A.V de Playa de’n Bossa y Ayuntamiento de Ibiza4 \n10:00 a 14:00 \nJuegos y puestas deportivas \nMaquillaje infantil \nTaller de creación de minujuegos \nGran fiesta de la espuma de 12:00 a 14:00 \nTalleres y actividades a dirigidos por Kairos Ibiza Events
URL:https://ibizafunfamily.com/agenda/juegos-fiesta-de-la-espumay-mucho-mas-en-la-diada-infantil/
LOCATION:Plaza del Campito de Playa d’en Bossa\, Calle Alcines 10\, Platja d'en bossa\, Islas Baleares\, 07800\, España
CATEGORIES:Fiesta,Talleres
ATTACH;FMTTYPE=image/jpeg:https://ibizafunfamily.com/wp-content/uploads/2023/09/diada-in.jpg
ORGANIZER;CN="Kairos Ibiza Eventos":MAILTO:kairosibizaeventos@gmail.com
END:VEVENT
END:VCALENDAR