BEGIN:VCALENDAR
VERSION:2.0
PRODID:-//Ibiza Fun Family - ECPv6.15.17.1//NONSGML v1.0//EN
CALSCALE:GREGORIAN
METHOD:PUBLISH
X-WR-CALNAME:Ibiza Fun Family
X-ORIGINAL-URL:https://ibizafunfamily.com
X-WR-CALDESC:Eventos para Ibiza Fun Family
REFRESH-INTERVAL;VALUE=DURATION:PT1H
X-Robots-Tag:noindex
X-PUBLISHED-TTL:PT1H
BEGIN:VTIMEZONE
TZID:Europe/Madrid
BEGIN:DAYLIGHT
TZOFFSETFROM:+0100
TZOFFSETTO:+0200
TZNAME:CEST
DTSTART:20240331T010000
END:DAYLIGHT
BEGIN:STANDARD
TZOFFSETFROM:+0200
TZOFFSETTO:+0100
TZNAME:CET
DTSTART:20241027T010000
END:STANDARD
BEGIN:DAYLIGHT
TZOFFSETFROM:+0100
TZOFFSETTO:+0200
TZNAME:CEST
DTSTART:20250330T010000
END:DAYLIGHT
BEGIN:STANDARD
TZOFFSETFROM:+0200
TZOFFSETTO:+0100
TZNAME:CET
DTSTART:20251026T010000
END:STANDARD
BEGIN:DAYLIGHT
TZOFFSETFROM:+0100
TZOFFSETTO:+0200
TZNAME:CEST
DTSTART:20260329T010000
END:DAYLIGHT
BEGIN:STANDARD
TZOFFSETFROM:+0200
TZOFFSETTO:+0100
TZNAME:CET
DTSTART:20261025T010000
END:STANDARD
END:VTIMEZONE
BEGIN:VEVENT
DTSTART;TZID=Europe/Madrid:20251025T170000
DTEND;TZID=Europe/Madrid:20251025T220000
DTSTAMP:20260422T235727
CREATED:20251022T103551Z
LAST-MODIFIED:20251022T103551Z
UID:33677-1761411600-1761429600@ibizafunfamily.com
SUMMARY:Fiesta de Halloween Sa Jovería
DESCRIPTION:El próximo Sábado 25 de Octubre a partir de las 17h te esperamos en la Fiesta de Halloween de Sa Jovería \nTunel del terror\, juegos\, talleres\, concurso de disfraces\, comida y bebida \nA beneficio de los niños de 6º curso para el viaje de estudio\nEntrada 3€\, menores de 3 años gratis!
URL:https://ibizafunfamily.com/agenda/fiesta-de-halloween-sa-joveria/
LOCATION:CEIP Sa Joveria\, Carrer de Corona\, 14\, 16\,\, Eivissa\, Islas Baleares\, 07800\, España
CATEGORIES:Fiesta
ATTACH;FMTTYPE=image/jpeg:https://ibizafunfamily.com/wp-content/uploads/2025/10/halloween-sa-joveria-2025.jpeg
END:VEVENT
BEGIN:VEVENT
DTSTART;TZID=Europe/Madrid:20251031T170000
DTEND;TZID=Europe/Madrid:20251031T210000
DTSTAMP:20260422T235727
CREATED:20251027T085555Z
LAST-MODIFIED:20251027T085555Z
UID:33774-1761930000-1761944400@ibizafunfamily.com
SUMMARY:Truco o Trato por Ibiza Ciudad
DESCRIPTION:El próximo 31 de Octubre los comercios de Ibiza se vuelvan con el truco o trato con los más pequeños en esta fiesta. \nDesde las 17h en la lista de comercios que aparecen en la imagen\, les estarán esperando con muchos dulces a cambio del truco o trato si vienes disfrazado! \n¿Te lo vas a perder?
URL:https://ibizafunfamily.com/agenda/truco-o-trato-por-ibiza-ciudad/
LOCATION:Islas Baleares
CATEGORIES:Fiesta,Gincana
ATTACH;FMTTYPE=image/jpeg:https://ibizafunfamily.com/wp-content/uploads/2025/10/truco-o-trato-ibiz.jpeg
END:VEVENT
END:VCALENDAR