BEGIN:VCALENDAR
VERSION:2.0
PRODID:-//Ibiza Fun Family - ECPv6.15.17.1//NONSGML v1.0//EN
CALSCALE:GREGORIAN
METHOD:PUBLISH
X-WR-CALNAME:Ibiza Fun Family
X-ORIGINAL-URL:https://ibizafunfamily.com
X-WR-CALDESC:Eventos para Ibiza Fun Family
REFRESH-INTERVAL;VALUE=DURATION:PT1H
X-Robots-Tag:noindex
X-PUBLISHED-TTL:PT1H
BEGIN:VTIMEZONE
TZID:Europe/Madrid
BEGIN:DAYLIGHT
TZOFFSETFROM:+0100
TZOFFSETTO:+0200
TZNAME:CEST
DTSTART:20240331T010000
END:DAYLIGHT
BEGIN:STANDARD
TZOFFSETFROM:+0200
TZOFFSETTO:+0100
TZNAME:CET
DTSTART:20241027T010000
END:STANDARD
BEGIN:DAYLIGHT
TZOFFSETFROM:+0100
TZOFFSETTO:+0200
TZNAME:CEST
DTSTART:20250330T010000
END:DAYLIGHT
BEGIN:STANDARD
TZOFFSETFROM:+0200
TZOFFSETTO:+0100
TZNAME:CET
DTSTART:20251026T010000
END:STANDARD
BEGIN:DAYLIGHT
TZOFFSETFROM:+0100
TZOFFSETTO:+0200
TZNAME:CEST
DTSTART:20260329T010000
END:DAYLIGHT
BEGIN:STANDARD
TZOFFSETFROM:+0200
TZOFFSETTO:+0100
TZNAME:CET
DTSTART:20261025T010000
END:STANDARD
END:VTIMEZONE
BEGIN:VEVENT
DTSTART;TZID=Europe/Madrid:20250906T170000
DTEND;TZID=Europe/Madrid:20250906T233000
DTSTAMP:20260422T180640
CREATED:20250826T073907Z
LAST-MODIFIED:20250826T074017Z
UID:32172-1757178000-1757201400@ibizafunfamily.com
SUMMARY:Fiesta de Cartagineses y Romanos. Batalla infantil de agua\, concierto de Esta me la sé
DESCRIPTION:El Sábado 6 de Septiembre de 2025 en las Fiestas de Sant Bartomeu \n9 :00 Trofeos de judo Festes de Sant Bartomeu. Organiza: SAMYD Sala de artes marciales de Can Coix.\n17:00 Carrera BTT Festes de Sant Bartomeu. Inscripciones: www.ciclismepitius.com. Organiza: Club Ciclista Sant Antoni. Punto de encuentro: área recreativa de Sa Talaia.\n20:00  Texas Girls! Actuaciones de Dea Tanit y Sandy Valey Trio.\nClases de baile con Sunset Swing Club. Bar Eddie’s Diner\, s’Arenal (paseo de la bahía de Portmany).\n20:00 Muestra de Cortometrajes Ixtar Curts. proyección de cortos nacionales e internacionales.\nPlaza de detrás de la iglesia \nFiesta de Cartagineses y Romanos en Playa de s’Arenal.\n17:00 Batalla infantil de agua y fiesta de la espuma. Animación con Showsibiza.com.\n19 h Merienda para las nuevas tropas infantiles.\n19.30 h Concentración de los ejércitos en la playa. Hay que ir vestidos para la ocasión: cartagineses\, con túnica de color; romanos\, con túnica blanca.\n19.45 Intento de tratado de paz.\n20:00  Gran batalla de tomates.\n21 h Torrada de hermandad a precio popular.\n21.30 h Concierto de Esta Me La Sé. Versiones del pop-rock de los 2000\, con mucho ritmo\, humor y espíritu festivo. Y continúa la festa con Dj Vicente Garcia y Dj Yor-D. \n\n				\n					\n						Ver programa completo \n					\n				\n			  \n 
URL:https://ibizafunfamily.com/agenda/fiesta-de-cartagineses-y-romanos-batalla-infantil-de-agua-concierto-de-esta-me-la-se/
LOCATION:Playa S’arenal Sant Antoni\, Passeig de la platja de S'arenal\, Sant Antoni de Portmany\, islas baleares\, 07820\, España
ATTACH;FMTTYPE=image/jpeg:https://ibizafunfamily.com/wp-content/uploads/2025/08/portada.jpg
END:VEVENT
BEGIN:VEVENT
DTSTART;TZID=Europe/Madrid:20250921T100000
DTEND;TZID=Europe/Madrid:20250921T123000
DTSTAMP:20260422T180640
CREATED:20250907T065607Z
LAST-MODIFIED:20250907T065659Z
UID:32611-1758448800-1758457800@ibizafunfamily.com
SUMMARY:Plan familiar\, yoga y planta tu propio aloe
DESCRIPTION:El Domingo 21 de Septiembre de 2025 de 10:00 a 12:30 en Ibiza Aloe \n¡Plan familiar para el domingo! \npara una mañana diferente:\n⠀\nYoga con cuentos (para movernos\, imaginar y reír juntos)\n⠀\nPlantar tu propio aloe vera y llevártelo a casa\n⠀\n10€ por peque\n⠀\nSerá una experiencia mágica para sembrar semillas en el corazón \n¡y en la tierra! ✨\n⠀\nPlazas limitadas – reserva ya por WhatsApp: \n\n				\n					\n						Whatsapp\n					\n				\n			  \n⠀ \n 
URL:https://ibizafunfamily.com/agenda/plan-familiar-yoga-y-planta-tu-propio-aloe/
LOCATION:Ibizaloe\, Ctra. Ibiza a San Antonio\, km 13\, Sant Antoni de Portmany\, Islas Baleares\, 07820\, España
ATTACH;FMTTYPE=image/jpeg:https://ibizafunfamily.com/wp-content/uploads/2025/09/domingo-familiar.jpeg
END:VEVENT
BEGIN:VEVENT
DTSTART;TZID=Europe/Madrid:20250926T080000
DTEND;TZID=Europe/Madrid:20250928T170000
DTSTAMP:20260422T180640
CREATED:20250902T210857Z
LAST-MODIFIED:20250926T060741Z
UID:32424-1758873600-1759078800@ibizafunfamily.com
SUMMARY:Ibiza Ballon Festival. El cielo de Ibiza se llenará de globos aerostáticos
DESCRIPTION:Del Viernes 26 al Domingo 28 de Septiembre \nPrograma del festival \nJueves 25 de septiembre → Presentación oficial en Invisa Hotel La Cala\, a las 21:00 h. \nViernes 26\, sábado 27 y domingo 28 → Salidas al amanecer: \n6:00 h → Briefing con los pilotos para decidir el punto exacto de salida según el viento y las condiciones meteorológicas. \n7:00 – 7:45 h → Montaje e inflado de los globos\, un momento para disfrutar en familia. \n7:45 – 8:30 h → Vuelo conjunto justo al amanecer. \n8:30 – 9:00 h → Aterrizaje y recogida con regreso al punto de partida. \nIbiza Night Glow: la gran fiesta del festival \n18:00 – 20:00 h → Música chill out con DJ Cris 44\, pintacaras y actividades infantiles. \n20:30 h → Espectáculo de acrobacias con Acrobatik Ibiza con música en vivo de DJ Cris 44. \n21:00 h → El gran show visual: globos iluminados al ritmo de la música de La Movida. \nDurante toda la tarde y noche → Food trucks y actividades para toda la familia \nDomingo 28 → Clausura del evento en el hotel Aguas de Ibiza\, a las 12:00h. \nEl cielo de Ibiza se llenará de globos aerostáticos en septiembre \nEs un espectáculo de globos aerostáticos que permitirá conocer la isla desde otra perspectiva \nHabrá talleres educativos\, actividades familiares y juegos para acercar el mundo de la aerostación a los más pequeños. Además contará con conciertos de artistas locales y espectáculos culturales. \nIncluye vuelos en globo al amanecer durante los tres días del evento\, así como un vuelo al atardecer. El sábado 27 por la noche tendrá lugar el Night Glow\, espectáculo visual en el que los globos permanecerán en tierra iluminados por las llamas de sus quemadores\, sincronizados con música en directo\, lo que creará «una experiencia mágica y memorable» \nLas ubicaciones del evento se han seleccionado cuidadosamente para garantizar la visibilidad y la seguridad\, con áreas delimitadas y protocolos específicos para proteger tanto a los asistentes como a los pilotos
URL:https://ibizafunfamily.com/agenda/ibiza-ballon-festival-el-cielo-de-ibiza-se-llenara-de-globos-aerostaticos/
LOCATION:Islas Baleares
ATTACH;FMTTYPE=image/jpeg:https://ibizafunfamily.com/wp-content/uploads/2025/09/porta.jpg
END:VEVENT
END:VCALENDAR