BEGIN:VCALENDAR
VERSION:2.0
PRODID:-//Ibiza Fun Family - ECPv6.15.17.1//NONSGML v1.0//EN
CALSCALE:GREGORIAN
METHOD:PUBLISH
X-ORIGINAL-URL:https://ibizafunfamily.com
X-WR-CALDESC:Eventos para Ibiza Fun Family
REFRESH-INTERVAL;VALUE=DURATION:PT1H
X-Robots-Tag:noindex
X-PUBLISHED-TTL:PT1H
BEGIN:VTIMEZONE
TZID:Europe/Madrid
BEGIN:DAYLIGHT
TZOFFSETFROM:+0100
TZOFFSETTO:+0200
TZNAME:CEST
DTSTART:20220327T010000
END:DAYLIGHT
BEGIN:STANDARD
TZOFFSETFROM:+0200
TZOFFSETTO:+0100
TZNAME:CET
DTSTART:20221030T010000
END:STANDARD
BEGIN:DAYLIGHT
TZOFFSETFROM:+0100
TZOFFSETTO:+0200
TZNAME:CEST
DTSTART:20230326T010000
END:DAYLIGHT
BEGIN:STANDARD
TZOFFSETFROM:+0200
TZOFFSETTO:+0100
TZNAME:CET
DTSTART:20231029T010000
END:STANDARD
BEGIN:DAYLIGHT
TZOFFSETFROM:+0100
TZOFFSETTO:+0200
TZNAME:CEST
DTSTART:20240331T010000
END:DAYLIGHT
BEGIN:STANDARD
TZOFFSETFROM:+0200
TZOFFSETTO:+0100
TZNAME:CET
DTSTART:20241027T010000
END:STANDARD
END:VTIMEZONE
BEGIN:VEVENT
DTSTART;TZID=Europe/Madrid:20231021T160000
DTEND;TZID=Europe/Madrid:20231021T190000
DTSTAMP:20260423T213111
CREATED:20231019T203656Z
LAST-MODIFIED:20231019T203656Z
UID:17556-1697904000-1697914800@ibizafunfamily.com
SUMMARY:Salvemos nuestros mares
DESCRIPTION:El Sábado 21 de Octubre de 16:00 a 19:00 en el Chiringuito de Sa Punta \nSalvemos nuestros mares \nElabora tu propia crema respetuosa \n¿De qué está hecho tu móvil? \nConoce tu huella medioambiental \nTaller para niños y niñas de 6 a 12 años \nwww.affares.org \n\n				\n					\n						Más información
URL:https://ibizafunfamily.com/agenda/salvemos-nuestros-mares/
LOCATION:Chiringuito Sa Punta\, Carrer Calàndria\, Cap Martinet\, Santa Eulària des Riu\, Islas Baleares\, 07819\, España
CATEGORIES:Talleres
ATTACH;FMTTYPE=image/jpeg:https://ibizafunfamily.com/wp-content/uploads/2023/10/salvemos.jpg
ORGANIZER;CN="Affares":MAILTO:asociacionaffares@gmail.com
END:VEVENT
END:VCALENDAR