BEGIN:VCALENDAR
VERSION:2.0
PRODID:-//Ibiza Fun Family - ECPv6.15.17.1//NONSGML v1.0//EN
CALSCALE:GREGORIAN
METHOD:PUBLISH
X-ORIGINAL-URL:https://ibizafunfamily.com
X-WR-CALDESC:Eventos para Ibiza Fun Family
REFRESH-INTERVAL;VALUE=DURATION:PT1H
X-Robots-Tag:noindex
X-PUBLISHED-TTL:PT1H
BEGIN:VTIMEZONE
TZID:Europe/Madrid
BEGIN:DAYLIGHT
TZOFFSETFROM:+0100
TZOFFSETTO:+0200
TZNAME:CEST
DTSTART:20230326T010000
END:DAYLIGHT
BEGIN:STANDARD
TZOFFSETFROM:+0200
TZOFFSETTO:+0100
TZNAME:CET
DTSTART:20231029T010000
END:STANDARD
BEGIN:DAYLIGHT
TZOFFSETFROM:+0100
TZOFFSETTO:+0200
TZNAME:CEST
DTSTART:20240331T010000
END:DAYLIGHT
BEGIN:STANDARD
TZOFFSETFROM:+0200
TZOFFSETTO:+0100
TZNAME:CET
DTSTART:20241027T010000
END:STANDARD
BEGIN:DAYLIGHT
TZOFFSETFROM:+0100
TZOFFSETTO:+0200
TZNAME:CEST
DTSTART:20250330T010000
END:DAYLIGHT
BEGIN:STANDARD
TZOFFSETFROM:+0200
TZOFFSETTO:+0100
TZNAME:CET
DTSTART:20251026T010000
END:STANDARD
END:VTIMEZONE
BEGIN:VEVENT
DTSTART;VALUE=DATE:20241028
DTEND;VALUE=DATE:20241102
DTSTAMP:20260422T161437
CREATED:20241027T223555Z
LAST-MODIFIED:20241031T133035Z
UID:26370-1730073600-1730505599@ibizafunfamily.com
SUMMARY:CANCELADO - Halloween en Eivissa
DESCRIPTION:CANCELADO – Los ayuntamientos han suspendido las celebraciones de Halloween debido al luto oficial declarado por el estado por los daños de la DANA. \nLos días 28\, 29\, 30 y 31 de Octubre de 2024 en las Caller de Ibiza \nAnimación comercial \nEl Lunes 28 de Octubre de 10:30 a 13:30 por la Marina y el Puerto de Ibiza \n17:30 a 20:00 por Vara de Rey\, Vía Púnica y Vía Romana \nEl Martes 29 de 10:30 a 13:00 por Ca n’Escandell \n17:30 a 20:00 por Ses Figueretes \nEl Miércoles 30 de 10:30 a 13:30 en Es Pratet y Sa Colomina \nEl Jueves 31 de Octubre de 10:30 a 13:30 en Eivissa Centro\, Mercado nuevo \nY de 17:00 a 19:00 por la Calle Castilla \nTúnel del miedo en el C19 de 21:00 a 24:00El Viernes 1 de Noviembre de 2024 \nDj en la Plaza del Parque de 19:00 a 24:00
URL:https://ibizafunfamily.com/agenda/halloween-en-eivissa/
ATTACH;FMTTYPE=image/jpeg:https://ibizafunfamily.com/wp-content/uploads/2024/10/halloween-eivissa.jpg
END:VEVENT
BEGIN:VEVENT
DTSTART;TZID=Europe/Madrid:20241029T170000
DTEND;TZID=Europe/Madrid:20241029T190000
DTSTAMP:20260422T161437
CREATED:20241021T090644Z
LAST-MODIFIED:20241021T090644Z
UID:26150-1730221200-1730228400@ibizafunfamily.com
SUMMARY:Taller terrorífico
DESCRIPTION:El Martes 29 de Octubre de 2024 en la Biblioteca de Santa Eulària \n17:00 a 19:00 taller de puntos de libros terroríficos \nDirigido para peques y jovenes de 8 a 15 años
URL:https://ibizafunfamily.com/agenda/taller-terrorifico/
LOCATION:Biblioteca Municipal de Santa Eulalia\, Carrer Joan Tur Tur\, n9\, Santa Eulària des Riu\, Islas Baleares\, 07840\, España
ATTACH;FMTTYPE=image/jpeg:https://ibizafunfamily.com/wp-content/uploads/2024/10/biblioteques.jpg
ORGANIZER;CN="Ajuntament de Santa Eul%C3%A0ria des Riu":MAILTO:alcaldia@santaeularia.com
END:VEVENT
BEGIN:VEVENT
DTSTART;TZID=Europe/Madrid:20241029T170000
DTEND;TZID=Europe/Madrid:20241029T213000
DTSTAMP:20260422T161437
CREATED:20241021T081845Z
LAST-MODIFIED:20241021T081845Z
UID:26111-1730221200-1730237400@ibizafunfamily.com
SUMMARY:Fiesta de Halloween en Ceip Cas Serres
DESCRIPTION:El Martes 29  de Octubre de 2024 a las 17:00 en el Ceip Cas Serres \nFiesta de Halloween \, habrá concurso de disfraces para el nivel infantil \nConcurso de baile para el nivel primario \nTaller y juegos tenebrosos \nTúnel del terror \nComida y bebidas a cargo de 6 primaria \nEntrada 3€- socios afa gratis
URL:https://ibizafunfamily.com/agenda/fiesta-de-halloween-en-ceip-cas-serres/
LOCATION:CEIP Cas Serres\, Carrer del Músic Fermí Marí\, 53\,\, Eivissa\, Islas Baleares\, 07800\, España
ATTACH;FMTTYPE=image/jpeg:https://ibizafunfamily.com/wp-content/uploads/2024/10/fiesta-de-hallowen-cas-serres.jpg
END:VEVENT
BEGIN:VEVENT
DTSTART;TZID=Europe/Madrid:20241029T170000
DTEND;TZID=Europe/Madrid:20241102T190000
DTSTAMP:20260422T161437
CREATED:20241027T225030Z
LAST-MODIFIED:20241031T132920Z
UID:26373-1730221200-1730574000@ibizafunfamily.com
SUMMARY:CANCELADO - Halloween en los Punts Joves del  Municipio de Santa Eulària
DESCRIPTION:CANCELADO – Los ayuntamientos han suspendido las celebraciones de Halloween debido al luto oficial declarado por el estado por los daños de la DANA. \nHalloween / Tots Sants 2024 en los Punts Joves del Municipio de Santa Eulària dirigido a jovenes de 12 a 17 años \nSense Respecte no hi ha diversión / sin respeto no hay diversión \nVive un Halloween monstruosamente respetuoso y seguro \nPunt Jove Santa Eulària \nMartes 29 de Octubre a las 18:00 juegos de Halloween y disfraces- Quien soy? \nMiércoles 30 a las 18:00  Mural de Halloween \nJueves 31 a las 17:00 Taller de panellets y trencada de frutos secos \nSábado 2 de Noviembre a las 18:00 Cine de miedo y palomitas \nPunt Jove Santa Gertrudis \nMartes 29 de Octubre a las 18:00 Taller artístico \nMiércoles 30 a las 18:00 Taller de cocina de pastas de hojas terroríficas \nJueves 31 a las 18:00 torneo de Fastasmas Blitz \nSábado 2 de Noviembre a las 17:00  Taller de panellets y  cine especial Halloween con palomitas \nPunt Jove Es Puig d’en Valls \nMartes 29 de Octubre a las 18:00 Trivial jove  ¿Cuánto sabes de Halloween y de Todos los Santos? \nMiércoles 30 a las 18:00  Torneo Fantasmas Blitz \nJueves 31 a las 18:00 Taller de Rosarios dulces y trencada de frutos secos \nSábado 2 de Noviembre a las 18:00 Cine de miedo y palomitas \nPunt Jove Jesús \nMartes 29 de Octubre a las 18:00 Torneo de Oca de Halloween \nMiércoles 30 a las 18:00  Historias de Halloween \nJueves 31 a las 18:00 Trencada de frutos secos y taller de pastas de manzana y frutos secos \nSábado 2 de Noviembre a las 18:00 Cine especial Halloween y palomitas \n 
URL:https://ibizafunfamily.com/agenda/halloween-en-los-punts-joves-del-municipio-de-santa-eularia/
ATTACH;FMTTYPE=image/jpeg:https://ibizafunfamily.com/wp-content/uploads/2024/10/halloween-punt-jove.jpg
ORGANIZER;CN="Ajuntament de Santa Eul%C3%A0ria des Riu":MAILTO:alcaldia@santaeularia.com
END:VEVENT
BEGIN:VEVENT
DTSTART;TZID=Europe/Madrid:20241029T180000
DTEND;TZID=Europe/Madrid:20241029T193000
DTSTAMP:20260422T161437
CREATED:20241014T222246Z
LAST-MODIFIED:20241014T222246Z
UID:26034-1730224800-1730230200@ibizafunfamily.com
SUMMARY:Cuentacuentos- Mis mas terribles pesadillas
DESCRIPTION:El Martes 29 de Octubre de 18 a 19:30 en Espai Momo Ibiza \nCuentacuentos- Mis mas terribles pesadillas \nTaller de calabazas con acuarela \nDirigido a partir de los 4 años \nBonos 3€/ sin bono 8€ \n\n				\n					\n						Whatsapp
URL:https://ibizafunfamily.com/agenda/cuentacuentos-mis-mas-terribles-pesadillas/
LOCATION:Espai Momo Ibiza\, C/ Pere Francés n32\, Eivissa\, Islas Baleares\, 07800\, España
ATTACH;FMTTYPE=image/jpeg:https://ibizafunfamily.com/wp-content/uploads/2024/10/octubre-momo.jpg
END:VEVENT
END:VCALENDAR