BEGIN:VCALENDAR
VERSION:2.0
PRODID:-//Ibiza Fun Family - ECPv6.15.17.1//NONSGML v1.0//EN
CALSCALE:GREGORIAN
METHOD:PUBLISH
X-ORIGINAL-URL:https://ibizafunfamily.com
X-WR-CALDESC:Eventos para Ibiza Fun Family
REFRESH-INTERVAL;VALUE=DURATION:PT1H
X-Robots-Tag:noindex
X-PUBLISHED-TTL:PT1H
BEGIN:VTIMEZONE
TZID:Europe/Madrid
BEGIN:DAYLIGHT
TZOFFSETFROM:+0100
TZOFFSETTO:+0200
TZNAME:CEST
DTSTART:20230326T010000
END:DAYLIGHT
BEGIN:STANDARD
TZOFFSETFROM:+0200
TZOFFSETTO:+0100
TZNAME:CET
DTSTART:20231029T010000
END:STANDARD
BEGIN:DAYLIGHT
TZOFFSETFROM:+0100
TZOFFSETTO:+0200
TZNAME:CEST
DTSTART:20240331T010000
END:DAYLIGHT
BEGIN:STANDARD
TZOFFSETFROM:+0200
TZOFFSETTO:+0100
TZNAME:CET
DTSTART:20241027T010000
END:STANDARD
BEGIN:DAYLIGHT
TZOFFSETFROM:+0100
TZOFFSETTO:+0200
TZNAME:CEST
DTSTART:20250330T010000
END:DAYLIGHT
BEGIN:STANDARD
TZOFFSETFROM:+0200
TZOFFSETTO:+0100
TZNAME:CET
DTSTART:20251026T010000
END:STANDARD
END:VTIMEZONE
BEGIN:VEVENT
DTSTART;TZID=Europe/Madrid:20241027T120000
DTEND;TZID=Europe/Madrid:20241027T180000
DTSTAMP:20260423T074818
CREATED:20241014T221056Z
LAST-MODIFIED:20241014T221416Z
UID:26026-1730030400-1730052000@ibizafunfamily.com
SUMMARY:Halloween\, día de diversión en familia
DESCRIPTION:El Domingo 27 de Otubre de 2024 de 12:00 a 18:00 en The Hub Ibiza \nMúsica\, entretenimiento \nMercado embrujado de Halloween \nDisfraces\nCastillo inflable\nPintura de calabazas\nExcavación de arañas\nZonas de juegos\nArtes y manualidades\nDulces\nDeliciosa comida caliente\nMenú de bebidas durante todo el día \n5€ entrada\, confirmar asistencia \n\n				\n					\n						Entrada
URL:https://ibizafunfamily.com/agenda/halloween-dia-de-diversion-en-familia/
LOCATION:The HUB\, Carrer del Pedrer\, 4\, Santa Eulària des Riu\, Islas Baleares\, 07814\, España
ATTACH;FMTTYPE=image/jpeg:https://ibizafunfamily.com/wp-content/uploads/2024/10/halloween.jpg
END:VEVENT
END:VCALENDAR