BEGIN:VCALENDAR
VERSION:2.0
PRODID:-//Ibiza Fun Family - ECPv6.15.17.1//NONSGML v1.0//EN
CALSCALE:GREGORIAN
METHOD:PUBLISH
X-WR-CALNAME:Ibiza Fun Family
X-ORIGINAL-URL:https://ibizafunfamily.com
X-WR-CALDESC:Eventos para Ibiza Fun Family
REFRESH-INTERVAL;VALUE=DURATION:PT1H
X-Robots-Tag:noindex
X-PUBLISHED-TTL:PT1H
BEGIN:VTIMEZONE
TZID:Europe/Madrid
BEGIN:DAYLIGHT
TZOFFSETFROM:+0100
TZOFFSETTO:+0200
TZNAME:CEST
DTSTART:20220327T010000
END:DAYLIGHT
BEGIN:STANDARD
TZOFFSETFROM:+0200
TZOFFSETTO:+0100
TZNAME:CET
DTSTART:20221030T010000
END:STANDARD
BEGIN:DAYLIGHT
TZOFFSETFROM:+0100
TZOFFSETTO:+0200
TZNAME:CEST
DTSTART:20230326T010000
END:DAYLIGHT
BEGIN:STANDARD
TZOFFSETFROM:+0200
TZOFFSETTO:+0100
TZNAME:CET
DTSTART:20231029T010000
END:STANDARD
BEGIN:DAYLIGHT
TZOFFSETFROM:+0100
TZOFFSETTO:+0200
TZNAME:CEST
DTSTART:20240331T010000
END:DAYLIGHT
BEGIN:STANDARD
TZOFFSETFROM:+0200
TZOFFSETTO:+0100
TZNAME:CET
DTSTART:20241027T010000
END:STANDARD
END:VTIMEZONE
BEGIN:VEVENT
DTSTART;TZID=Europe/Madrid:20230623T183000
DTEND;TZID=Europe/Madrid:20230623T230000
DTSTAMP:20260423T034139
CREATED:20230620T100207Z
LAST-MODIFIED:20230620T100207Z
UID:14828-1687545000-1687561200@ibizafunfamily.com
SUMMARY:Fiesta de la espuma\, música y mucho más en la Noche de Sant Joan
DESCRIPTION:El Viernes 23 de Junio de 2023 a partir de las 18:30 Junto al centro social de Sant Antoni \n18:30 Fiesta de la espuma infantil \n19h Jornada de puertas abiertas portmany club hokey club \n20h masterclass de zumba con Crsitina y sus chicas \n21h Entrega de macarrons de Sant Joan para concurso \n21:30 Música movidera con Dj Jony \n23h encendida de hoguera \n  \n 
URL:https://ibizafunfamily.com/agenda/fiesta-de-la-espuma-musica-y-mucho-mas-en-la-noche-de-sant-joan/
LOCATION:Centro Social de Can Bonet\, Carrer de les Pruneres\, 6\,\, Sant Antoni de Portmany\, islas baleares\, 07820\, España
CATEGORIES:Concurso,Fiesta,Juegos
ATTACH;FMTTYPE=image/jpeg:https://ibizafunfamily.com/wp-content/uploads/2023/06/can-bonet.jpg
END:VEVENT
END:VCALENDAR