BEGIN:VCALENDAR
VERSION:2.0
PRODID:-//Ibiza Fun Family - ECPv6.15.17.1//NONSGML v1.0//EN
CALSCALE:GREGORIAN
METHOD:PUBLISH
X-ORIGINAL-URL:https://ibizafunfamily.com
X-WR-CALDESC:Eventos para Ibiza Fun Family
REFRESH-INTERVAL;VALUE=DURATION:PT1H
X-Robots-Tag:noindex
X-PUBLISHED-TTL:PT1H
BEGIN:VTIMEZONE
TZID:Europe/Madrid
BEGIN:DAYLIGHT
TZOFFSETFROM:+0100
TZOFFSETTO:+0200
TZNAME:CEST
DTSTART:20220327T010000
END:DAYLIGHT
BEGIN:STANDARD
TZOFFSETFROM:+0200
TZOFFSETTO:+0100
TZNAME:CET
DTSTART:20221030T010000
END:STANDARD
BEGIN:DAYLIGHT
TZOFFSETFROM:+0100
TZOFFSETTO:+0200
TZNAME:CEST
DTSTART:20230326T010000
END:DAYLIGHT
BEGIN:STANDARD
TZOFFSETFROM:+0200
TZOFFSETTO:+0100
TZNAME:CET
DTSTART:20231029T010000
END:STANDARD
BEGIN:DAYLIGHT
TZOFFSETFROM:+0100
TZOFFSETTO:+0200
TZNAME:CEST
DTSTART:20240331T010000
END:DAYLIGHT
BEGIN:STANDARD
TZOFFSETFROM:+0200
TZOFFSETTO:+0100
TZNAME:CET
DTSTART:20241027T010000
END:STANDARD
END:VTIMEZONE
BEGIN:VEVENT
DTSTART;VALUE=DATE:20230908
DTEND;VALUE=DATE:20230911
DTSTAMP:20260423T074335
CREATED:20230908T144544Z
LAST-MODIFIED:20230908T145344Z
UID:15965-1694131200-1694390399@ibizafunfamily.com
SUMMARY:Fiesta de la espuma\, castillo y payasos en las Fiestas de Cas Serres
DESCRIPTION:Fiestas de Cas Serres 2023 del Viernes 8 al 10 de Septiembre \nViernes 8 \n19:30 Concurso de Mises \n21:00 Flamenco a mi aire \n22:30 Veronica San Juan \nSábado 9 \n12:00 fiesta de la Espuma y castillo hinchable \n20:00 Fiesta de Payasos. \n21:30 El ia y Kenene \n22:30 El Bornolero \nDomingo 10 \n9:00 Chocolate y ensaimada (Desayuno) en el local social \n12:00 Fiesta de la espuma y castillo \n20:00 Capoira Ibiza \n21:00 Humorista » Joel campoy» \n23:30 Belma \n\n				\n					\n						Ver programa completo de fiestas
URL:https://ibizafunfamily.com/agenda/espuma-castillo-y-payasos-en-las-fiestas-de-cas-serres/
LOCATION:Islas Baleares
CATEGORIES:Fiesta
ATTACH;FMTTYPE=image/jpeg:https://ibizafunfamily.com/wp-content/uploads/2023/09/fiestas.jpg
END:VEVENT
BEGIN:VEVENT
DTSTART;TZID=Europe/Madrid:20230909T100000
DTEND;TZID=Europe/Madrid:20230909T133000
DTSTAMP:20260423T074335
CREATED:20230901T081543Z
LAST-MODIFIED:20230901T081936Z
UID:15826-1694253600-1694266200@ibizafunfamily.com
SUMMARY:Juegos infantiles en las Fiestas de Sant Agustí
DESCRIPTION:Nueva fecha \nEl Sábado 9 de Septiembre de 2023 a las 10:00 en el  patio de Can Blau por las fiestas de Sant Agustí 2023 \nJuegos infantiles de agua\, juegos para ensuciarsey espuma a cargo de s’espurna \n\n				\n					\n						Ver programa completo de fiestas
URL:https://ibizafunfamily.com/agenda/juegos-infantiles-en-las-fiestas-de-sant-agusti/
LOCATION:Escola de Música de Can Blau\, Cami d`en Dentals\, 26\, Sant Agustí\, Islas Baleares\, 07826\, España
CATEGORIES:Juegos
ATTACH;FMTTYPE=image/jpeg:https://ibizafunfamily.com/wp-content/uploads/2023/08/sant-agusti.jpg
ORGANIZER;CN="Ajuntament de Sant Josep de Sa Talaia":MAILTO:alcaldia@santjosep.org
END:VEVENT
END:VCALENDAR