BEGIN:VCALENDAR
VERSION:2.0
PRODID:-//Ibiza Fun Family - ECPv6.15.17.1//NONSGML v1.0//EN
CALSCALE:GREGORIAN
METHOD:PUBLISH
X-WR-CALNAME:Ibiza Fun Family
X-ORIGINAL-URL:https://ibizafunfamily.com
X-WR-CALDESC:Eventos para Ibiza Fun Family
REFRESH-INTERVAL;VALUE=DURATION:PT1H
X-Robots-Tag:noindex
X-PUBLISHED-TTL:PT1H
BEGIN:VTIMEZONE
TZID:Europe/Madrid
BEGIN:DAYLIGHT
TZOFFSETFROM:+0100
TZOFFSETTO:+0200
TZNAME:CEST
DTSTART:20220327T010000
END:DAYLIGHT
BEGIN:STANDARD
TZOFFSETFROM:+0200
TZOFFSETTO:+0100
TZNAME:CET
DTSTART:20221030T010000
END:STANDARD
BEGIN:DAYLIGHT
TZOFFSETFROM:+0100
TZOFFSETTO:+0200
TZNAME:CEST
DTSTART:20230326T010000
END:DAYLIGHT
BEGIN:STANDARD
TZOFFSETFROM:+0200
TZOFFSETTO:+0100
TZNAME:CET
DTSTART:20231029T010000
END:STANDARD
BEGIN:DAYLIGHT
TZOFFSETFROM:+0100
TZOFFSETTO:+0200
TZNAME:CEST
DTSTART:20240331T010000
END:DAYLIGHT
BEGIN:STANDARD
TZOFFSETFROM:+0200
TZOFFSETTO:+0100
TZNAME:CET
DTSTART:20241027T010000
END:STANDARD
END:VTIMEZONE
BEGIN:VEVENT
DTSTART;TZID=Europe/Madrid:20230901T180000
DTEND;TZID=Europe/Madrid:20230901T233000
DTSTAMP:20260423T165926
CREATED:20230823T162108Z
LAST-MODIFIED:20230901T082128Z
UID:15740-1693591200-1693611000@ibizafunfamily.com
SUMMARY:Batalla infantil de agua\, fiesta de la espuma y animación
DESCRIPTION:Viernes 1 de Septiembre de 2023 en  las fiestas de Sant Bartomeu \nLa fiesta de cartagineses y romanos \nPrimera jornada\, preparación  para la batalla en la playa s’Arenal \n18:00 Batalla infantil de agua \, fiesta de la espuma y animación con Showsibiza.com \n¡Quien participe vestido de cartaginés o romano tendrá un regalo! \n20:00 Merienda para las nuevas tropas infantiles \n20:30 «Feeling» Muestra de danza contemporánea\, lírica y urbana a cargo de E64 Company y alumnos de la Escula de Danza  y artes escénicas Estudio 64 \n21:00 Inauguración del campamento fiestero con la música de Dj Meena y el invitado especial Dj  Jordi Sunyer para seguir la fiesta en la playa. \n21:00 XXV Muestra de cortometrajes  Festes de sant Bartomeu en el Auditorio de Sa Punta des Moli \n  \n\n				\n					\n						Ver programa completo de fiestas
URL:https://ibizafunfamily.com/agenda/batalla-infantil-de-agua-fiesta-de-la-espuma-y-animacion/
LOCATION:Playa S’arenal Sant Antoni\, Passeig de la platja de S'arenal\, Sant Antoni de Portmany\, islas baleares\, 07820\, España
CATEGORIES:Fiesta,Juegos
ATTACH;FMTTYPE=image/jpeg:https://ibizafunfamily.com/wp-content/uploads/2023/08/cart.jpg
ORGANIZER;CN="Shows Ibiza":MAILTO:info@showsibiza.com
END:VEVENT
END:VCALENDAR