BEGIN:VCALENDAR
VERSION:2.0
PRODID:-//Ibiza Fun Family - ECPv6.15.17.1//NONSGML v1.0//EN
CALSCALE:GREGORIAN
METHOD:PUBLISH
X-ORIGINAL-URL:https://ibizafunfamily.com
X-WR-CALDESC:Eventos para Ibiza Fun Family
REFRESH-INTERVAL;VALUE=DURATION:PT1H
X-Robots-Tag:noindex
X-PUBLISHED-TTL:PT1H
BEGIN:VTIMEZONE
TZID:Europe/Madrid
BEGIN:DAYLIGHT
TZOFFSETFROM:+0100
TZOFFSETTO:+0200
TZNAME:CEST
DTSTART:20220327T010000
END:DAYLIGHT
BEGIN:STANDARD
TZOFFSETFROM:+0200
TZOFFSETTO:+0100
TZNAME:CET
DTSTART:20221030T010000
END:STANDARD
BEGIN:DAYLIGHT
TZOFFSETFROM:+0100
TZOFFSETTO:+0200
TZNAME:CEST
DTSTART:20230326T010000
END:DAYLIGHT
BEGIN:STANDARD
TZOFFSETFROM:+0200
TZOFFSETTO:+0100
TZNAME:CET
DTSTART:20231029T010000
END:STANDARD
BEGIN:DAYLIGHT
TZOFFSETFROM:+0100
TZOFFSETTO:+0200
TZNAME:CEST
DTSTART:20240331T010000
END:DAYLIGHT
BEGIN:STANDARD
TZOFFSETFROM:+0200
TZOFFSETTO:+0100
TZNAME:CET
DTSTART:20241027T010000
END:STANDARD
END:VTIMEZONE
BEGIN:VEVENT
DTSTART;TZID=Europe/Madrid:20230824T103000
DTEND;TZID=Europe/Madrid:20230825T000000
DTSTAMP:20260423T153634
CREATED:20230820T092756Z
LAST-MODIFIED:20230820T092756Z
UID:15667-1692873000-1692921600@ibizafunfamily.com
SUMMARY:Splash\, baile y fuegos artificiales en Sant Bartomeu
DESCRIPTION:El Jueves 24 de Agosto de 2023 en Sant Antoni\, Festes de Sant Bartomeu \n10:30 Splash\, la fiesta infantil de Piruleto. En la Plaza España \n¡Ven a refrescarte! Con espuma\, agua\, juegos y animación  (gorra\, sandalias\, bañador y gafas de bucear) \n20:00 Misa solmne \n21:30 Baile payés a cargo de la Colla Brisa de Portmany en la playa de detrás de la iglesia. \n21: VII Sunset Swing Festival en el bar Eddie’s diner del paseo de la bahía la playa de S’arenal \nInaguración del festival con clases gratuitas de Rok’nroll y rockabilly jive a cargo del sunset Swing Clib y concierto de Bluesmafia y es Saligardos\, \n22h Concierto Tanxugueiras \nMúsica tradicional gallega en la playa de S’arenal \n00:00 Gran  castillos  de fuegos artificiales \n\n				\n					\n						Ver programa completo de fiestas
URL:https://ibizafunfamily.com/agenda/splash-baile-y-fuegos-artificiales-en-sant-bartomeu/
LOCATION:Islas Baleares
CATEGORIES:Baile,Juegos
ATTACH;FMTTYPE=image/jpeg:https://ibizafunfamily.com/wp-content/uploads/2023/08/fiestas-de-sant-bartomeu-1.jpg
END:VEVENT
END:VCALENDAR