BEGIN:VCALENDAR
VERSION:2.0
PRODID:-//Ibiza Fun Family - ECPv6.15.17.1//NONSGML v1.0//EN
CALSCALE:GREGORIAN
METHOD:PUBLISH
X-WR-CALNAME:Ibiza Fun Family
X-ORIGINAL-URL:https://ibizafunfamily.com
X-WR-CALDESC:Eventos para Ibiza Fun Family
REFRESH-INTERVAL;VALUE=DURATION:PT1H
X-Robots-Tag:noindex
X-PUBLISHED-TTL:PT1H
BEGIN:VTIMEZONE
TZID:Europe/Madrid
BEGIN:DAYLIGHT
TZOFFSETFROM:+0100
TZOFFSETTO:+0200
TZNAME:CEST
DTSTART:20220327T010000
END:DAYLIGHT
BEGIN:STANDARD
TZOFFSETFROM:+0200
TZOFFSETTO:+0100
TZNAME:CET
DTSTART:20221030T010000
END:STANDARD
BEGIN:DAYLIGHT
TZOFFSETFROM:+0100
TZOFFSETTO:+0200
TZNAME:CEST
DTSTART:20230326T010000
END:DAYLIGHT
BEGIN:STANDARD
TZOFFSETFROM:+0200
TZOFFSETTO:+0100
TZNAME:CET
DTSTART:20231029T010000
END:STANDARD
BEGIN:DAYLIGHT
TZOFFSETFROM:+0100
TZOFFSETTO:+0200
TZNAME:CEST
DTSTART:20240331T010000
END:DAYLIGHT
BEGIN:STANDARD
TZOFFSETFROM:+0200
TZOFFSETTO:+0100
TZNAME:CET
DTSTART:20241027T010000
END:STANDARD
END:VTIMEZONE
BEGIN:VEVENT
DTSTART;TZID=Europe/Madrid:20230723T110000
DTEND;TZID=Europe/Madrid:20230723T180000
DTSTAMP:20260424T231046
CREATED:20230713T213730Z
LAST-MODIFIED:20230713T213811Z
UID:15173-1690110000-1690135200@ibizafunfamily.com
SUMMARY:Fiesta espuma y paella popular
DESCRIPTION:Domingo 23 de Julio de 2023 Fiesta en la AAVV Es Clot \n11:00 Fiesta de la espuma\, traer a los niños y niñas equipados con gorra y bañador. \n14:00 Gran paella popular con ensalada\, postre\, pan por 15€ bebidas no incluidas. Solo hay paella para todo aquel que tenga la reserva el Sábado noche \n17:00 Fiesta de la espuma \n\n				\n					\n						Ver programa completo de fiestas
URL:https://ibizafunfamily.com/agenda/15173/
LOCATION:AAVV Es Clot\, Carrer Agapito Llobet 21\, Eivissa\, islas baleares\, 07800\, España
CATEGORIES:Cocina,Fiesta
ATTACH;FMTTYPE=image/jpeg:https://ibizafunfamily.com/wp-content/uploads/2023/07/asociacion.jpg
ORGANIZER;CN="AAVV Es Clot":MAILTO:esclot7@hotmail.com
END:VEVENT
END:VCALENDAR