BEGIN:VCALENDAR
VERSION:2.0
PRODID:-//Ibiza Fun Family - ECPv6.15.17.1//NONSGML v1.0//EN
CALSCALE:GREGORIAN
METHOD:PUBLISH
X-WR-CALNAME:Ibiza Fun Family
X-ORIGINAL-URL:https://ibizafunfamily.com
X-WR-CALDESC:Eventos para Ibiza Fun Family
REFRESH-INTERVAL;VALUE=DURATION:PT1H
X-Robots-Tag:noindex
X-PUBLISHED-TTL:PT1H
BEGIN:VTIMEZONE
TZID:Europe/Madrid
BEGIN:DAYLIGHT
TZOFFSETFROM:+0100
TZOFFSETTO:+0200
TZNAME:CEST
DTSTART:20210328T010000
END:DAYLIGHT
BEGIN:STANDARD
TZOFFSETFROM:+0200
TZOFFSETTO:+0100
TZNAME:CET
DTSTART:20211031T010000
END:STANDARD
BEGIN:DAYLIGHT
TZOFFSETFROM:+0100
TZOFFSETTO:+0200
TZNAME:CEST
DTSTART:20220327T010000
END:DAYLIGHT
BEGIN:STANDARD
TZOFFSETFROM:+0200
TZOFFSETTO:+0100
TZNAME:CET
DTSTART:20221030T010000
END:STANDARD
BEGIN:DAYLIGHT
TZOFFSETFROM:+0100
TZOFFSETTO:+0200
TZNAME:CEST
DTSTART:20230326T010000
END:DAYLIGHT
BEGIN:STANDARD
TZOFFSETFROM:+0200
TZOFFSETTO:+0100
TZNAME:CET
DTSTART:20231029T010000
END:STANDARD
END:VTIMEZONE
BEGIN:VEVENT
DTSTART;TZID=Europe/Madrid:20220902T180000
DTEND;TZID=Europe/Madrid:20220902T190000
DTSTAMP:20260423T113902
CREATED:20220819T081723Z
LAST-MODIFIED:20220830T075022Z
UID:5208-1662141600-1662145200@ibizafunfamily.com
SUMMARY:Taller Collage Ecologico
DESCRIPTION:El próximo Viernes 2 de Septiembre a partir de las 18:30h en Titolandia (Santa Gertrudis) se organiza un taller de collage ecologico de mano de GEckos Ibiza. \nCon la colaboración de Titolandia y Holi Kids Ibiza \n¿Te lo vas a perder?
URL:https://ibizafunfamily.com/agenda/taller-collage-ecologico/
LOCATION:Titolandia\, Carrer Venda de Can Llàtzer\, 9\, local 2B\, Santa Gertrudis de Fruitera\, islas baleares\, 07814\, España
CATEGORIES:Talleres
ATTACH;FMTTYPE=image/jpeg:https://ibizafunfamily.com/wp-content/uploads/2022/08/WhatsApp-Image-2022-08-19-at-10.10.20-AM-e1661932186969.jpeg
END:VEVENT
BEGIN:VEVENT
DTSTART;TZID=Europe/Madrid:20220917T100000
DTEND;TZID=Europe/Madrid:20220918T210000
DTSTAMP:20260423T113902
CREATED:20220912T095452Z
LAST-MODIFIED:20220917T071725Z
UID:5840-1663408800-1663534800@ibizafunfamily.com
SUMMARY:Ecologic Festial 2022
DESCRIPTION:Del 17 a 18 de Septiembre de 10h a 21h tendra lugar el Festival Ecologico en el Ibiza Botánico Biotecnologico. \nLa entrada al parque sera de pago con una precio especial y fuera habrá Kids Corner a cargo de Eduarte y un taller a las 12h. \nAnimaos a conocer sitios alucinantes en nuestra isla.
URL:https://ibizafunfamily.com/agenda/ecologic-festial-2022/
LOCATION:Ibiza Botánico Biotecnológico\, Ctra. Eivissa-Sant Antoni\, Km 7.5\,\, Sant Antoni de Portmany\, islas baleares\, 07816\, España
CATEGORIES:Talleres
ATTACH;FMTTYPE=image/jpeg:https://ibizafunfamily.com/wp-content/uploads/2022/09/ibiza.jpg
ORGANIZER;CN="Educarte Ibiza":MAILTO:educarteibiza@gmail.com
END:VEVENT
END:VCALENDAR