BEGIN:VCALENDAR
VERSION:2.0
PRODID:-//Ibiza Fun Family - ECPv6.15.17.1//NONSGML v1.0//EN
CALSCALE:GREGORIAN
METHOD:PUBLISH
X-ORIGINAL-URL:https://ibizafunfamily.com
X-WR-CALDESC:Eventos para Ibiza Fun Family
REFRESH-INTERVAL;VALUE=DURATION:PT1H
X-Robots-Tag:noindex
X-PUBLISHED-TTL:PT1H
BEGIN:VTIMEZONE
TZID:Europe/Madrid
BEGIN:DAYLIGHT
TZOFFSETFROM:+0100
TZOFFSETTO:+0200
TZNAME:CEST
DTSTART:20230326T010000
END:DAYLIGHT
BEGIN:STANDARD
TZOFFSETFROM:+0200
TZOFFSETTO:+0100
TZNAME:CET
DTSTART:20231029T010000
END:STANDARD
BEGIN:DAYLIGHT
TZOFFSETFROM:+0100
TZOFFSETTO:+0200
TZNAME:CEST
DTSTART:20240331T010000
END:DAYLIGHT
BEGIN:STANDARD
TZOFFSETFROM:+0200
TZOFFSETTO:+0100
TZNAME:CET
DTSTART:20241027T010000
END:STANDARD
BEGIN:DAYLIGHT
TZOFFSETFROM:+0100
TZOFFSETTO:+0200
TZNAME:CEST
DTSTART:20250330T010000
END:DAYLIGHT
BEGIN:STANDARD
TZOFFSETFROM:+0200
TZOFFSETTO:+0100
TZNAME:CET
DTSTART:20251026T010000
END:STANDARD
END:VTIMEZONE
BEGIN:VEVENT
DTSTART;TZID=Europe/Madrid:20241204T193000
DTEND;TZID=Europe/Madrid:20241204T193000
DTSTAMP:20260423T081044
CREATED:20241129T225150Z
LAST-MODIFIED:20241129T225150Z
UID:27326-1733340600-1733340600@ibizafunfamily.com
SUMMARY:Espectáculo de Drones\, Ibiza en Navidad
DESCRIPTION:El próximo 4 de Diciembre a las 19:30h en el puerto de Ibiza\, en Av. de los andenes se celebra un espectáculo de drones por la celebración del 25 aniversario de la Declaración de Patrimonio Mundial \nEstamos seguras que os encantará \nEn esta web sólo mostramos eventos para familias y niños\, puedes consultar el programa completo de fiestas en el siguiente enlace\n\n				\n					\n						Ver programa completo de fiestas
URL:https://ibizafunfamily.com/agenda/espectaculo-de-drones-ibiza-en-navidad/
LOCATION:Puerto Ibiza\, Avinguda de Santa Eulària des Riu\, 17\, Eivissa\, Baleares\, 07800\, España
CATEGORIES:Espectáculo
ATTACH;FMTTYPE=image/jpeg:https://ibizafunfamily.com/wp-content/uploads/2024/11/encendido-de-luces.jpg
END:VEVENT
END:VCALENDAR