BEGIN:VCALENDAR
VERSION:2.0
PRODID:-//Ibiza Fun Family - ECPv6.15.17.1//NONSGML v1.0//EN
CALSCALE:GREGORIAN
METHOD:PUBLISH
X-ORIGINAL-URL:https://ibizafunfamily.com
X-WR-CALDESC:Eventos para Ibiza Fun Family
REFRESH-INTERVAL;VALUE=DURATION:PT1H
X-Robots-Tag:noindex
X-PUBLISHED-TTL:PT1H
BEGIN:VTIMEZONE
TZID:Europe/Madrid
BEGIN:DAYLIGHT
TZOFFSETFROM:+0100
TZOFFSETTO:+0200
TZNAME:CEST
DTSTART:20210328T010000
END:DAYLIGHT
BEGIN:STANDARD
TZOFFSETFROM:+0200
TZOFFSETTO:+0100
TZNAME:CET
DTSTART:20211031T010000
END:STANDARD
BEGIN:DAYLIGHT
TZOFFSETFROM:+0100
TZOFFSETTO:+0200
TZNAME:CEST
DTSTART:20220327T010000
END:DAYLIGHT
BEGIN:STANDARD
TZOFFSETFROM:+0200
TZOFFSETTO:+0100
TZNAME:CET
DTSTART:20221030T010000
END:STANDARD
BEGIN:DAYLIGHT
TZOFFSETFROM:+0100
TZOFFSETTO:+0200
TZNAME:CEST
DTSTART:20230326T010000
END:DAYLIGHT
BEGIN:STANDARD
TZOFFSETFROM:+0200
TZOFFSETTO:+0100
TZNAME:CET
DTSTART:20231029T010000
END:STANDARD
END:VTIMEZONE
BEGIN:VEVENT
DTSTART;TZID=Europe/Madrid:20220923T183000
DTEND;TZID=Europe/Madrid:20220923T183000
DTSTAMP:20260424T015056
CREATED:20220916T084553Z
LAST-MODIFIED:20220916T084553Z
UID:6143-1663957800-1663957800@ibizafunfamily.com
SUMMARY:Cuentos con luz\, Peque y Yo
DESCRIPTION:El próximo Viernes 23 de Septiembre a las 18:30h en Espai momo tenemos un cuenta cuentos a mano de Isabel Muñoz\, un cuento de valores «Peque y Yo» \nEl  precio de adulto + niño es de 18€ y precio de solo niño (a partir de 6 años) 15€ \nUna historia y un taller para reconfortar la pérdida de una mascota. \nInformación e inscripciones en el local de Espai Momo o por Teléfono o WhatsApp
URL:https://ibizafunfamily.com/agenda/cuentos-con-luz-peque-y-yo/
LOCATION:Espai Momo Ibiza\, C/ Pere Francés n32\, Eivissa\, Islas Baleares\, 07800\, España
CATEGORIES:Cuenta cuentos,Talleres
ATTACH;FMTTYPE=image/jpeg:https://ibizafunfamily.com/wp-content/uploads/2022/09/WhatsApp-Image-2022-09-15-at-11.23.18-PM.jpeg
END:VEVENT
END:VCALENDAR