BEGIN:VCALENDAR
VERSION:2.0
PRODID:-//Ibiza Fun Family - ECPv6.15.17.1//NONSGML v1.0//EN
CALSCALE:GREGORIAN
METHOD:PUBLISH
X-ORIGINAL-URL:https://ibizafunfamily.com
X-WR-CALDESC:Eventos para Ibiza Fun Family
REFRESH-INTERVAL;VALUE=DURATION:PT1H
X-Robots-Tag:noindex
X-PUBLISHED-TTL:PT1H
BEGIN:VTIMEZONE
TZID:Europe/Madrid
BEGIN:DAYLIGHT
TZOFFSETFROM:+0100
TZOFFSETTO:+0200
TZNAME:CEST
DTSTART:20210328T010000
END:DAYLIGHT
BEGIN:STANDARD
TZOFFSETFROM:+0200
TZOFFSETTO:+0100
TZNAME:CET
DTSTART:20211031T010000
END:STANDARD
BEGIN:DAYLIGHT
TZOFFSETFROM:+0100
TZOFFSETTO:+0200
TZNAME:CEST
DTSTART:20220327T010000
END:DAYLIGHT
BEGIN:STANDARD
TZOFFSETFROM:+0200
TZOFFSETTO:+0100
TZNAME:CET
DTSTART:20221030T010000
END:STANDARD
BEGIN:DAYLIGHT
TZOFFSETFROM:+0100
TZOFFSETTO:+0200
TZNAME:CEST
DTSTART:20230326T010000
END:DAYLIGHT
BEGIN:STANDARD
TZOFFSETFROM:+0200
TZOFFSETTO:+0100
TZNAME:CET
DTSTART:20231029T010000
END:STANDARD
END:VTIMEZONE
BEGIN:VEVENT
DTSTART;TZID=Europe/Madrid:20221105T110000
DTEND;TZID=Europe/Madrid:20221105T193000
DTSTAMP:20260419T214035
CREATED:20221027T062022Z
LAST-MODIFIED:20221027T064137Z
UID:7758-1667646000-1667676600@ibizafunfamily.com
SUMMARY:Halloween Santa Eulàlia
DESCRIPTION:El 5 de Noviembre en el Paseo S’Alamera y la plaza España de Santa Eulalia . \nde 11 a 13:30h y de 16:30 a 18:30 horas tendremos animación con Catalina y Mariano de Can Mort! \nSa pagesia Zombi de acrobatik espectáculos en el paseo S’Alamera. \nDe 11 a 14:00 y de 16:00 a 19:00 horas Talleres infantiles de Halloween y Tots Sants \, trencada de frutos secos al paseo S’Alamera. \n12h Cuentos de miedo con Txaro en la plaza de España. Interpretado en lengua de signos. \n17h Magia para no dormir\, con el Mago Andrés Lluch en la plaza España. \nSense respecte no hi ha diversió. \nSin respecto no hay diversión. \n  \n 
URL:https://ibizafunfamily.com/agenda/halloween-santa-eulalia/
LOCATION:Islas Baleares
CATEGORIES:Talleres
ATTACH;FMTTYPE=image/jpeg:https://ibizafunfamily.com/wp-content/uploads/2022/10/5c440f71-5ec4-4c99-8248-40d222da537d.jpg
END:VEVENT
BEGIN:VEVENT
DTSTART;TZID=Europe/Madrid:20221111T173000
DTEND;TZID=Europe/Madrid:20221111T173000
DTSTAMP:20260419T214035
CREATED:20221101T081251Z
LAST-MODIFIED:20221107T082728Z
UID:7849-1668187800-1668187800@ibizafunfamily.com
SUMMARY:Contamos un Cuento\, Lluna Violeta
DESCRIPTION:El viernes 11 de Noviembre a las 17:30 horas en la Biblioteca Vicent Serra y Oray. \nHabrá un cuenta cuentos a cargo de Maritza Tejecuentos para niños y niñas de 0 a 3 años. \nPlazas limitadas 20 familias. \n 
URL:https://ibizafunfamily.com/agenda/contamos-un-cuento-lluna-violeta/
LOCATION:Biblioteca Vicent Serra Orvay\, C/ de la Plaça Major\, 9\, Sant Jordi de ses Salines\, Islas Baleares\, 07817\, España
CATEGORIES:Cuenta cuentos
ATTACH;FMTTYPE=image/jpeg:https://ibizafunfamily.com/wp-content/uploads/2022/11/b2eee4b8-6e3f-4bc5-b62b-d7861e142c71-e1667290096378.jpg
ORGANIZER;CN="Ajuntament de Sant Josep de Sa Talaia":MAILTO:alcaldia@santjosep.org
END:VEVENT
BEGIN:VEVENT
DTSTART;TZID=Europe/Madrid:20221118T180000
DTEND;TZID=Europe/Madrid:20221118T180000
DTSTAMP:20260419T214035
CREATED:20221102T084455Z
LAST-MODIFIED:20221102T084456Z
UID:7854-1668794400-1668794400@ibizafunfamily.com
SUMMARY:Talleres infantiles\, cuentacuentos...Cobertura en Català
DESCRIPTION:El Viernes 18 de Noviembre a las 18h\, en la Biblioteca Pública de Ses Figueretes. \nHabrá talleres infantiles\, cuentacuentos\, juegos y mucha diversión para aprender y practicar el catalán. \nClot \, el Virot\, cuento y manualidad\, edad recomendada de 4 a 12 años. \n 
URL:https://ibizafunfamily.com/agenda/talleres-infantiles-cuentacuentos-cobertura-en-catala/
LOCATION:Islas Baleares
CATEGORIES:Cuenta cuentos,Talleres
ATTACH;FMTTYPE=image/jpeg:https://ibizafunfamily.com/wp-content/uploads/2022/11/f8d4b6b8-4970-4af0-995c-a2d5ff829edb-e1667378679686.jpg
END:VEVENT
BEGIN:VEVENT
DTSTART;TZID=Europe/Madrid:20221119T180000
DTEND;TZID=Europe/Madrid:20221119T180000
DTSTAMP:20260419T214035
CREATED:20221031T182325Z
LAST-MODIFIED:20221031T182337Z
UID:7832-1668880800-1668880800@ibizafunfamily.com
SUMMARY:Cuentacuentos- A la tardor Sant Jordi
DESCRIPTION:El Sábado 19 de Noviembre a las 18:00 en el CEIP Sant Jordi\, se hará cuentacuentos a cargo de encarna de las Heras\, Laura Mandarina y Maritza Tejecuentos. \nHasta completar aforo. \nEntrada gratuita.
URL:https://ibizafunfamily.com/agenda/cuentacuentos-a-la-tardor-sant-jordi/
LOCATION:CEIP Sant Jordi\, s/n\, Carretera de l'Aeroport\, Sant Jordi de ses Salines\, islas baleares\, 07817\, España
CATEGORIES:Cuenta cuentos
ATTACH;FMTTYPE=image/jpeg:https://ibizafunfamily.com/wp-content/uploads/2022/10/63fbe599-b2c9-4b26-a4e4-dd73d68afb26-e1667240294567.jpg
ORGANIZER;CN="Ajuntament de Sant Josep de Sa Talaia":MAILTO:alcaldia@santjosep.org
END:VEVENT
BEGIN:VEVENT
DTSTART;TZID=Europe/Madrid:20221125T180000
DTEND;TZID=Europe/Madrid:20221125T180000
DTSTAMP:20260419T214035
CREATED:20220518T135151Z
LAST-MODIFIED:20220518T135151Z
UID:3184-1669399200-1669399200@ibizafunfamily.com
SUMMARY:Cuenta Cuentos
DESCRIPTION:Los últimos viernes de cada mes a las 18:00h en el Casal d’ Igualtat de Sant Cristòfol organizan cuenta cuentos para niños de entre 3 y 12 años y sus familias. Después habrá un pequeño taller. \nParticipación gratuita \nInscripciones en el mail igualtat@eivissa.es o en el teléfono 971 397 600\, extensión 24261 \nAllí nos vemos!
URL:https://ibizafunfamily.com/agenda/cuenta-cuentos-5/
LOCATION:Islas Baleares
CATEGORIES:Cuenta cuentos
ATTACH;FMTTYPE=image/gif:https://ibizafunfamily.com/wp-content/uploads/2022/05/2022contacontescasal-1.gif
END:VEVENT
END:VCALENDAR