BEGIN:VCALENDAR
VERSION:2.0
PRODID:-//Ibiza Fun Family - ECPv6.15.17.1//NONSGML v1.0//EN
CALSCALE:GREGORIAN
METHOD:PUBLISH
X-ORIGINAL-URL:https://ibizafunfamily.com
X-WR-CALDESC:Eventos para Ibiza Fun Family
REFRESH-INTERVAL;VALUE=DURATION:PT1H
X-Robots-Tag:noindex
X-PUBLISHED-TTL:PT1H
BEGIN:VTIMEZONE
TZID:Europe/Madrid
BEGIN:DAYLIGHT
TZOFFSETFROM:+0100
TZOFFSETTO:+0200
TZNAME:CEST
DTSTART:20210328T010000
END:DAYLIGHT
BEGIN:STANDARD
TZOFFSETFROM:+0200
TZOFFSETTO:+0100
TZNAME:CET
DTSTART:20211031T010000
END:STANDARD
BEGIN:DAYLIGHT
TZOFFSETFROM:+0100
TZOFFSETTO:+0200
TZNAME:CEST
DTSTART:20220327T010000
END:DAYLIGHT
BEGIN:STANDARD
TZOFFSETFROM:+0200
TZOFFSETTO:+0100
TZNAME:CET
DTSTART:20221030T010000
END:STANDARD
BEGIN:DAYLIGHT
TZOFFSETFROM:+0100
TZOFFSETTO:+0200
TZNAME:CEST
DTSTART:20230326T010000
END:DAYLIGHT
BEGIN:STANDARD
TZOFFSETFROM:+0200
TZOFFSETTO:+0100
TZNAME:CET
DTSTART:20231029T010000
END:STANDARD
END:VTIMEZONE
BEGIN:VEVENT
DTSTART;TZID=Europe/Madrid:20220506T173000
DTEND;TZID=Europe/Madrid:20220506T173000
DTSTAMP:20260424T165501
CREATED:20220421T213536Z
LAST-MODIFIED:20220421T213536Z
UID:1822-1651858200-1651858200@ibizafunfamily.com
SUMMARY:Cuenta cuentos para niños de 0 a 3 años
DESCRIPTION:El próxim día 6 de mayo de 2022 a las 17:30h habrá un cuenta cuento de la mano de Maritza. \nInscripción previa en la biblioteca Vicent Serra Orvay y a  l’a/ebibliosantjordi@santjosep.org \nTodo el programa de fiestas en http://festesdesantjordi2022.org/
URL:https://ibizafunfamily.com/agenda/cuenta-cuentos-para-ninos-de-0-a-3-anos/
LOCATION:Islas Baleares
CATEGORIES:Cuenta cuentos
ATTACH;FMTTYPE=image/jpeg:https://ibizafunfamily.com/wp-content/uploads/2022/04/WhatsApp-Image-2022-04-21-at-11.24.50-PM.jpeg
ORGANIZER;CN="Ajuntament de Sant Josep de Sa Talaia":MAILTO:alcaldia@santjosep.org
END:VEVENT
BEGIN:VEVENT
DTSTART;TZID=Europe/Madrid:20220506T173000
DTEND;TZID=Europe/Madrid:20220506T173000
DTSTAMP:20260424T165502
CREATED:20220506T062417Z
LAST-MODIFIED:20220506T062417Z
UID:2475-1651858200-1651858200@ibizafunfamily.com
SUMMARY:Conta'm un Conte
DESCRIPTION:El próximo Viernes 6 de Mayo en la Biblioteca Municipal Vicent Serra Orvay a las 17:30 cuenta cuentos «Caminito de cuentos» con Maritza Tejecuentos para niños de 0 a 3 años \nInscripción previa
URL:https://ibizafunfamily.com/agenda/contam-un-conte/
LOCATION:Biblioteca Vicent Serra Orvay\, C/ de la Plaça Major\, 9\, Sant Jordi de ses Salines\, Islas Baleares\, 07817\, España
CATEGORIES:Cuenta cuentos
ATTACH;FMTTYPE=image/jpeg:https://ibizafunfamily.com/wp-content/uploads/2022/05/WhatsApp-Image-2022-05-05-at-5.14.53-PM.jpeg
ORGANIZER;CN="Ajuntament de Sant Josep de Sa Talaia":MAILTO:alcaldia@santjosep.org
END:VEVENT
BEGIN:VEVENT
DTSTART;TZID=Europe/Madrid:20220506T173000
DTEND;TZID=Europe/Madrid:20220506T183000
DTSTAMP:20260424T165502
CREATED:20220429T124456Z
LAST-MODIFIED:20220429T124456Z
UID:2169-1651858200-1651861800@ibizafunfamily.com
SUMMARY:Un Cuento con María
DESCRIPTION:El próximo Viernes día 6 de Mayo María nos contará el cuento de «Pol lo quiere Todo»\, un cuento sobre un niño que lo quiere todo\, pide y pide sin parar a sus padres… un cuento para concienciar a los pequeños de que en las cosas pequeñas y sencillas podemos encontrar mucha diversión \nRealizarán una manualidad para hacer un tres en raya y podrán llevárselo a casa \n¿Dónde? En Maracanitos!\nNo te lo puedes perder
URL:https://ibizafunfamily.com/agenda/un-cuento-con-maria/
LOCATION:Maracanitos\, C/ Josep Riquer Llobet\, n15\, Eivissa\, Islas Baleares\,\, 07800\, España
CATEGORIES:Cuenta cuentos,Talleres
ATTACH;FMTTYPE=image/jpeg:https://ibizafunfamily.com/wp-content/uploads/2022/04/WhatsApp-Image-2022-04-29-at-2.40.35-PM.jpeg
END:VEVENT
BEGIN:VEVENT
DTSTART;TZID=Europe/Madrid:20220511T170000
DTEND;TZID=Europe/Madrid:20220511T170000
DTSTAMP:20260424T165502
CREATED:20220421T215839Z
LAST-MODIFIED:20220421T215839Z
UID:1834-1652288400-1652288400@ibizafunfamily.com
SUMMARY:Los cuentos de La Rosa Rodamón
DESCRIPTION:El próximo miercoles 11 de mayo a las 17:00 en la Biblioteca Municipal de Santa Eularia des Riu Anakrònica nos trae un centa cuentos para niños! \nAforo limitado\, entradas por orden de llegada.
URL:https://ibizafunfamily.com/agenda/los-cuentos-de-la-rosa-rodamon/
LOCATION:Biblioteca Municipal de Santa Eulalia\, Carrer Joan Tur Tur\, n9\, Santa Eulària des Riu\, Islas Baleares\, 07840\, España
CATEGORIES:Cuenta cuentos
ATTACH;FMTTYPE=image/jpeg:https://ibizafunfamily.com/wp-content/uploads/2022/04/WhatsApp-Image-2022-04-14-at-2.26.56-PM.jpeg
ORGANIZER;CN="Ajuntament de Santa Eul%C3%A0ria des Riu":MAILTO:alcaldia@santaeularia.com
END:VEVENT
BEGIN:VEVENT
DTSTART;TZID=Europe/Madrid:20220513T173000
DTEND;TZID=Europe/Madrid:20220513T173000
DTSTAMP:20260424T165502
CREATED:20220502T123829Z
LAST-MODIFIED:20220502T123829Z
UID:2200-1652463000-1652463000@ibizafunfamily.com
SUMMARY:Conta'm La Pau\, Actividades de Mayo
DESCRIPTION:La biblioteca Municipal de Cala de Bou organiza para Mayo diferentes actividades para familias \nEl próximo Viernes 13 de Mayo a las 17:30h hay organizado un cuenta cuento con taller sobre la Paz para niños de entre 5 a 10 años \nInscripción previa indicando nombre\, edad y teléfono de contacto de los asistentes al teléfono 971 34 86 30 o al correo electrónico biblioteca.caladebou@santjosep.org
URL:https://ibizafunfamily.com/agenda/contam-la-pau-actividades-de-mayo/
LOCATION:Biblioteca Municipal de Cala de Bou\, C/ es calo\, n 127\, Cala de Bou\, Islas Baleares\, 07829\, España
CATEGORIES:Cuenta cuentos,Talleres
ATTACH;FMTTYPE=image/jpeg:https://ibizafunfamily.com/wp-content/uploads/2022/05/WhatsApp-Image-2022-05-02-at-2.37.59-PM.jpeg
ORGANIZER;CN="Consell d' Eivissa":MAILTO:oamr@conselldeivissa.es
END:VEVENT
BEGIN:VEVENT
DTSTART;TZID=Europe/Madrid:20220513T183000
DTEND;TZID=Europe/Madrid:20220513T183000
DTSTAMP:20260424T165502
CREATED:20220506T062003Z
LAST-MODIFIED:20220506T062003Z
UID:2471-1652466600-1652466600@ibizafunfamily.com
SUMMARY:Cuenta cuentos + taller
DESCRIPTION:El próximo Viernes 13 de Mayo a las 18:30h en la biblioteca municipal de Sant Antoni habrá un cuenta cuentos con taller «El teu personatge favorti» a cargo de Poika Teatral \nEntrada gratuita\, aforo limitado \nInscripción y reserva de plaza al mail biblioteca@santantoni.net o al número 971347669 \nOs esperamos!
URL:https://ibizafunfamily.com/agenda/cuenta-cuentos-taller/
LOCATION:Biblioteca Municipal de Sant Antoni\, C/ Cervantes\, n25\, Sant Antoni de Portmany\, Islas Baleares\, 07820\, España
CATEGORIES:Cuenta cuentos,Talleres
ATTACH;FMTTYPE=image/jpeg:https://ibizafunfamily.com/wp-content/uploads/2022/05/WhatsApp-Image-2022-05-05-at-8.59.27-PM.jpeg
END:VEVENT
BEGIN:VEVENT
DTSTART;TZID=Europe/Madrid:20220519T180000
DTEND;TZID=Europe/Madrid:20220519T190000
DTSTAMP:20260424T165502
CREATED:20220506T062950Z
LAST-MODIFIED:20220506T062950Z
UID:2481-1652983200-1652986800@ibizafunfamily.com
SUMMARY:Cuenta Cuentos y Taller "Cosas Disparatadas"
DESCRIPTION:El próximo Jueves 19 de Mayo de 18:00h a 19:00h con Laura Mandarina para niños de 4 a 9 años \nHace falta inscripción previa
URL:https://ibizafunfamily.com/agenda/cuenta-cuentos-y-taller-cosas-disparatadas/
LOCATION:Biblioteca Vicent Serra Orvay\, C/ de la Plaça Major\, 9\, Sant Jordi de ses Salines\, Islas Baleares\, 07817\, España
CATEGORIES:Cuenta cuentos,Talleres
ATTACH;FMTTYPE=image/jpeg:https://ibizafunfamily.com/wp-content/uploads/2022/05/WhatsApp-Image-2022-05-05-at-5.14.53-PM.jpeg
ORGANIZER;CN="Ajuntament de Sant Josep de Sa Talaia":MAILTO:alcaldia@santjosep.org
END:VEVENT
BEGIN:VEVENT
DTSTART;TZID=Europe/Madrid:20220520T170000
DTEND;TZID=Europe/Madrid:20220520T190000
DTSTAMP:20260424T165502
CREATED:20220511T145117Z
LAST-MODIFIED:20220511T145130Z
UID:2795-1653066000-1653073200@ibizafunfamily.com
SUMMARY:Cuenta cuento "El Gran Circ de Puces"
DESCRIPTION:El próximo Viernes 20 de Mayo el Mago Albert nos trae el espectáculo más pequeño del mundo\, un cuenta cuentos para niños de 3 a 8 años\, con dos funciones\, una a las 17h y otra a las 18h. \nEntrada gratuita \nAforo limitado \nInscripción y reservas en el email de la biblioteca o por teléfono
URL:https://ibizafunfamily.com/agenda/cuenta-cuento-el-gran-circ-de-puces/
LOCATION:Biblioteca Municipal de Sant Antoni\, C/ Cervantes\, n25\, Sant Antoni de Portmany\, Islas Baleares\, 07820\, España
CATEGORIES:Cuenta cuentos
ATTACH;FMTTYPE=image/jpeg:https://ibizafunfamily.com/wp-content/uploads/2022/05/WhatsApp-Image-2022-05-11-at-4.45.49-PM.jpeg
ORGANIZER;CN="Biblioteca Municipal de San Antonio":MAILTO:biblioteca@santantoni.net
END:VEVENT
BEGIN:VEVENT
DTSTART;TZID=Europe/Madrid:20220520T180000
DTEND;TZID=Europe/Madrid:20220520T180000
DTSTAMP:20260424T165502
CREATED:20220518T134625Z
LAST-MODIFIED:20220518T141229Z
UID:3168-1653069600-1653069600@ibizafunfamily.com
SUMMARY:Cuenta cuentos
DESCRIPTION:Los últimos viernes de cada mes a las 18:00h en el Casal d’ Igualtat de Sant Cristòfol organizan cuenta cuentos para niños de entre 3 y 12 años y sus familias. Después habrá un pequeño taller. \nParticipación gratuita \nInscripciones en el mail igualtat@eivissa.es o en el teléfono 971 397 600\, extensión 24261 \nAllí nos vemos!
URL:https://ibizafunfamily.com/agenda/cuenta-cuentos/
LOCATION:Islas Baleares
CATEGORIES:Cuenta cuentos
ATTACH;FMTTYPE=image/gif:https://ibizafunfamily.com/wp-content/uploads/2022/05/bonobos.gif
END:VEVENT
BEGIN:VEVENT
DTSTART;TZID=Europe/Madrid:20220520T180000
DTEND;TZID=Europe/Madrid:20220520T180000
DTSTAMP:20260424T165502
CREATED:20220518T141358Z
LAST-MODIFIED:20220518T141358Z
UID:3206-1653069600-1653069600@ibizafunfamily.com
SUMMARY:Cuenta cuentos
DESCRIPTION:Los últimos viernes de cada mes a las 18:00h en el Casal d’ Igualtat de Sant Cristòfol organizan cuenta cuentos para niños de entre 3 y 12 años y sus familias. Después habrá un pequeño taller. \nParticipación gratuita \nInscripciones en el mail igualtat@eivissa.es o en el teléfono 971 397 600\, extensión 24261 \nAllí nos vemos!
URL:https://ibizafunfamily.com/agenda/cuenta-cuentos-7/
LOCATION:Islas Baleares
CATEGORIES:Cuenta cuentos
ATTACH;FMTTYPE=image/gif:https://ibizafunfamily.com/wp-content/uploads/2022/05/220429contacontes.gif
END:VEVENT
END:VCALENDAR