BEGIN:VCALENDAR
VERSION:2.0
PRODID:-//Ibiza Fun Family - ECPv6.15.17.1//NONSGML v1.0//EN
CALSCALE:GREGORIAN
METHOD:PUBLISH
X-ORIGINAL-URL:https://ibizafunfamily.com
X-WR-CALDESC:Eventos para Ibiza Fun Family
REFRESH-INTERVAL;VALUE=DURATION:PT1H
X-Robots-Tag:noindex
X-PUBLISHED-TTL:PT1H
BEGIN:VTIMEZONE
TZID:Europe/Madrid
BEGIN:DAYLIGHT
TZOFFSETFROM:+0100
TZOFFSETTO:+0200
TZNAME:CEST
DTSTART:20220327T010000
END:DAYLIGHT
BEGIN:STANDARD
TZOFFSETFROM:+0200
TZOFFSETTO:+0100
TZNAME:CET
DTSTART:20221030T010000
END:STANDARD
BEGIN:DAYLIGHT
TZOFFSETFROM:+0100
TZOFFSETTO:+0200
TZNAME:CEST
DTSTART:20230326T010000
END:DAYLIGHT
BEGIN:STANDARD
TZOFFSETFROM:+0200
TZOFFSETTO:+0100
TZNAME:CET
DTSTART:20231029T010000
END:STANDARD
BEGIN:DAYLIGHT
TZOFFSETFROM:+0100
TZOFFSETTO:+0200
TZNAME:CEST
DTSTART:20240331T010000
END:DAYLIGHT
BEGIN:STANDARD
TZOFFSETFROM:+0200
TZOFFSETTO:+0100
TZNAME:CET
DTSTART:20241027T010000
END:STANDARD
END:VTIMEZONE
BEGIN:VEVENT
DTSTART;VALUE=DATE:20230120
DTEND;VALUE=DATE:20230211
DTSTAMP:20260423T195403
CREATED:20230123T114157Z
LAST-MODIFIED:20230123T114528Z
UID:9754-1674172800-1676073599@ibizafunfamily.com
SUMMARY:Concurso escolar de Poesia
DESCRIPTION:Del 20 de Enero al 10 de Febrero para niños y niñas de 8 a 12 años. \nConcurso de poesia. \nBases del concurso en www.avsesfigueretes.com \n\n				\n					\n						Bases del concurso
URL:https://ibizafunfamily.com/agenda/concurso-escolar-de-poesia/
LOCATION:Islas Baleares
CATEGORIES:Talleres
ATTACH;FMTTYPE=image/jpeg:https://ibizafunfamily.com/wp-content/uploads/2023/01/eac87e35-1139-4b27-b1b1-b917e9572c6f.jpg
END:VEVENT
BEGIN:VEVENT
DTSTART;VALUE=DATE:20230208
DTEND;VALUE=DATE:20230325
DTSTAMP:20260423T195403
CREATED:20230208T203853Z
LAST-MODIFIED:20230208T203853Z
UID:10250-1675814400-1679702399@ibizafunfamily.com
SUMMARY:Concurso Poesia
DESCRIPTION:El Ayuntamiento de Santa Eulalia ha organizado un concurso de poseía dividido en 2 categorías \nCategoría A\nParticipantes a partir de 18 años\nPremios: 1º puesto 400€ y 2º puesto 200€ a los mejores poemas escritos en catalán y castellano \nCategoría B1\nParticipantes hasta 12 años\nPremios: 1º puesto 110€ y 2º puesto 90€\, en vales para material de lectura\, a los mejores poemas escritos en catalán y en castellano \nCategoría B2\nParticipantes de entre 13 a 17 años\nPremios: 1º puesto 150€ y 2º puesto 130€\, a los mejores poemas escritos en catalán y en castellano \nEntrega de premios el 26 de Abril de 2023 \nBases en su web \nPlazo de admisión hasta el día 24 de Marzo a las 14:30h
URL:https://ibizafunfamily.com/agenda/concurso-poesia/
LOCATION:Islas Baleares
CATEGORIES:Concurso
ATTACH;FMTTYPE=image/jpeg:https://ibizafunfamily.com/wp-content/uploads/2023/02/WhatsApp-Image-2023-02-02-at-09.56.05-e1675888720816.jpeg
ORGANIZER;CN="Ajuntament de Santa Eul%C3%A0ria des Riu":MAILTO:alcaldia@santaeularia.com
END:VEVENT
BEGIN:VEVENT
DTSTART;TZID=Europe/Madrid:20230217T170000
DTEND;TZID=Europe/Madrid:20230217T190000
DTSTAMP:20260423T195403
CREATED:20230215T091630Z
LAST-MODIFIED:20230215T091630Z
UID:10678-1676653200-1676660400@ibizafunfamily.com
SUMMARY:Gran Fiesta de Carnaval
DESCRIPTION:El Viernes 17 de Febrero a  partir de las 17h  en el Colegio Mare de Deu de les Neus. \nConcurso de disfraces: el mejor disfraz\, el más original y el mejor grupo. \nMúsica y juegos. \nMeriendas pequeños y grandes \nVen a disfrutar con nosotros \nRecaudación destinada a la remodelación de la Biblioteca. \nMesa dulces 4 de la Eso porviaje de estudios
URL:https://ibizafunfamily.com/agenda/gran-fiesta-de-carnaval-2/
LOCATION:CEIP Mare de Deu de les Neus\, noroeste de la isla\, entre la punta de La Gavina y la punta de Sa Pedrera\, Eivissa\, Islas Baleares\, 07800\, España
CATEGORIES:Fiesta
ATTACH;FMTTYPE=image/jpeg:https://ibizafunfamily.com/wp-content/uploads/2023/02/6bfca899-2bbf-4535-9656-7a6627115b87.jpg
END:VEVENT
BEGIN:VEVENT
DTSTART;TZID=Europe/Madrid:20230218T110000
DTEND;TZID=Europe/Madrid:20230218T140000
DTSTAMP:20260423T195403
CREATED:20230210T144242Z
LAST-MODIFIED:20230210T144242Z
UID:10465-1676718000-1676728800@ibizafunfamily.com
SUMMARY:Feim Mariol·los
DESCRIPTION:El próximo Sábado 18 de Febrero de 11h a 14h habrá talleres infantiles para enmariolarse juntos!\nA las 13h concurso de disfraces y a las 14h torrada popular \nOs esperamos en el parque Poeta Villagómez
URL:https://ibizafunfamily.com/agenda/feim-mariol%c2%b7los/
LOCATION:Parque Poeta Villangómez\, C/ Felip Curtois i Valls\, n10\, Eivissa\, Islas Baleares\, 07800\, España
CATEGORIES:Concurso,Talleres
ATTACH;FMTTYPE=image/jpeg:https://ibizafunfamily.com/wp-content/uploads/2023/02/WhatsApp-Image-2023-02-09-at-13.20.06.jpeg
END:VEVENT
END:VCALENDAR