BEGIN:VCALENDAR
VERSION:2.0
PRODID:-//Ibiza Fun Family - ECPv6.15.17.1//NONSGML v1.0//EN
CALSCALE:GREGORIAN
METHOD:PUBLISH
X-WR-CALNAME:Ibiza Fun Family
X-ORIGINAL-URL:https://ibizafunfamily.com
X-WR-CALDESC:Eventos para Ibiza Fun Family
REFRESH-INTERVAL;VALUE=DURATION:PT1H
X-Robots-Tag:noindex
X-PUBLISHED-TTL:PT1H
BEGIN:VTIMEZONE
TZID:Europe/Madrid
BEGIN:DAYLIGHT
TZOFFSETFROM:+0100
TZOFFSETTO:+0200
TZNAME:CEST
DTSTART:20210328T010000
END:DAYLIGHT
BEGIN:STANDARD
TZOFFSETFROM:+0200
TZOFFSETTO:+0100
TZNAME:CET
DTSTART:20211031T010000
END:STANDARD
BEGIN:DAYLIGHT
TZOFFSETFROM:+0100
TZOFFSETTO:+0200
TZNAME:CEST
DTSTART:20220327T010000
END:DAYLIGHT
BEGIN:STANDARD
TZOFFSETFROM:+0200
TZOFFSETTO:+0100
TZNAME:CET
DTSTART:20221030T010000
END:STANDARD
BEGIN:DAYLIGHT
TZOFFSETFROM:+0100
TZOFFSETTO:+0200
TZNAME:CEST
DTSTART:20230326T010000
END:DAYLIGHT
BEGIN:STANDARD
TZOFFSETFROM:+0200
TZOFFSETTO:+0100
TZNAME:CET
DTSTART:20231029T010000
END:STANDARD
END:VTIMEZONE
BEGIN:VEVENT
DTSTART;TZID=Europe/Madrid:20221113T100000
DTEND;TZID=Europe/Madrid:20221113T193000
DTSTAMP:20260424T080621
CREATED:20221102T110053Z
LAST-MODIFIED:20221102T110238Z
UID:7883-1668333600-1668367800@ibizafunfamily.com
SUMMARY:Talleres infantiles- Fiesta de Santa Gertrudis
DESCRIPTION:El domingo 13 de Noviembre en las fiestas de Santa Gertrudis de 13:00 a 17:00horas \nI concurso de Bocatas con Ginés Corregüela de Jurado y talleres de S’espurna para los más pequeños. \nTres categorías principales: infantil\, frío y caliente. \nPlazas limitadas \nApúntate en cfsantagertrudis@gmail.com \n18:30 Teatro «Epoques» a cargo de la asociación de vecinos Es Molí de Sant Antoni en la Plaza del Parque de Santa Gertrudis. \n\n				\n					\n						Ver programa completo de fiestas
URL:https://ibizafunfamily.com/agenda/talleres-infantiles-fiesta-de-santa-gertrudis/
LOCATION:Plaza del Parque Santa Gertrudis\, Carrer Venda de sa Picassa\, 2\, Santa Gertrudis de Fruitera\, islas baleares\, 07814\, España
CATEGORIES:Concurso,Talleres,Teatro
ATTACH;FMTTYPE=image/jpeg:https://ibizafunfamily.com/wp-content/uploads/2022/11/c01702a8-8f6c-4b81-a775-f2077408ca4b.jpg
ORGANIZER;CN="Ajuntament de Santa Eul%C3%A0ria des Riu":MAILTO:alcaldia@santaeularia.com
END:VEVENT
END:VCALENDAR