BEGIN:VCALENDAR
VERSION:2.0
PRODID:-//Ibiza Fun Family - ECPv6.15.17.1//NONSGML v1.0//EN
CALSCALE:GREGORIAN
METHOD:PUBLISH
X-WR-CALNAME:Ibiza Fun Family
X-ORIGINAL-URL:https://ibizafunfamily.com
X-WR-CALDESC:Eventos para Ibiza Fun Family
REFRESH-INTERVAL;VALUE=DURATION:PT1H
X-Robots-Tag:noindex
X-PUBLISHED-TTL:PT1H
BEGIN:VTIMEZONE
TZID:Europe/Madrid
BEGIN:DAYLIGHT
TZOFFSETFROM:+0100
TZOFFSETTO:+0200
TZNAME:CEST
DTSTART:20210328T010000
END:DAYLIGHT
BEGIN:STANDARD
TZOFFSETFROM:+0200
TZOFFSETTO:+0100
TZNAME:CET
DTSTART:20211031T010000
END:STANDARD
BEGIN:DAYLIGHT
TZOFFSETFROM:+0100
TZOFFSETTO:+0200
TZNAME:CEST
DTSTART:20220327T010000
END:DAYLIGHT
BEGIN:STANDARD
TZOFFSETFROM:+0200
TZOFFSETTO:+0100
TZNAME:CET
DTSTART:20221030T010000
END:STANDARD
BEGIN:DAYLIGHT
TZOFFSETFROM:+0100
TZOFFSETTO:+0200
TZNAME:CEST
DTSTART:20230326T010000
END:DAYLIGHT
BEGIN:STANDARD
TZOFFSETFROM:+0200
TZOFFSETTO:+0100
TZNAME:CET
DTSTART:20231029T010000
END:STANDARD
END:VTIMEZONE
BEGIN:VEVENT
DTSTART;TZID=Europe/Madrid:20221025T080000
DTEND;TZID=Europe/Madrid:20221025T170000
DTSTAMP:20260424T083224
CREATED:20221025T140604Z
LAST-MODIFIED:20221025T140604Z
UID:7709-1666684800-1666717200@ibizafunfamily.com
SUMMARY:VI Fira de la Sal en Ses Salines
DESCRIPTION:Una mirada a ses Salines. Entrega del dibujo antes del 25 de Octubre \nConcurso de dibujo\, diferentes categorías  de 3 a 12 años aproximadamente. \n\n				\n					\n						Ver programa completo de fiestas
URL:https://ibizafunfamily.com/agenda/vi-fira-de-la-sal-en-ses-salines/
LOCATION:Islas Baleares
CATEGORIES:Dibujo
ATTACH;FMTTYPE=image/jpeg:https://ibizafunfamily.com/wp-content/uploads/2022/10/68f2fb06-9a29-4df7-ba6f-a8b37018d188.jpg
ORGANIZER;CN="Ajuntament de Sant Josep de Sa Talaia":MAILTO:alcaldia@santjosep.org
END:VEVENT
BEGIN:VEVENT
DTSTART;TZID=Europe/Madrid:20221028T203000
DTEND;TZID=Europe/Madrid:20221028T233000
DTSTAMP:20260424T083224
CREATED:20221012T165246Z
LAST-MODIFIED:20221012T165246Z
UID:7288-1666989000-1666999800@ibizafunfamily.com
SUMMARY:Taller\, La fiesta de pijamas
DESCRIPTION:El Viernes 28 de Octubre de 20:30 a 23:30 presenta la noche del Búho\, con Súper héroes y Súper heroínas. La fiesta de pijamas donde se debe venir disfrazadas o disfrazados para niños y niñas a partir de 4 años. \nJuegos \nConcurso de de disfraces \nPeli y palomitas » Los Increíbles 2″ \nCena
URL:https://ibizafunfamily.com/agenda/taller-la-fiesta-de-pijamas/
LOCATION:Espai Momo Ibiza\, C/ Pere Francés n32\, Eivissa\, Islas Baleares\, 07800\, España
CATEGORIES:Talleres
ATTACH;FMTTYPE=image/jpeg:https://ibizafunfamily.com/wp-content/uploads/2022/10/82e825af-000c-4e2d-b32e-7905a7ce90d1.jpg
END:VEVENT
BEGIN:VEVENT
DTSTART;TZID=Europe/Madrid:20221029T163000
DTEND;TZID=Europe/Madrid:20221029T163000
DTSTAMP:20260424T083224
CREATED:20221013T135431Z
LAST-MODIFIED:20221013T135431Z
UID:7310-1667061000-1667061000@ibizafunfamily.com
SUMMARY:Fiesta de Halloween\, Ceip Portal Nou
DESCRIPTION:El 29 de Octubre a las 16:30 empieza la fiesta de Halloween en el Ceip Portal Nou. \nHabrá concurso de disfraces\, castillo hinchable. \nEntrada 3€ y los socios de apima gratis. \nUn tiquet para el castillo hinchable GRATIS! \nEl dinero recaudado sera para hacer mejoras del centro. \n¡Te esperamos!
URL:https://ibizafunfamily.com/agenda/fiesta-de-halloween-ceip-portal-nou/
LOCATION:CEIP Portal Nou\, Carrer de Madrid\, Eivissa\, islas baleares\, 07800\, España
CATEGORIES:Fiesta
ATTACH;FMTTYPE=image/jpeg:https://ibizafunfamily.com/wp-content/uploads/2022/10/c1c0764d-b4ab-4922-9aa2-cdd003f2506e.jpg
END:VEVENT
END:VCALENDAR